BEGIN:VCALENDAR
VERSION:2.0
PRODID:-//RA MA LIFE - ECPv6.15.15//NONSGML v1.0//EN
CALSCALE:GREGORIAN
METHOD:PUBLISH
X-WR-CALNAME:RA MA LIFE
X-ORIGINAL-URL:https://ramayogainstitute.com
X-WR-CALDESC:Events for RA MA LIFE
REFRESH-INTERVAL;VALUE=DURATION:PT1H
X-Robots-Tag:noindex
X-PUBLISHED-TTL:PT1H
BEGIN:VTIMEZONE
TZID:America/Los_Angeles
BEGIN:DAYLIGHT
TZOFFSETFROM:-0800
TZOFFSETTO:-0700
TZNAME:PDT
DTSTART:20220313T100000
END:DAYLIGHT
BEGIN:STANDARD
TZOFFSETFROM:-0700
TZOFFSETTO:-0800
TZNAME:PST
DTSTART:20221106T090000
END:STANDARD
BEGIN:DAYLIGHT
TZOFFSETFROM:-0800
TZOFFSETTO:-0700
TZNAME:PDT
DTSTART:20230312T100000
END:DAYLIGHT
BEGIN:STANDARD
TZOFFSETFROM:-0700
TZOFFSETTO:-0800
TZNAME:PST
DTSTART:20231105T090000
END:STANDARD
BEGIN:DAYLIGHT
TZOFFSETFROM:-0800
TZOFFSETTO:-0700
TZNAME:PDT
DTSTART:20240310T100000
END:DAYLIGHT
BEGIN:STANDARD
TZOFFSETFROM:-0700
TZOFFSETTO:-0800
TZNAME:PST
DTSTART:20241103T090000
END:STANDARD
END:VTIMEZONE
BEGIN:VEVENT
DTSTART;VALUE=DATE:20230416
DTEND;VALUE=DATE:20230421
DTSTAMP:20260423T161151
CREATED:20230327T201700Z
LAST-MODIFIED:20230327T202935Z
UID:1784038-1681603200-1682035199@ramayogainstitute.com
SUMMARY:Kundalini Training: Being a Teacher
DESCRIPTION:LEARN MORE\nAre you ready to become a Kundalini Yoga teacher?\n\n\n\n\n\nIn this 5-day training\,  you will immerse yourself deeply in the continued study of being a teacher\, through yogic science fundamentals\, practice\, and meditation. \n\n\n\n\n\n\n\nThe increasing computerization of the planet is changing how society is structured and operated.  There is an increasing demand for knowledge and experience of how the body-mind system operates. Kundalini Yoga is the technology to navigate these changing planetary times and provide the technical know-how to protect\, heal\, and elevate ourselves. \nBeing a Teacher is an exploration of this vast yogic science.  This course will teach you how to create deep profound change in yourself\, and  deep profound change in your students.
URL:https://ramayogainstitute.com/event/kundalini-training-being-a-teacher/
LOCATION:RA MA Institute Mallorca\, Carrer de Despuig\, 51\, Palma\, Illes Balears\, 07013\, Spain
CATEGORIES:Courses & Events,In Person,Pay Per View Workshops
ATTACH;FMTTYPE=image/jpeg:https://ramayogainstitute.com/wp-content/uploads/2019/04/kundalini-training-banner-2.jpg
END:VEVENT
BEGIN:VEVENT
DTSTART;TZID=America/Los_Angeles:20230418T100000
DTEND;TZID=America/Los_Angeles:20230418T110000
DTSTAMP:20260423T161151
CREATED:20230329T230804Z
LAST-MODIFIED:20230418T053726Z
UID:1784373-1681812000-1681815600@ramayogainstitute.com
SUMMARY:Blue Gap with Nam Satya
DESCRIPTION:SIGN UP\nTUNE IN\nKeep up with your children — Practice The Blue Gap Meditation with Nam Satya\nThe Blue Gap meditation has tremendously helped me to understand the times\, and keep up with my very Aquarian child. This meditation is such a gift to parents\, and I highly recommend anyone who is a mother to do this meditation on a regular basis\, as it helps to increase your awareness of the Aquarian field\, and thus become a better guide for your child. —Nam Satya \nJoin Nam Satya for an evening class\, where we will be practicing the Blue Gap meditation + some other yogic tools that can assist us as parents. \n‘The Blue Gap’ refers to a generational gap. This gap is always present\, but in the times that we are in right now\, it is wider than usual. This means that many parents have a hard time attuning themselves to their children\, which can result in misunderstandings of the child’s behavior and needs. This meditation can help us lessen that gap so that we can better understand and support our children\, in a way which is appropriate for them.
URL:https://ramayogainstitute.com/event/blue-gap-with-nam-satya/
LOCATION:RA MA Mallorca & Online
CATEGORIES:In Person,Pay Per View Workshops
ATTACH;FMTTYPE=image/jpeg:https://ramayogainstitute.com/wp-content/uploads/2023/04/Nam-Satya.jpg
END:VEVENT
BEGIN:VEVENT
DTSTART;TZID=America/Los_Angeles:20230419T190000
DTEND;TZID=America/Los_Angeles:20230419T210000
DTSTAMP:20260423T161151
CREATED:20230413T225611Z
LAST-MODIFIED:20230419T044754Z
UID:1788028-1681930800-1681938000@ramayogainstitute.com
SUMMARY:Soaring to New Heights with Gurujas
DESCRIPTION:SIGN UP\nTUNE IN\nSolar Eclipse New Moon in Aries\nKundalini Yoga & Meditation Workshop \nHarness this unique Eclipse opportunity to reset to a higher frequency.\n& join us in Celebration of RA MA’s 10th Anniversary ? \nGurujas is a kundalini yoga teacher and a singer\, songwriter\, and musician. She has gained a worldwide reputation as the lead singer of White Sun\, a Grammy®-award winning band\, and a Billboard #1 artist. As a kundalini yoga teacher\, she is known as being intensely devoted to the accuracy of the teachings\, as well as incorporating contemporary science and practical every-day applications. As a singer\, she is known for her distinctive vocals\, her ethereal live performances\, and her ability to heal through song.
URL:https://ramayogainstitute.com/event/soaring-to-new-heights-with-gurujas/
LOCATION:Online
CATEGORIES:In Person,Pay Per View Workshops
ATTACH;FMTTYPE=image/jpeg:https://ramayogainstitute.com/wp-content/uploads/2023/04/Gurujas_4_3_23.jpg
END:VEVENT
BEGIN:VEVENT
DTSTART;TZID=America/Los_Angeles:20230422T090000
DTEND;TZID=America/Los_Angeles:20230422T103000
DTSTAMP:20260423T161151
CREATED:20230421T220234Z
LAST-MODIFIED:20230422T133715Z
UID:1790575-1682154000-1682159400@ramayogainstitute.com
SUMMARY:Bhakti Flow Yoga
DESCRIPTION:SIGN UP\nTUNE IN \nExperience yoga led by Govind Das and live music and looping with Cooper. Flow together and open your heart. \nPlease bring your own yoga mat. \nVirtually on RA MA TV & In-person at RA MA Los Angeles\n1729 21 St. Santa Monica\, CA 90404
URL:https://ramayogainstitute.com/event/bhakti-flow-yoga/
LOCATION:Online
CATEGORIES:In Person,Pay Per View Workshops,RA MA TV Live
ATTACH;FMTTYPE=image/png:https://ramayogainstitute.com/wp-content/uploads/2023/04/Screen-Shot-2023-04-20-at-8.08.04-PM.png
END:VEVENT
END:VCALENDAR