BEGIN:VCALENDAR
VERSION:2.0
PRODID:-//RA MA LIFE - ECPv6.15.15//NONSGML v1.0//EN
CALSCALE:GREGORIAN
METHOD:PUBLISH
X-WR-CALNAME:RA MA LIFE
X-ORIGINAL-URL:https://ramayogainstitute.com
X-WR-CALDESC:Events for RA MA LIFE
REFRESH-INTERVAL;VALUE=DURATION:PT1H
X-Robots-Tag:noindex
X-PUBLISHED-TTL:PT1H
BEGIN:VTIMEZONE
TZID:America/Los_Angeles
BEGIN:DAYLIGHT
TZOFFSETFROM:-0800
TZOFFSETTO:-0700
TZNAME:PDT
DTSTART:20220313T100000
END:DAYLIGHT
BEGIN:STANDARD
TZOFFSETFROM:-0700
TZOFFSETTO:-0800
TZNAME:PST
DTSTART:20221106T090000
END:STANDARD
BEGIN:DAYLIGHT
TZOFFSETFROM:-0800
TZOFFSETTO:-0700
TZNAME:PDT
DTSTART:20230312T100000
END:DAYLIGHT
BEGIN:STANDARD
TZOFFSETFROM:-0700
TZOFFSETTO:-0800
TZNAME:PST
DTSTART:20231105T090000
END:STANDARD
BEGIN:DAYLIGHT
TZOFFSETFROM:-0800
TZOFFSETTO:-0700
TZNAME:PDT
DTSTART:20240310T100000
END:DAYLIGHT
BEGIN:STANDARD
TZOFFSETFROM:-0700
TZOFFSETTO:-0800
TZNAME:PST
DTSTART:20241103T090000
END:STANDARD
END:VTIMEZONE
BEGIN:VEVENT
DTSTART;TZID=America/Los_Angeles:20230410T090000
DTEND;TZID=America/Los_Angeles:20230410T103000
DTSTAMP:20260423T083756
CREATED:20230410T063953Z
LAST-MODIFIED:20230410T063953Z
UID:1786715-1681117200-1681122600@ramayogainstitute.com
SUMMARY:Kundalini Yoga & Meditation with Dr. Siri Shakti
DESCRIPTION:TUNE IN\nI am a family physician who hails from Baton Rouge\, Louisiana and grew up here in South Central Los Angeles. It is my honor to teach Kundalini Yoga\, a technology I was introduced to by my acupuncturist when I was 18. I was given a video tape and it became my cure all for all that ailed me: panic attacks\, anxiety over medical school interviews\, depression from a failed love relationship\, etc. \nFast forward years later\, at age 30-something\, I took my first live Kundalini Yoga class. Now\, I teach Kundalini Yoga because it’s the best thing I know about and it’s still my cure all. Everything in my life has changed for the better and I humbly share these teachings because I know that everyone can benefit from this wisdom. Come to a class to let all that does not serve you fall away and to turn the light onto all that is true and authentic about YOU.
URL:https://ramayogainstitute.com/event/kundalini-yoga-meditation-with-dr-siri-shakti-2/
LOCATION:Online
CATEGORIES:In Person,RA MA TV Live
ATTACH;FMTTYPE=image/jpeg:https://ramayogainstitute.com/wp-content/uploads/2022/02/Siri-Shakti-.jpeg
END:VEVENT
BEGIN:VEVENT
DTSTART;TZID=America/Los_Angeles:20230410T190000
DTEND;TZID=America/Los_Angeles:20230410T201500
DTSTAMP:20260423T083756
CREATED:20230106T004156Z
LAST-MODIFIED:20230413T214102Z
UID:1763786-1681153200-1681157700@ramayogainstitute.com
SUMMARY:Kundalini Yoga & Meditation with Joanna Pitt
DESCRIPTION:TUNE IN\nJoanna Pitt has been with RA MA Institute since 2016 and collaborated with Guru Jagat to develop Aquarian Women’s Leadership Society at its inception. From singing the American songbook to practicing Kundalini Yoga & Meditation to studying Evolutionary Astrology\, Joanna is dedicated to expanding horizons.
URL:https://ramayogainstitute.com/event/kundalini-with-joanna-4-10/2023-04-10/
LOCATION:Online
CATEGORIES:In Person,RA MA TV Live
ATTACH;FMTTYPE=image/jpeg:https://ramayogainstitute.com/wp-content/uploads/2022/07/JoannaPitt1920x1280.jpg
END:VEVENT
BEGIN:VEVENT
DTSTART;TZID=America/Los_Angeles:20230411T110000
DTEND;TZID=America/Los_Angeles:20230411T120000
DTSTAMP:20260423T083756
CREATED:20230406T220106Z
LAST-MODIFIED:20230406T220106Z
UID:1785930-1681210800-1681214400@ramayogainstitute.com
SUMMARY:Prosperity Hour with Malyvahn
DESCRIPTION:TUNE IN\nJoin us for this special new series “Prosperity Hour.” These practices will brighten your day and expand the aura in all directions unlocking your hidden treasures. Invest an hour to charge up and experience your power to set a projection that lasts. Health\, Wealth\, Happiness. Thank you. \nMalyvahn studied with Tej & Harijiwan. Kundalini Yoga and Meditation was a lighting fast practice for her self growth and healing. An entrepreneur at heart. Her goal is to hold a healing space\, guided by the teachings\, where each student can reach their highest bliss of prosperity!
URL:https://ramayogainstitute.com/event/prosperity-hour-with-malyvahn-5/
LOCATION:Online
CATEGORIES:In Person,RA MA TV Live
ATTACH;FMTTYPE=image/jpeg:https://ramayogainstitute.com/wp-content/uploads/2022/01/Malyvahn-6.jpg
END:VEVENT
BEGIN:VEVENT
DTSTART;TZID=America/Los_Angeles:20230412T080000
DTEND;TZID=America/Los_Angeles:20230412T090000
DTSTAMP:20260423T083756
CREATED:20230412T020449Z
LAST-MODIFIED:20230412T020449Z
UID:1787153-1681286400-1681290000@ramayogainstitute.com
SUMMARY:Kundalini Yoga & Meditation with Prem Navjeet
DESCRIPTION:TUNE IN\n 
URL:https://ramayogainstitute.com/event/kundalini-yoga-meditation-with-prem-navjeet/
LOCATION:RA MA New York & Online
CATEGORIES:In Person,RA MA TV Live
ATTACH;FMTTYPE=image/jpeg:https://ramayogainstitute.com/wp-content/uploads/2022/05/Prem-Navjeet-Vimeo-Thumbnail.jpg
END:VEVENT
BEGIN:VEVENT
DTSTART;TZID=America/Los_Angeles:20230413T080000
DTEND;TZID=America/Los_Angeles:20230413T093000
DTSTAMP:20260423T083756
CREATED:20230411T071940Z
LAST-MODIFIED:20230411T073025Z
UID:1786984-1681372800-1681378200@ramayogainstitute.com
SUMMARY:The Entrepreneurial Spirit with Rebecca Underdown
DESCRIPTION:TUNE IN\nA Kundalini Yoga & Meditation Series \nApril 13th | Ultimate Discernment: Release ghost ideas to deliver your creation of the present\nApril 20th | Velocity: Your Direction and Speed to succeed\nApril 27th | Creative Flow: Your Unique Mind\nMay 4th | Leadership: your projection leads the project\n\nRebecca Underdown began practicing Kundalini yoga in 2000 and studying with Tej\, Harijiwan and Guru Jagat in 2015. Rebecca holds a BA in Eastern Religions from Boston University and a Masters Degree in Chinese Acupuncture & Herbal Medicine. She is the founder of the skincare company Veridatta.
URL:https://ramayogainstitute.com/event/the-entrepreneurial-spirit-with-rebecca-underdown/2023-04-13/
LOCATION:Online
CATEGORIES:In Person,RA MA TV Live
ATTACH;FMTTYPE=image/jpeg:https://ramayogainstitute.com/wp-content/uploads/2022/01/Rebecca-Underdown-1.jpg
END:VEVENT
BEGIN:VEVENT
DTSTART;TZID=America/Los_Angeles:20230414T173000
DTEND;TZID=America/Los_Angeles:20230414T184500
DTSTAMP:20260423T083756
CREATED:20230406T234250Z
LAST-MODIFIED:20230413T221230Z
UID:1785979-1681493400-1681497900@ramayogainstitute.com
SUMMARY:Kundalini Yoga & Meditation with Teg Prakash
DESCRIPTION:TUNE IN\nEnjoy a deep relaxation & reset. \nTeg Prakash is a Kundalini Yoga teacher\, astrologer\, and intuitive sound healer with a passionate curiosity for the teachings of Kundalini Yoga\, as taught by Yogi Bhajan\, and seeks to bring people to a true sense of their soul through astrology\, their personal power through yoga\, and their peace through the power of sound. \n 
URL:https://ramayogainstitute.com/event/kundalini-yoga-meditation-with-teg-prakash-4/2023-04-14/
LOCATION:Online
CATEGORIES:In Person,RA MA TV Live
ATTACH;FMTTYPE=image/jpeg:https://ramayogainstitute.com/wp-content/uploads/2023/01/Teg_Prakash_Website_Pic.jpg
END:VEVENT
BEGIN:VEVENT
DTSTART;TZID=America/Los_Angeles:20230415T090000
DTEND;TZID=America/Los_Angeles:20230415T103000
DTSTAMP:20260423T083756
CREATED:20230406T234600Z
LAST-MODIFIED:20230509T234138Z
UID:1785982-1681549200-1681554600@ramayogainstitute.com
SUMMARY:Kundalini Yoga & Meditation with Kim Krans
DESCRIPTION:TUNE IN\nArtist Kim Krans brings her creative sensibility to her Kundalini Yoga and meditation classes. Using breathwork\, physical posture\, mantra and mudra\, you will activate your own creative force and experience radical transformation.
URL:https://ramayogainstitute.com/event/kundalini-yoga-meditation-with-kim-krans-3/2023-04-15/
LOCATION:Online
CATEGORIES:In Person,RA MA TV Live
ATTACH;FMTTYPE=image/jpeg:https://ramayogainstitute.com/wp-content/uploads/2022/07/Kim-Krans.jpg
END:VEVENT
BEGIN:VEVENT
DTSTART;TZID=America/Los_Angeles:20230415T100000
DTEND;TZID=America/Los_Angeles:20230415T110000
DTSTAMP:20260423T083756
CREATED:20230329T230242Z
LAST-MODIFIED:20230412T043639Z
UID:1784370-1681552800-1681556400@ramayogainstitute.com
SUMMARY:Bound Lotus with Nam Satya
DESCRIPTION:SIGN UP\nTUNE IN\nYogic Secret to Eternal Youth — Practice Bound Lotus with Nam Satya \nThe best meditation tool I have found in Kundalini Yoga to strengthen your nervous system and heal yourself is a meditation called the ‘Bound Lotus’. This restorative posture is a yogic secret to eternal youth\, which connects you to your infinity\, and is said to be able to heal just about anything. — Nam Satya \nJoin Nam Satya for a special class where she will present the many benefits of practicing Bound Lotus—a restorative yoga posture—plus give instructions and methods for how to increase your flexibility (did you know that it’s not just about stretching?) \nIn this special evening class you will learn tips and methods for how to increase your flexibility\, to be able to comfortable sit in the lotus posture\, and eventually move toward safely practice of the Bound Lotus. \nYou do not have to be able to perform Bound Lotus to join this class. Nam Satya will give many alternative postures that you can use to increase your flexibility\, and slowly work your way towards Bound Lotus.
URL:https://ramayogainstitute.com/event/bound-lotus-with-nam-satya/
LOCATION:RA MA Mallorca & Online
CATEGORIES:In Person,Pay Per View Workshops
ATTACH;FMTTYPE=image/jpeg:https://ramayogainstitute.com/wp-content/uploads/2023/03/nam-satya-calkendar.jpg
END:VEVENT
BEGIN:VEVENT
DTSTART;VALUE=DATE:20230416
DTEND;VALUE=DATE:20230421
DTSTAMP:20260423T083756
CREATED:20230327T201700Z
LAST-MODIFIED:20230327T202935Z
UID:1784038-1681603200-1682035199@ramayogainstitute.com
SUMMARY:Kundalini Training: Being a Teacher
DESCRIPTION:LEARN MORE\nAre you ready to become a Kundalini Yoga teacher?\n\n\n\n\n\nIn this 5-day training\,  you will immerse yourself deeply in the continued study of being a teacher\, through yogic science fundamentals\, practice\, and meditation. \n\n\n\n\n\n\n\nThe increasing computerization of the planet is changing how society is structured and operated.  There is an increasing demand for knowledge and experience of how the body-mind system operates. Kundalini Yoga is the technology to navigate these changing planetary times and provide the technical know-how to protect\, heal\, and elevate ourselves. \nBeing a Teacher is an exploration of this vast yogic science.  This course will teach you how to create deep profound change in yourself\, and  deep profound change in your students.
URL:https://ramayogainstitute.com/event/kundalini-training-being-a-teacher/
LOCATION:RA MA Institute Mallorca\, Carrer de Despuig\, 51\, Palma\, Illes Balears\, 07013\, Spain
CATEGORIES:Courses & Events,In Person,Pay Per View Workshops
ATTACH;FMTTYPE=image/jpeg:https://ramayogainstitute.com/wp-content/uploads/2019/04/kundalini-training-banner-2.jpg
END:VEVENT
END:VCALENDAR