BEGIN:VCALENDAR
VERSION:2.0
PRODID:-//RA MA LIFE - ECPv6.15.15//NONSGML v1.0//EN
CALSCALE:GREGORIAN
METHOD:PUBLISH
X-ORIGINAL-URL:https://ramayogainstitute.com
X-WR-CALDESC:Events for RA MA LIFE
REFRESH-INTERVAL;VALUE=DURATION:PT1H
X-Robots-Tag:noindex
X-PUBLISHED-TTL:PT1H
BEGIN:VTIMEZONE
TZID:America/Los_Angeles
BEGIN:DAYLIGHT
TZOFFSETFROM:-0800
TZOFFSETTO:-0700
TZNAME:PDT
DTSTART:20220313T100000
END:DAYLIGHT
BEGIN:STANDARD
TZOFFSETFROM:-0700
TZOFFSETTO:-0800
TZNAME:PST
DTSTART:20221106T090000
END:STANDARD
BEGIN:DAYLIGHT
TZOFFSETFROM:-0800
TZOFFSETTO:-0700
TZNAME:PDT
DTSTART:20230312T100000
END:DAYLIGHT
BEGIN:STANDARD
TZOFFSETFROM:-0700
TZOFFSETTO:-0800
TZNAME:PST
DTSTART:20231105T090000
END:STANDARD
BEGIN:DAYLIGHT
TZOFFSETFROM:-0800
TZOFFSETTO:-0700
TZNAME:PDT
DTSTART:20240310T100000
END:DAYLIGHT
BEGIN:STANDARD
TZOFFSETFROM:-0700
TZOFFSETTO:-0800
TZNAME:PST
DTSTART:20241103T090000
END:STANDARD
END:VTIMEZONE
BEGIN:VEVENT
DTSTART;TZID=America/Los_Angeles:20230403T110000
DTEND;TZID=America/Los_Angeles:20230403T121500
DTSTAMP:20260423T031601
CREATED:20211211T021739Z
LAST-MODIFIED:20240401T220400Z
UID:1743521-1680519600-1680524100@ramayogainstitute.com
SUMMARY:Kundalini Yoga and the Cosmos with Teg Prakash
DESCRIPTION:TUNE IN\nMONDAYS|11:00 AM-12:15 PM PDT\nVirtually on RA MA TV Live\nIn Person @ RA MA Los Angeles \nDiving into the connections between deep yogic practice and evolutionary astrology to explore and take advantage of the prevailing cosmic movements. \nAbout Teg Prakash \nTeg Prakash is a Kundalini Yoga teacher\, astrologer\, and intuitive sound healer with a passionate curiosity for the teachings of Kundalini Yoga\, as taught by Yogi Bhajan\, and seeks to bring people to a true sense of their soul through astrology\, their personal power through yoga\, and their peace through the power of sound. \n 
URL:https://ramayogainstitute.com/event/teg-prakash-12-13-21-2022-01-03-2022-02-21-2022-07-11-2022-07-25-2023-04-03/
LOCATION:Online
CATEGORIES:In Person,RA MA TV Live
ATTACH;FMTTYPE=image/jpeg:https://ramayogainstitute.com/wp-content/uploads/2023/01/MG_3530-e1717037969521.jpg
END:VEVENT
BEGIN:VEVENT
DTSTART;TZID=America/Los_Angeles:20230404T110000
DTEND;TZID=America/Los_Angeles:20230404T120000
DTSTAMP:20260423T031601
CREATED:20230330T004446Z
LAST-MODIFIED:20230330T004446Z
UID:1784425-1680606000-1680609600@ramayogainstitute.com
SUMMARY:Prosperity Hour with Malyvahn
DESCRIPTION:TUNE IN\nJoin us for this special new series “Prosperity Hour.” These practices will brighten your day and expand the aura in all directions unlocking your hidden treasures. Invest an hour to charge up and experience your power to set a projection that lasts. Health\, Wealth\, Happiness. Thank you. \nMalyvahn studied with Tej & Harijiwan. Kundalini Yoga and Meditation was a lighting fast practice for her self growth and healing. An entrepreneur at heart. Her goal is to hold a healing space\, guided by the teachings\, where each student can reach their highest bliss of prosperity!
URL:https://ramayogainstitute.com/event/prosperity-hour-with-malyvahn-2/
LOCATION:Online
CATEGORIES:In Person,RA MA TV Live
ATTACH;FMTTYPE=image/jpeg:https://ramayogainstitute.com/wp-content/uploads/2022/01/Malyvahn-6.jpg
END:VEVENT
BEGIN:VEVENT
DTSTART;TZID=America/Los_Angeles:20230404T190000
DTEND;TZID=America/Los_Angeles:20230404T203000
DTSTAMP:20260423T031601
CREATED:20230104T211248Z
LAST-MODIFIED:20230330T005600Z
UID:1763111-1680634800-1680640200@ramayogainstitute.com
SUMMARY:Kundalini Yoga & Meditation with Joanna Pitt
DESCRIPTION:TUNE IN\nJoanna Pitt has been with RA MA Institute since 2016 and collaborated with Guru Jagat to develop Aquarian Women’s Leadership Society at its inception. From singing the American songbook to practicing Kundalini Yoga & Meditation to studying Evolutionary Astrology\, Joanna is dedicated to expanding horizons.
URL:https://ramayogainstitute.com/event/kundalini-joanna-pitt-4-4/
LOCATION:Online
CATEGORIES:In Person,RA MA TV Live
ATTACH;FMTTYPE=image/jpeg:https://ramayogainstitute.com/wp-content/uploads/2022/07/JoannaPitt1920x1280.jpg
END:VEVENT
BEGIN:VEVENT
DTSTART;VALUE=DATE:20230405
DTEND;VALUE=DATE:20230409
DTSTAMP:20260423T031601
CREATED:20230327T212251Z
LAST-MODIFIED:20230327T212346Z
UID:1784043-1680652800-1680998399@ramayogainstitute.com
SUMMARY:RA MA Presents: April New York Residency
DESCRIPTION:LEARN MORE\nRA MA Presents \nApril New York Residency 2023 \nHarijiwan\, Mandev\, Shabadpreet and the Global RA MA Crew are making their way to RA MA Institute New York for a Spring residency. Check out the lineup and save your spots!
URL:https://ramayogainstitute.com/event/ra-ma-presents-april-new-york-residency/
LOCATION:RA MA New York & Online
ATTACH;FMTTYPE=image/jpeg:https://ramayogainstitute.com/wp-content/uploads/2023/01/OpeningNightBanner.jpg
END:VEVENT
BEGIN:VEVENT
DTSTART;TZID=America/Los_Angeles:20230405T090000
DTEND;TZID=America/Los_Angeles:20230405T103000
DTSTAMP:20260423T031601
CREATED:20220730T013956Z
LAST-MODIFIED:20230405T040027Z
UID:1742174-1680685200-1680690600@ramayogainstitute.com
SUMMARY:Heal with Grace with Malyvahn
DESCRIPTION:TUNE IN\nJoin us for this special new series “Prosperity Hour.” These practices will brighten your day and expand the aura in all directions unlocking your hidden treasures. Invest an hour to charge up and experience your power to set a projection that lasts. Health\, Wealth\, Happiness. Thank you. \nMalyvahn studied with Tej & Harijiwan. Kundalini Yoga and Meditation was a lighting fast practice for her self growth and healing. An entrepreneur at heart. Her goal is to hold a healing space\, guided by the teachings\, where each student can reach their highest bliss of prosperity!
URL:https://ramayogainstitute.com/event/heal-with-grace-4-5-23/
LOCATION:Online
CATEGORIES:In Person,RA MA TV Live
ATTACH;FMTTYPE=image/jpeg:https://ramayogainstitute.com/wp-content/uploads/2022/01/Malyvahn-6.jpg
END:VEVENT
BEGIN:VEVENT
DTSTART;TZID=America/Los_Angeles:20230405T110000
DTEND;TZID=America/Los_Angeles:20230405T120000
DTSTAMP:20260423T031601
CREATED:20230330T010509Z
LAST-MODIFIED:20230405T035841Z
UID:1784437-1680692400-1680696000@ramayogainstitute.com
SUMMARY:Kundalini & The Cosmos with Teg Prakash
DESCRIPTION:TUNE IN\nTeg Prakash is a Kundalini Yoga teacher\, astrologer\, and intuitive sound healer with a passionate curiosity for the teachings of Kundalini Yoga\, as taught by Yogi Bhajan\, and seeks to bring people to a true sense of their soul through astrology\, their personal power through yoga\, and their peace through the power of sound. \n@theheavensareyours
URL:https://ramayogainstitute.com/event/energy-with-marta-ulbricht/
LOCATION:Online
CATEGORIES:Community Content,In Person,RA MA TV Live
ATTACH;FMTTYPE=image/jpeg:https://ramayogainstitute.com/wp-content/uploads/2023/01/Teg_Prakash_Website_Pic.jpg
END:VEVENT
BEGIN:VEVENT
DTSTART;VALUE=DATE:20230406
DTEND;VALUE=DATE:20230409
DTSTAMP:20260423T031601
CREATED:20230327T202721Z
LAST-MODIFIED:20230327T202722Z
UID:1784040-1680739200-1680998399@ramayogainstitute.com
SUMMARY:Kundalini Training: Real Relationships
DESCRIPTION:LEARN MORE\n\n\nLearn the science of Real Relationships\n\n\n\n\n\nUnderstand the flow of energy between you and the person you are relating to.\nThis will increase your healing sensitivity. \n\n\n\n\n\n\nDeepen your understanding of how you exchange energy within yourself and with those you want to relate to. The art of relationships is how refined and sensitive you are in creating and participating in these exchanges.
URL:https://ramayogainstitute.com/event/kundalini-training-real-relationships/
LOCATION:RA MA New York & Online
CATEGORIES:Courses & Events,In Person,Pay Per View Workshops
ATTACH;FMTTYPE=image/png:https://ramayogainstitute.com/wp-content/uploads/2023/03/kundalini-training-real-relationships-banner.png
END:VEVENT
BEGIN:VEVENT
DTSTART;TZID=America/Los_Angeles:20230406T090000
DTEND;TZID=America/Los_Angeles:20230406T103000
DTSTAMP:20260423T031601
CREATED:20230330T012503Z
LAST-MODIFIED:20230330T012503Z
UID:1784448-1680771600-1680777000@ramayogainstitute.com
SUMMARY:Kundalini Yoga and the Cosmos with Teg Prakash
DESCRIPTION:Diving into the connections between deep yogic practice and evolutionary astrology to explore and take advantage of the prevailing cosmic movements. \nTeg Prakash is a Kundalini Yoga teacher\, astrologer\, and intuitive sound healer with a passionate curiosity for the teachings of Kundalini Yoga\, as taught by Yogi Bhajan\, and seeks to bring people to a true sense of their soul through astrology\, their personal power through yoga\, and their peace through the power of sound. \nLearn More & Tune In
URL:https://ramayogainstitute.com/event/kundalini-yoga-and-the-cosmos-with-teg-prakash/
LOCATION:Online
CATEGORIES:In Person,RA MA TV Live
ATTACH;FMTTYPE=image/jpeg:https://ramayogainstitute.com/wp-content/uploads/2022/06/Teg-Prakash-Looking-Up-Vimeo-Thumbnail.jpg
END:VEVENT
BEGIN:VEVENT
DTSTART;TZID=America/Los_Angeles:20230406T110000
DTEND;TZID=America/Los_Angeles:20230406T120000
DTSTAMP:20260423T031601
CREATED:20230330T012748Z
LAST-MODIFIED:20230330T012748Z
UID:1784450-1680778800-1680782400@ramayogainstitute.com
SUMMARY:Prosperity Hour with Malyvahn
DESCRIPTION:TUNE IN\nJoin us for this special new series “Prosperity Hour.” These practices will brighten your day and expand the aura in all directions unlocking your hidden treasures. Invest an hour to charge up and experience your power to set a projection that lasts. Health\, Wealth\, Happiness. Thank you. \nMalyvahn studied with Tej & Harijiwan. Kundalini Yoga and Meditation was a lighting fast practice for her self growth and healing. An entrepreneur at heart. Her goal is to hold a healing space\, guided by the teachings\, where each student can reach their highest bliss of prosperity!
URL:https://ramayogainstitute.com/event/prosperity-hour-with-malyvahn-4/
LOCATION:Online
CATEGORIES:In Person,RA MA TV Live
ATTACH;FMTTYPE=image/jpeg:https://ramayogainstitute.com/wp-content/uploads/2022/01/Malyvahn-6.jpg
END:VEVENT
BEGIN:VEVENT
DTSTART;TZID=America/Los_Angeles:20230406T153000
DTEND;TZID=America/Los_Angeles:20230406T173000
DTSTAMP:20260423T031601
CREATED:20230330T013234Z
LAST-MODIFIED:20230406T170058Z
UID:1784452-1680795000-1680802200@ramayogainstitute.com
SUMMARY:Mystical Moon with Harijiwan
DESCRIPTION:SIGN UP\nTUNE IN\nHarijiwan has been teaching Kundalini Yoga since 1975. He is the founder of the GRAMMY®-Award-Winning band\, White Sun. With over 44 years of experience in the science of Kundalini Yoga\, Harijiwan incorporates a vast knowledge of various methodologies and training into his practice. Today\, and throughout his years as a teacher and healer\, Harijiwan remains committed to expanding his knowledge and experience to provide his students with the most progressive\, effective\, self-empowering approaches that increase overall joy and wholeness within the context of everyday experiences. \n 
URL:https://ramayogainstitute.com/event/mystical-moon-with-harijiwan-mandev/
LOCATION:RA MA New York & Online
CATEGORIES:In Person,Pay Per View Workshops
ATTACH;FMTTYPE=image/jpeg:https://ramayogainstitute.com/wp-content/uploads/2023/04/Harijiwan-Blue-Gong.jpg
END:VEVENT
BEGIN:VEVENT
DTSTART;TZID=America/Los_Angeles:20230406T190000
DTEND;TZID=America/Los_Angeles:20230406T203000
DTSTAMP:20260423T031601
CREATED:20230330T013702Z
LAST-MODIFIED:20230330T013702Z
UID:1784468-1680807600-1680813000@ramayogainstitute.com
SUMMARY:Kundalini Yoga & Meditation with John Cosmic
DESCRIPTION:TUNE IN
URL:https://ramayogainstitute.com/event/kundalini-yoga-meditation-with-john-cosmic/
LOCATION:Online
CATEGORIES:In Person,RA MA TV Live
ATTACH;FMTTYPE=image/jpeg:https://ramayogainstitute.com/wp-content/uploads/2023/03/john-cosmic-cal-picture.jpg
END:VEVENT
BEGIN:VEVENT
DTSTART;TZID=America/Los_Angeles:20230407T090000
DTEND;TZID=America/Los_Angeles:20230407T103000
DTSTAMP:20260423T031601
CREATED:20211211T021739Z
LAST-MODIFIED:20230330T014029Z
UID:1743518-1680858000-1680863400@ramayogainstitute.com
SUMMARY:Kundalini Yoga and the Cosmos with Teg Prakash
DESCRIPTION:TUNE IN\nDiving into the connections between deep yogic practice and evolutionary astrology to explore and take advantage of the prevailing cosmic movements. \nTeg Prakash is a Kundalini Yoga teacher\, astrologer\, and intuitive sound healer with a passionate curiosity for the teachings of Kundalini Yoga\, as taught by Yogi Bhajan\, and seeks to bring people to a true sense of their soul through astrology\, their personal power through yoga\, and their peace through the power of sound.
URL:https://ramayogainstitute.com/event/teg-prakash-12-13-21-2022-01-03-2022-02-21-2022-07-11-2022-07-25-2023-03-13/
LOCATION:Online
CATEGORIES:In Person,RA MA TV Live
ATTACH;FMTTYPE=image/jpeg:https://ramayogainstitute.com/wp-content/uploads/2022/06/Teg-Prakash-Looking-Up-Vimeo-Thumbnail.jpg
END:VEVENT
BEGIN:VEVENT
DTSTART;TZID=America/Los_Angeles:20230408T090000
DTEND;TZID=America/Los_Angeles:20230408T103000
DTSTAMP:20260423T031601
CREATED:20230330T015651Z
LAST-MODIFIED:20230330T222632Z
UID:1784475-1680944400-1680949800@ramayogainstitute.com
SUMMARY:Kundalini Yoga & Meditation with Kim Krans
DESCRIPTION:TUNE IN\nArtist Kim Krans brings her creative sensibility to her Kundalini Yoga and meditation classes. Using breathwork\, physical posture\, mantra and mudra\, you will activate your own creative force and experience radical transformation.
URL:https://ramayogainstitute.com/event/kundalini-yoga-meditation-with-kim-krans/
LOCATION:Online
CATEGORIES:In Person,RA MA TV Live
ATTACH;FMTTYPE=image/jpeg:https://ramayogainstitute.com/wp-content/uploads/2022/07/Kim-Krans.jpg
END:VEVENT
BEGIN:VEVENT
DTSTART;TZID=America/Los_Angeles:20230409T080000
DTEND;TZID=America/Los_Angeles:20230409T100000
DTSTAMP:20260423T031601
CREATED:20230330T021034Z
LAST-MODIFIED:20230405T005654Z
UID:1784482-1681027200-1681034400@ramayogainstitute.com
SUMMARY:Cosmic Renewal with Harijwan
DESCRIPTION:SIGN UP: Harijiwan or Harijiwan + Mandev\nTUNE IN: Harijiwan or Harijiwan + Mandev\nHarijiwan has been teaching Kundalini Yoga since 1975. He is the founder of the GRAMMY®-Award-Winning band\, White Sun. With over 44 years of experience in the science of Kundalini Yoga\, Harijiwan incorporates a vast knowledge of various methodologies and training into his practice. Today\, and throughout his years as a teacher and healer\, Harijiwan remains committed to expanding his knowledge and experience to provide his students with the most progressive\, effective\, self-empowering approaches that increase overall joy and wholeness within the context of everyday experiences.
URL:https://ramayogainstitute.com/event/cosmic-renewal-with-harijwan/
LOCATION:RA MA New York & Online
CATEGORIES:In Person,Pay Per View Workshops
ATTACH;FMTTYPE=image/jpeg:https://ramayogainstitute.com/wp-content/uploads/2023/01/Harijiwan-France.jpg
END:VEVENT
BEGIN:VEVENT
DTSTART;TZID=America/Los_Angeles:20230409T090000
DTEND;TZID=America/Los_Angeles:20230409T103000
DTSTAMP:20260423T031601
CREATED:20230104T211248Z
LAST-MODIFIED:20230405T000952Z
UID:1763150-1681030800-1681036200@ramayogainstitute.com
SUMMARY:Diamond Light with Gurujas
DESCRIPTION:TUNE IN\nGurujas is a kundalini yoga teacher and a singer\, songwriter\, and musician. She has gained a worldwide reputation as the lead singer of White Sun\, a Grammy®-award winning band\, and a Billboard #1 artist. As a kundalini yoga teacher\, she is known as being intensely devoted to the accuracy of the teachings\, as well as incorporating contemporary science and practical every-day applications. As a singer\, she is known for her distinctive vocals\, her ethereal live performances\, and her ability to heal through song.
URL:https://ramayogainstitute.com/event/kundalini-yoga-meditation-with-gurujas-2-2023-04-09/
LOCATION:Online
CATEGORIES:In Person,RA MA TV Live
ATTACH;FMTTYPE=image/jpeg:https://ramayogainstitute.com/wp-content/uploads/2021/10/Gurujas-7.jpg
END:VEVENT
BEGIN:VEVENT
DTSTART;TZID=America/Los_Angeles:20230409T160000
DTEND;TZID=America/Los_Angeles:20230409T173000
DTSTAMP:20260423T031601
CREATED:20230330T020149Z
LAST-MODIFIED:20230405T000846Z
UID:1784477-1681056000-1681061400@ramayogainstitute.com
SUMMARY:Resurrect Your Cosmic Soul with John Cosmic
DESCRIPTION:TUNE IN\nSpiritual rapper\, psychedelic guitarist\, released album “A Call to Awaken”. Sci-Fi author\, released “Mystic Emergency”. Fitness book author. Realtor for the greater LA area. A kundalini yoga practitioner that aims to share the power of the practice.
URL:https://ramayogainstitute.com/event/kundalini-yoga-meditation-with-john-cosmic-2/
LOCATION:Online
CATEGORIES:In Person,RA MA TV Live
ATTACH;FMTTYPE=image/jpeg:https://ramayogainstitute.com/wp-content/uploads/2023/03/john-cosmic-cal-picture.jpg
END:VEVENT
END:VCALENDAR