BEGIN:VCALENDAR
VERSION:2.0
PRODID:-//RA MA LIFE - ECPv6.15.15//NONSGML v1.0//EN
CALSCALE:GREGORIAN
METHOD:PUBLISH
X-ORIGINAL-URL:https://ramayogainstitute.com
X-WR-CALDESC:Events for RA MA LIFE
REFRESH-INTERVAL;VALUE=DURATION:PT1H
X-Robots-Tag:noindex
X-PUBLISHED-TTL:PT1H
BEGIN:VTIMEZONE
TZID:America/Los_Angeles
BEGIN:DAYLIGHT
TZOFFSETFROM:-0800
TZOFFSETTO:-0700
TZNAME:PDT
DTSTART:20220313T100000
END:DAYLIGHT
BEGIN:STANDARD
TZOFFSETFROM:-0700
TZOFFSETTO:-0800
TZNAME:PST
DTSTART:20221106T090000
END:STANDARD
BEGIN:DAYLIGHT
TZOFFSETFROM:-0800
TZOFFSETTO:-0700
TZNAME:PDT
DTSTART:20230312T100000
END:DAYLIGHT
BEGIN:STANDARD
TZOFFSETFROM:-0700
TZOFFSETTO:-0800
TZNAME:PST
DTSTART:20231105T090000
END:STANDARD
BEGIN:DAYLIGHT
TZOFFSETFROM:-0800
TZOFFSETTO:-0700
TZNAME:PDT
DTSTART:20240310T100000
END:DAYLIGHT
BEGIN:STANDARD
TZOFFSETFROM:-0700
TZOFFSETTO:-0800
TZNAME:PST
DTSTART:20241103T090000
END:STANDARD
END:VTIMEZONE
BEGIN:VEVENT
DTSTART;TZID=America/Los_Angeles:20230327T160000
DTEND;TZID=America/Los_Angeles:20230327T173000
DTSTAMP:20260423T012831
CREATED:20230323T050157Z
LAST-MODIFIED:20230326T182617Z
UID:1783327-1679932800-1679938200@ramayogainstitute.com
SUMMARY:Kundalini Yoga & Meditation with Prem Navjeet
DESCRIPTION:TUNE IN\n 
URL:https://ramayogainstitute.com/event/prem-navjeet-03-27-2023/
LOCATION:RA MA New York & Online
CATEGORIES:In Person,RA MA TV Live
ATTACH;FMTTYPE=image/jpeg:https://ramayogainstitute.com/wp-content/uploads/2022/05/Prem-Navjeet-Vimeo-Thumbnail.jpg
END:VEVENT
BEGIN:VEVENT
DTSTART;TZID=America/Los_Angeles:20230327T173000
DTEND;TZID=America/Los_Angeles:20230327T184500
DTSTAMP:20260423T012831
CREATED:20230214T224159Z
LAST-MODIFIED:20230330T003001Z
UID:1773524-1679938200-1679942700@ramayogainstitute.com
SUMMARY:EXCEL with Atma Santokh
DESCRIPTION:TUNE IN\nYou can win at life. You can win in every moment. You can choose your brightest destiny. Prep your mind body system to excel with Kundalini Yoga & Meditation\, taught lovingly by Atma Santokh. \nSpending time with Atma Santokh is an invitation into joyful integration of the vast perfection of Spirit into this faceted human vehicle\, arriving home in rich and rising expression Me. Experience challenging mudras\, deep mantra selections\, and transformative meditation experiences with practical\, engaging\, and down-to-earth verbiage to express the deep love he has for\, and practical application of\, the Kundalini Yoga teachings and techniques.
URL:https://ramayogainstitute.com/event/excel-with-atma-santokh-2-2023-03-27/
LOCATION:Online
CATEGORIES:In Person,RA MA TV Live
ATTACH;FMTTYPE=image/jpeg:https://ramayogainstitute.com/wp-content/uploads/2022/12/Elevated-Aliveness-Atma-Santokh-Bundle-Banner.jpg
END:VEVENT
BEGIN:VEVENT
DTSTART;TZID=America/Los_Angeles:20230328T110000
DTEND;TZID=America/Los_Angeles:20230328T120000
DTSTAMP:20260423T012831
CREATED:20220730T013956Z
LAST-MODIFIED:20230330T010954Z
UID:1742173-1680001200-1680004800@ramayogainstitute.com
SUMMARY:Prosperity Hour with Malyvahn
DESCRIPTION:TUNE IN \nJoin us for this special new series “Prosperity Hour.” These practices will brighten your day and expand the aura in all directions unlocking your hidden treasures. Invest an hour to charge up and experience your power to set a projection that lasts. Health\, Wealth\, Happiness. Thank you. \nMalyvahn studied with Tej & Harijiwan. Kundalini Yoga and Meditation was a lighting fast practice for her self growth and healing. An entrepreneur at heart. Her goal is to hold a healing space\, guided by the teachings\, where each student can reach their highest bliss of prosperity!
URL:https://ramayogainstitute.com/event/prosperity-hour-with-malyvahn-2022-10-04-2023-03-28/
LOCATION:Online
CATEGORIES:In Person,RA MA TV Live
ATTACH;FMTTYPE=image/jpeg:https://ramayogainstitute.com/wp-content/uploads/2022/01/Malyvahn-6.jpg
END:VEVENT
BEGIN:VEVENT
DTSTART;TZID=America/Los_Angeles:20230329T110000
DTEND;TZID=America/Los_Angeles:20230329T120000
DTSTAMP:20260423T012831
CREATED:20211217T191549Z
LAST-MODIFIED:20230323T051634Z
UID:1742172-1680087600-1680091200@ramayogainstitute.com
SUMMARY:Kundalini Yoga & Meditation with Mary Margaret Skelly
DESCRIPTION:TUNE IN\nAfter spending over a decade in executive search on Wall Street and in Silicon Valley\, Mary Margaret trained in executive coaching with Founder Bay\, the leadership advisory firm founded by the exclusive executive coach to acquired CEOs at Google. \nToday she works with C-suite executives\, government leaders\, entrepreneurs and emerging leaders across industries. She’s coached hundreds of professionals as they seek to develop as leaders\, plan major career shifts\, and manage their energy.
URL:https://ramayogainstitute.com/event/mary-margartet-3-29/
LOCATION:Online
CATEGORIES:In Person,RA MA TV Live
ATTACH;FMTTYPE=image/jpeg:https://ramayogainstitute.com/wp-content/uploads/2021/08/Mary-Margaret-Skelly.jpg
END:VEVENT
BEGIN:VEVENT
DTSTART;TZID=America/Los_Angeles:20230329T173000
DTEND;TZID=America/Los_Angeles:20230329T184500
DTSTAMP:20260423T012831
CREATED:20230106T004156Z
LAST-MODIFIED:20230323T052731Z
UID:1777114-1680111000-1680115500@ramayogainstitute.com
SUMMARY:Kundalini Yoga & Meditation with Alexis Di Salvo
DESCRIPTION:TUNE IN\nAlexis met her teacher\, Harijiwan in 2012 and in 2013 took her first of many kundalini trainings with Harijiwan and Tej. She began teaching at the brand new RA MA Venice and has been practicing and using the Kundalini Yoga technology to upgrade and expand her potential ever since. \nAlexis is also a mother and successful working actress. She has appeared in several television shows and feature films such as THIS IS US\, GRACE AND FRANKIE\, THE RESIDENT\, JERSEY BOYS AND THE GET DOWN. She also teaches and coaches other actors through Lesly Kahn & Co Acting Studio. \nAlexis loves deepening her daily practice and continuing to study and learn from her teacher\, Harijiwan.
URL:https://ramayogainstitute.com/event/be-brave-be-you-2023-02-27-2023-03-03/
LOCATION:Online
CATEGORIES:In Person,RA MA TV Live
ATTACH;FMTTYPE=image/jpeg:https://ramayogainstitute.com/wp-content/uploads/2019/04/Alexis-Di-Salvo.jpg
END:VEVENT
BEGIN:VEVENT
DTSTART;VALUE=DATE:20230330
DTEND;VALUE=DATE:20230403
DTSTAMP:20260423T012831
CREATED:20230323T041553Z
LAST-MODIFIED:20230323T041553Z
UID:1783305-1680134400-1680479999@ramayogainstitute.com
SUMMARY:Destination Meditation: Joshua Tree
DESCRIPTION:Learn More\nWelcome to a highly transformational yogic experience in the desert Vortex of Joshua Tree\, California. Prepare to meditate\, practice\, and elevate in a powerful group and geographical energy field to change yourself and your life for the better. \nThe energy of a Vortex acts as an amplifier.  An amplifier takes a signal or frequency and makes it stronger. When standing in a vortex\, the energy will magnify what we bring to it on a physical\, mental\, emotional or spiritual level. \nCombined with deep\, intentional practice\, and systematically curated yoga and meditation\, you will experience rapid and sustaining internal transformation.
URL:https://ramayogainstitute.com/event/destination-meditation-joshua-tree/
LOCATION:Joshua Tree\, CA
CATEGORIES:Courses & Events,In Person
ATTACH;FMTTYPE=image/jpeg:https://ramayogainstitute.com/wp-content/uploads/2023/01/Joshua-Tree.jpg
END:VEVENT
BEGIN:VEVENT
DTSTART;TZID=America/Los_Angeles:20230330T080000
DTEND;TZID=America/Los_Angeles:20230330T093000
DTSTAMP:20260423T012831
CREATED:20230323T053312Z
LAST-MODIFIED:20230323T053312Z
UID:1783344-1680163200-1680168600@ramayogainstitute.com
SUMMARY:Kundalini Yoga & Meditation with Rebecca Underdown
DESCRIPTION:TUNE IN\nRebecca Underdown began practicing Kundalini yoga in 2000 and studying with Tej\, Harijiwan and Guru Jagat in 2015. Rebecca holds a BA in Eastern Religions from Boston University and a Masters Degree in Chinese Acupuncture & Herbal Medicine. She is the founder of the skincare company Veridatta.
URL:https://ramayogainstitute.com/event/rebecca-underdown-3-30-23/
LOCATION:RA MA New York & Online
CATEGORIES:In Person,RA MA TV Live
ATTACH;FMTTYPE=image/jpeg:https://ramayogainstitute.com/wp-content/uploads/2022/12/Rebecca-Underdown.jpg
END:VEVENT
BEGIN:VEVENT
DTSTART;TZID=America/Los_Angeles:20230330T090000
DTEND;TZID=America/Los_Angeles:20230330T103000
DTSTAMP:20260423T012831
CREATED:20230326T183348Z
LAST-MODIFIED:20230326T183348Z
UID:1783850-1680166800-1680172200@ramayogainstitute.com
SUMMARY:Kundalini Yoga & Meditation with Dr. Siri Shakti
DESCRIPTION:TUNE IN\nI am a family physician who hails from Baton Rouge\, Louisiana and grew up here in South Central Los Angeles. It is my honor to teach Kundalini Yoga\, a technology I was introduced to by my acupuncturist when I was 18. I was given a video tape and it became my cure all for all that ailed me: panic attacks\, anxiety over medical school interviews\, depression from a failed love relationship\, etc. \nFast forward years later\, at age 30-something\, I took my first live Kundalini Yoga class. Now\, I teach Kundalini Yoga because it’s the best thing I know about and it’s still my cure all. Everything in my life has changed for the better and I humbly share these teachings because I know that everyone can benefit from this wisdom. Come to a class to let all that does not serve you fall away and to turn the light onto all that is true and authentic about YOU.
URL:https://ramayogainstitute.com/event/kundalini-yoga-meditation-with-dr-siri-shakti/2023-03-30/
LOCATION:Online
CATEGORIES:In Person,RA MA TV Live
ATTACH;FMTTYPE=image/jpeg:https://ramayogainstitute.com/wp-content/uploads/2022/02/Siri-Shakti-.jpeg
END:VEVENT
BEGIN:VEVENT
DTSTART;TZID=America/Los_Angeles:20230330T110000
DTEND;TZID=America/Los_Angeles:20230330T120000
DTSTAMP:20260423T012831
CREATED:20230330T011109Z
LAST-MODIFIED:20230330T011109Z
UID:1784443-1680174000-1680177600@ramayogainstitute.com
SUMMARY:Prosperity Hour with Malyvahn
DESCRIPTION:TUNE IN \nJoin us for this special new series “Prosperity Hour.” These practices will brighten your day and expand the aura in all directions unlocking your hidden treasures. Invest an hour to charge up and experience your power to set a projection that lasts. Health\, Wealth\, Happiness. Thank you. \nMalyvahn studied with Tej & Harijiwan. Kundalini Yoga and Meditation was a lighting fast practice for her self growth and healing. An entrepreneur at heart. Her goal is to hold a healing space\, guided by the teachings\, where each student can reach their highest bliss of prosperity!
URL:https://ramayogainstitute.com/event/prosperity-hour-with-malyvahn-3/
LOCATION:Online
CATEGORIES:In Person,RA MA TV Live
ATTACH;FMTTYPE=image/jpeg:https://ramayogainstitute.com/wp-content/uploads/2022/01/Malyvahn-6.jpg
END:VEVENT
BEGIN:VEVENT
DTSTART;TZID=America/Los_Angeles:20230401T090000
DTEND;TZID=America/Los_Angeles:20230401T103000
DTSTAMP:20260423T012831
CREATED:20230326T191111Z
LAST-MODIFIED:20230327T232525Z
UID:1783879-1680339600-1680345000@ramayogainstitute.com
SUMMARY:Kundalini Yoga & Meditation with Jai Inder
DESCRIPTION:TUNE IN \nJai Inder teaches kundalini yoga classes that will connect you to your spirit. Kriyas\, pranayam and meditations as taught by Yogi Bhajan are all incorporated into classes that will calm your nervous system and help you access your best self. \n“This hocus pocus of an outside God\, finding God is over. We are here to find our God within ourselves.” \n“If it is not devotional\, it is not yoga\, it is just exercise. In every posture\, you have a chance to experience devotion. That’s what postures are real about. Worship the God in you and marvel at the beautiful engineering of your own body.” Yogi Bhajan
URL:https://ramayogainstitute.com/event/kundalini-yoga-meditation/
LOCATION:Online
CATEGORIES:In Person,RA MA TV Live
ATTACH;FMTTYPE=image/jpeg:https://ramayogainstitute.com/wp-content/uploads/2022/02/Jai-Inder.jpg
END:VEVENT
BEGIN:VEVENT
DTSTART;TZID=America/Los_Angeles:20230401T190000
DTEND;TZID=America/Los_Angeles:20230401T201500
DTSTAMP:20260423T012831
CREATED:20230106T004156Z
LAST-MODIFIED:20230430T182616Z
UID:1763789-1680375600-1680380100@ramayogainstitute.com
SUMMARY:Beam with Jen Saltiel
DESCRIPTION:TUNE IN\nEnhance your pranic capacity and mental strength to stay steady\, solid\, and well positioned for your highest destiny and ultimate fulfillment. \n 
URL:https://ramayogainstitute.com/event/beam-with-jen-2023-05-01/
LOCATION:Online
CATEGORIES:In Person,RA MA TV Live
ATTACH;FMTTYPE=image/jpeg:https://ramayogainstitute.com/wp-content/uploads/2022/09/TheEquinoxJenPresenterSquare.jpg
END:VEVENT
BEGIN:VEVENT
DTSTART;TZID=America/Los_Angeles:20230402T160000
DTEND;TZID=America/Los_Angeles:20230402T173000
DTSTAMP:20260423T012831
CREATED:20211111T222113Z
LAST-MODIFIED:20230326T185847Z
UID:1743608-1680451200-1680456600@ramayogainstitute.com
SUMMARY:Kundalini Yoga & Meditation with Jai Gopal
DESCRIPTION:TUNE IN\n 
URL:https://ramayogainstitute.com/event/kundalini-tej-11-20-21-2021-12-05-2022-01-09-2022-04-24-2022-05-01-2023-04-02/
LOCATION:Online
CATEGORIES:In Person,RA MA TV Live
ATTACH;FMTTYPE=image/jpeg:https://ramayogainstitute.com/wp-content/uploads/2022/03/Jai-Gopal.jpg
END:VEVENT
END:VCALENDAR