BEGIN:VCALENDAR
VERSION:2.0
PRODID:-//RA MA LIFE - ECPv6.15.15//NONSGML v1.0//EN
CALSCALE:GREGORIAN
METHOD:PUBLISH
X-WR-CALNAME:RA MA LIFE
X-ORIGINAL-URL:https://ramayogainstitute.com
X-WR-CALDESC:Events for RA MA LIFE
REFRESH-INTERVAL;VALUE=DURATION:PT1H
X-Robots-Tag:noindex
X-PUBLISHED-TTL:PT1H
BEGIN:VTIMEZONE
TZID:America/Los_Angeles
BEGIN:DAYLIGHT
TZOFFSETFROM:-0800
TZOFFSETTO:-0700
TZNAME:PDT
DTSTART:20220313T100000
END:DAYLIGHT
BEGIN:STANDARD
TZOFFSETFROM:-0700
TZOFFSETTO:-0800
TZNAME:PST
DTSTART:20221106T090000
END:STANDARD
BEGIN:DAYLIGHT
TZOFFSETFROM:-0800
TZOFFSETTO:-0700
TZNAME:PDT
DTSTART:20230312T100000
END:DAYLIGHT
BEGIN:STANDARD
TZOFFSETFROM:-0700
TZOFFSETTO:-0800
TZNAME:PST
DTSTART:20231105T090000
END:STANDARD
BEGIN:DAYLIGHT
TZOFFSETFROM:-0800
TZOFFSETTO:-0700
TZNAME:PDT
DTSTART:20240310T100000
END:DAYLIGHT
BEGIN:STANDARD
TZOFFSETFROM:-0700
TZOFFSETTO:-0800
TZNAME:PST
DTSTART:20241103T090000
END:STANDARD
END:VTIMEZONE
BEGIN:VEVENT
DTSTART;VALUE=DATE:20230320
DTEND;VALUE=DATE:20230321
DTSTAMP:20260423T161220
CREATED:20230309T201732Z
LAST-MODIFIED:20230317T165602Z
UID:1779944-1679270400-1679356799@ramayogainstitute.com
SUMMARY:RA MA Presents: The Equinox
DESCRIPTION:LEARN MORE\nThe Spring Equinox is one of the four most powerful days of the year. On this day of equal dark and night\, a diagonal\, angular force from the Sun to the Earth is created that generates a very specific energy to cut through blocks\, obstacles\, and limiting beliefs. \nMaximize the energy of Spring Equinox in a day of deep practice\, meditation\, and elevation with Harijiwan\, Mandev\, Shabadpreet\, Tashi Powers\, and more special guests.
URL:https://ramayogainstitute.com/event/ra-ma-presents-the-equinox/
LOCATION:RA MA Los Angeles\, RA MA New York & Online
CATEGORIES:Courses & Events,In Person,Pay Per View Workshops
ATTACH;FMTTYPE=image/jpeg:https://ramayogainstitute.com/wp-content/uploads/2023/03/equinox-2023-row-divider-2.jpg
END:VEVENT
BEGIN:VEVENT
DTSTART;TZID=America/Los_Angeles:20230321T170000
DTEND;TZID=America/Los_Angeles:20230321T190000
DTSTAMP:20260423T161220
CREATED:20230316T184357Z
LAST-MODIFIED:20230321T022404Z
UID:1781711-1679418000-1679425200@ramayogainstitute.com
SUMMARY:New Moon in Aries with Harijiwan
DESCRIPTION:SIGN UP\nTUNE IN\nHarijiwan has been teaching Kundalini Yoga since 1975. He is the founder of the GRAMMY®-Award-Winning band\, White Sun. With over 44 years of experience in the science of Kundalini Yoga\, Harijiwan incorporates a vast knowledge of various methodologies and training into his practice. Today\, and throughout his years as a teacher and healer\, Harijiwan remains committed to expanding his knowledge and experience to provide his students with the most progressive\, effective\, self-empowering approaches that increase overall joy and wholeness within the context of everyday experiences.
URL:https://ramayogainstitute.com/event/new-moon-in-aries-with-harijiwan/
LOCATION:Online
CATEGORIES:In Person,Pay Per View Workshops
ATTACH;FMTTYPE=image/jpeg:https://ramayogainstitute.com/wp-content/uploads/2023/02/Harijiwan-Playing-Gong-Black-White-e1686425489298.jpg
END:VEVENT
BEGIN:VEVENT
DTSTART;TZID=America/Los_Angeles:20230324T183000
DTEND;TZID=America/Los_Angeles:20230324T203000
DTSTAMP:20260423T161220
CREATED:20230317T021041Z
LAST-MODIFIED:20230317T170040Z
UID:1781805-1679682600-1679689800@ramayogainstitute.com
SUMMARY:The Truth About Your Ego with Shaman Durek
DESCRIPTION:SIGN UP\nCome to this workshop and learn the truth about your ego with Shaman Durek \nIn this workshop you will: \n\nLearn how the ego has gotten a bad rap in life and why that is.\nLearn what the ego really is\, and how it can serve you.\nLearn how to talk to your ego and get deep clarity.\nLearn how to get your ego to de-program your deepest beliefs.\nDiscover what the ego actually does to support you in all aspects of life.\nLearn what the ego protector is.\nShould you kill your ego? No!
URL:https://ramayogainstitute.com/event/the-truth-about-your-ego/
LOCATION:Online
CATEGORIES:In Person,Pay Per View Workshops
ATTACH;FMTTYPE=image/jpeg:https://ramayogainstitute.com/wp-content/uploads/2023/02/Shaman-durek-major.jpg
END:VEVENT
BEGIN:VEVENT
DTSTART;TZID=America/Los_Angeles:20230325T170000
DTEND;TZID=America/Los_Angeles:20230325T190000
DTSTAMP:20260423T161220
CREATED:20230317T024048Z
LAST-MODIFIED:20230317T024048Z
UID:1781808-1679763600-1679770800@ramayogainstitute.com
SUMMARY:Spring Renewal Breathwork
DESCRIPTION:Breathwork is an experience based in wholeness. It is a powerful healing modality utilizing the breath to heal old patterns\, dislodge stuck energy\, and balance the chakras. Practicing in a group setting has a powerful collective healing energy that facilitates deep release. The style of breathwork Neelou facilitates incorporates a three-part breath and is as simple as it is transformational\, and works to restore the healthy flow of Qi in our bodies. By breathing deeply you oxygenate the areas of your body that need extra attention\, releasing any blockages\, or stuckness\, in order to release the energy to flow freely. \nABOUT NEELOU: Neelou Malekpour was born in Seattle and raised in Tehran\, before moving to Los Angeles during the Iranian Revolution. She started SMUDGED as a tribute to her late grandmother\, who taught her to be responsible for the vibrations she put out into the world. Neelou’s first book\, The Art of Sacred Smoke\, published by Penguin Random House\, was released in March of 2022. She has more than seven years of experience teaching breathwork\, sacred smoke\, and mindfulness workshops to individuals as well as corporations.
URL:https://ramayogainstitute.com/event/spring-renewal-breathwork/
LOCATION:Online
CATEGORIES:In Person,Pay Per View Workshops
ATTACH;FMTTYPE=image/jpeg:https://ramayogainstitute.com/wp-content/uploads/2021/02/TripleRoyalSPRING3.jpg
END:VEVENT
BEGIN:VEVENT
DTSTART;TZID=America/Los_Angeles:20230325T193000
DTEND;TZID=America/Los_Angeles:20230325T213000
DTSTAMP:20260423T161220
CREATED:20230321T200450Z
LAST-MODIFIED:20230325T232935Z
UID:1782735-1679772600-1679779800@ramayogainstitute.com
SUMMARY:Songs for the Heart with Jacqueline\, Cooper\, and Leela
DESCRIPTION:SIGN UP\nTUNE IN\nSaturday\, March 25th\, 2023 \n7:30pm – 9:30pm PST \nThis evening of music will be an intimate concert sharing soulful original songs. \nRA MA Los Angeles & Virtually on RA MA TV\n1729 21st St\, Santa Monica\, CA 90404
URL:https://ramayogainstitute.com/event/songs-for-the-heart-3-25/
LOCATION:Online
CATEGORIES:In Person,Pay Per View Workshops
ATTACH;FMTTYPE=image/jpeg:https://ramayogainstitute.com/wp-content/uploads/2023/02/Jacqueline-Singing-in-Nature.jpeg
END:VEVENT
END:VCALENDAR