BEGIN:VCALENDAR
VERSION:2.0
PRODID:-//RA MA LIFE - ECPv6.15.15//NONSGML v1.0//EN
CALSCALE:GREGORIAN
METHOD:PUBLISH
X-ORIGINAL-URL:https://ramayogainstitute.com
X-WR-CALDESC:Events for RA MA LIFE
REFRESH-INTERVAL;VALUE=DURATION:PT1H
X-Robots-Tag:noindex
X-PUBLISHED-TTL:PT1H
BEGIN:VTIMEZONE
TZID:America/Los_Angeles
BEGIN:DAYLIGHT
TZOFFSETFROM:-0800
TZOFFSETTO:-0700
TZNAME:PDT
DTSTART:20220313T100000
END:DAYLIGHT
BEGIN:STANDARD
TZOFFSETFROM:-0700
TZOFFSETTO:-0800
TZNAME:PST
DTSTART:20221106T090000
END:STANDARD
BEGIN:DAYLIGHT
TZOFFSETFROM:-0800
TZOFFSETTO:-0700
TZNAME:PDT
DTSTART:20230312T100000
END:DAYLIGHT
BEGIN:STANDARD
TZOFFSETFROM:-0700
TZOFFSETTO:-0800
TZNAME:PST
DTSTART:20231105T090000
END:STANDARD
BEGIN:DAYLIGHT
TZOFFSETFROM:-0800
TZOFFSETTO:-0700
TZNAME:PDT
DTSTART:20240310T100000
END:DAYLIGHT
BEGIN:STANDARD
TZOFFSETFROM:-0700
TZOFFSETTO:-0800
TZNAME:PST
DTSTART:20241103T090000
END:STANDARD
END:VTIMEZONE
BEGIN:VEVENT
DTSTART;TZID=America/Los_Angeles:20230316T120000
DTEND;TZID=America/Los_Angeles:20230316T130000
DTSTAMP:20260423T213036
CREATED:20230316T022452Z
LAST-MODIFIED:20230316T022453Z
UID:1781526-1678968000-1678971600@ramayogainstitute.com
SUMMARY:Spring Tour Zoom Q&A with Harijiwan
DESCRIPTION:RSVP\nHeal ANY relationship. \nHold a more powerful space as a Teacher. \nExperience the multi-dimensional magic of Glastonbury.\n\nAll this and more is happening at RA MA this Spring.\n\nJoin Harijiwan this Thursday\, March 16 at 12:00pm PDT to learn more about Real Relationships and Being a Teacher Kundalini Trainings\, plus get a sneak preview of RA MA Yatra: Glastonbury.\n\nBring your questions or come to listen – RSVP below to join the call.\n\nSPRING TOUR ZOOM Q&A CALL WITH HARIJIWAN\nTHURSDAY\, MARCH 16\, 2023\n12:00PM PDT | +3 EDT | +8 CET
URL:https://ramayogainstitute.com/event/spring-tour-zoom-qa-with-harijiwan/
LOCATION:Online on Zoom
CATEGORIES:Community Content,Courses & Events,RA MA TV Live
ATTACH;FMTTYPE=image/jpeg:https://ramayogainstitute.com/wp-content/uploads/2023/03/Harijiwan-Mandev-Spring-Tour-1.jpg
END:VEVENT
END:VCALENDAR