BEGIN:VCALENDAR
VERSION:2.0
PRODID:-//RA MA LIFE - ECPv6.15.15//NONSGML v1.0//EN
CALSCALE:GREGORIAN
METHOD:PUBLISH
X-ORIGINAL-URL:https://ramayogainstitute.com
X-WR-CALDESC:Events for RA MA LIFE
REFRESH-INTERVAL;VALUE=DURATION:PT1H
X-Robots-Tag:noindex
X-PUBLISHED-TTL:PT1H
BEGIN:VTIMEZONE
TZID:America/Los_Angeles
BEGIN:DAYLIGHT
TZOFFSETFROM:-0800
TZOFFSETTO:-0700
TZNAME:PDT
DTSTART:20220313T100000
END:DAYLIGHT
BEGIN:STANDARD
TZOFFSETFROM:-0700
TZOFFSETTO:-0800
TZNAME:PST
DTSTART:20221106T090000
END:STANDARD
BEGIN:DAYLIGHT
TZOFFSETFROM:-0800
TZOFFSETTO:-0700
TZNAME:PDT
DTSTART:20230312T100000
END:DAYLIGHT
BEGIN:STANDARD
TZOFFSETFROM:-0700
TZOFFSETTO:-0800
TZNAME:PST
DTSTART:20231105T090000
END:STANDARD
BEGIN:DAYLIGHT
TZOFFSETFROM:-0800
TZOFFSETTO:-0700
TZNAME:PDT
DTSTART:20240310T100000
END:DAYLIGHT
BEGIN:STANDARD
TZOFFSETFROM:-0700
TZOFFSETTO:-0800
TZNAME:PST
DTSTART:20241103T090000
END:STANDARD
END:VTIMEZONE
BEGIN:VEVENT
DTSTART;TZID=America/Los_Angeles:20230313T160000
DTEND;TZID=America/Los_Angeles:20230313T173000
DTSTAMP:20260423T082602
CREATED:20230308T210653Z
LAST-MODIFIED:20230308T210653Z
UID:1779666-1678723200-1678728600@ramayogainstitute.com
SUMMARY:Kundalini Yoga & Meditation with Siri Rishi
DESCRIPTION:TUNE IN\nSiri Rishi Kaur: (Creatrix / Mother / Entrepreneur) This Avant-Garde Yogini is a KRI Teacher of Kundalini Yoga as taught by the Mahan Tantric Yogi Bhajan. Siri Rishi is a Moon Dancer and Sacred Pipe Carrier. She walks the path of many spiritual lineages and enjoys weaving the threads back into oneness. Siri Rishi has been teaching Kundalini Yoga and Meditation globally for over 20 years. She delivers this ancient technology authentically and with reverence. \n 
URL:https://ramayogainstitute.com/event/kundalini-yoga-meditation-with-siri-rishi-3/
LOCATION:RA MA New York & Online
CATEGORIES:In Person,RA MA TV Live
ATTACH;FMTTYPE=image/jpeg:https://ramayogainstitute.com/wp-content/uploads/2022/01/Siri_Rishi_NY_1.jpeg
END:VEVENT
BEGIN:VEVENT
DTSTART;TZID=America/Los_Angeles:20230313T173000
DTEND;TZID=America/Los_Angeles:20230313T184500
DTSTAMP:20260423T082602
CREATED:20230214T224159Z
LAST-MODIFIED:20230317T024542Z
UID:1773522-1678728600-1678733100@ramayogainstitute.com
SUMMARY:EXCEL with Atma Santokh
DESCRIPTION:TUNE IN\nYou can win at life. You can win in every moment. You can choose your brightest destiny. Prep your mind body system to excel with Kundalini Yoga & Meditation\, taught lovingly by Atma Santokh. \nSpending time with Atma Santokh is an invitation into joyful integration of the vast perfection of Spirit into this faceted human vehicle\, arriving home in rich and rising expression Me. Experience challenging mudras\, deep mantra selections\, and transformative meditation experiences with practical\, engaging\, and down-to-earth verbiage to express the deep love he has for\, and practical application of\, the Kundalini Yoga teachings and techniques.
URL:https://ramayogainstitute.com/event/excel-with-atma-santokh-2-2023-03-13/
LOCATION:Online
CATEGORIES:In Person,RA MA TV Live
ATTACH;FMTTYPE=image/jpeg:https://ramayogainstitute.com/wp-content/uploads/2022/12/Elevated-Aliveness-Atma-Santokh-Bundle-Banner.jpg
END:VEVENT
BEGIN:VEVENT
DTSTART;TZID=America/Los_Angeles:20230315T080000
DTEND;TZID=America/Los_Angeles:20230315T090000
DTSTAMP:20260423T082602
CREATED:20230308T212139Z
LAST-MODIFIED:20230308T212139Z
UID:1779671-1678867200-1678870800@ramayogainstitute.com
SUMMARY:Kundalini Yoga & Meditation with Anne V
DESCRIPTION:TUNE IN\nAnne V is a fashion model\, mom and yogi based in New York City. She has trained as a teacher and studied kundalini at RAMA yoga Institute for Applied Science and Technology with Guru Jagat\, Harijiwan and Tej. Her classes are inspired by her own journey. “This practice gives me the ability to handle life. We are here to experience our potential ….full of power\, ease and radiance. After all happiness is our birth right.”
URL:https://ramayogainstitute.com/event/kundalini-yoga-meditation-with-anne-v-4/
LOCATION:RA MA New York & Online
CATEGORIES:In Person,RA MA TV Live
ATTACH;FMTTYPE=image/jpeg:https://ramayogainstitute.com/wp-content/uploads/2022/05/Anne-V.jpg
END:VEVENT
BEGIN:VEVENT
DTSTART;TZID=America/Los_Angeles:20230315T173000
DTEND;TZID=America/Los_Angeles:20230315T184500
DTSTAMP:20260423T082602
CREATED:20230308T212916Z
LAST-MODIFIED:20230308T213245Z
UID:1779676-1678901400-1678905900@ramayogainstitute.com
SUMMARY:Beam with Jen
DESCRIPTION:TUNE IN\nEnhance your pranic capacity and mental strength to stay steady\, solid\, and well positioned for your highest destiny and ultimate fulfillment. \nJen Saltiel has been practicing and working with the Kundalini Yoga technology since 2012. As a devout student of Guru Jagat’s and member of RA MA Institute Global team\, she has a deep connection with the teachings and genuine love and desire to deliver them to the world. Her classes are clear\, uplifting\, rhythmic\, and meditative.
URL:https://ramayogainstitute.com/event/beam-with-jen-2/
LOCATION:Online
CATEGORIES:In Person,RA MA TV Live
ATTACH;FMTTYPE=image/jpeg:https://ramayogainstitute.com/wp-content/uploads/2021/08/Jen-Saltiel.jpeg
END:VEVENT
BEGIN:VEVENT
DTSTART;TZID=America/Los_Angeles:20230316T080000
DTEND;TZID=America/Los_Angeles:20230316T093000
DTSTAMP:20260423T082602
CREATED:20230308T213851Z
LAST-MODIFIED:20230314T002542Z
UID:1779678-1678953600-1678959000@ramayogainstitute.com
SUMMARY:Metabolism Reboot with Rebecca Underdown
DESCRIPTION:TUNE IN\nJoin us for this 4 class series designed to detox the winter body\, fire up the metabolism and turn negative health habits into sustainable positive ones. \nMarch 2nd- “Everything is Chemical”- Strengthen Your Hormonal Secretions for a healthy\, happy body \nMarch 9th- “Get On Up” Awaken Your Metabolism Strength for weight loss \nMarch 16th- “Overcome Your Weaknesses” Release addictive behaviors and experience your most confident self \nMarch 23rd- “Knowing Is Your Victory Path ” Loving your perfectly imperfect body for a higher than human experience.
URL:https://ramayogainstitute.com/event/metabolism-reboot-with-rebecca-underdown-3/
LOCATION:RA MA New York & Online
CATEGORIES:In Person,RA MA TV Live
ATTACH;FMTTYPE=image/jpeg:https://ramayogainstitute.com/wp-content/uploads/2022/12/Rebecca-Underdown.jpg
END:VEVENT
BEGIN:VEVENT
DTSTART;TZID=America/Los_Angeles:20230316T120000
DTEND;TZID=America/Los_Angeles:20230316T130000
DTSTAMP:20260423T082602
CREATED:20230316T022452Z
LAST-MODIFIED:20230316T022453Z
UID:1781526-1678968000-1678971600@ramayogainstitute.com
SUMMARY:Spring Tour Zoom Q&A with Harijiwan
DESCRIPTION:RSVP\nHeal ANY relationship. \nHold a more powerful space as a Teacher. \nExperience the multi-dimensional magic of Glastonbury.\n\nAll this and more is happening at RA MA this Spring.\n\nJoin Harijiwan this Thursday\, March 16 at 12:00pm PDT to learn more about Real Relationships and Being a Teacher Kundalini Trainings\, plus get a sneak preview of RA MA Yatra: Glastonbury.\n\nBring your questions or come to listen – RSVP below to join the call.\n\nSPRING TOUR ZOOM Q&A CALL WITH HARIJIWAN\nTHURSDAY\, MARCH 16\, 2023\n12:00PM PDT | +3 EDT | +8 CET
URL:https://ramayogainstitute.com/event/spring-tour-zoom-qa-with-harijiwan/
LOCATION:Online on Zoom
CATEGORIES:Community Content,Courses & Events,RA MA TV Live
ATTACH;FMTTYPE=image/jpeg:https://ramayogainstitute.com/wp-content/uploads/2023/03/Harijiwan-Mandev-Spring-Tour-1.jpg
END:VEVENT
BEGIN:VEVENT
DTSTART;TZID=America/Los_Angeles:20230316T190000
DTEND;TZID=America/Los_Angeles:20230316T203000
DTSTAMP:20260423T082602
CREATED:20210409T201219Z
LAST-MODIFIED:20230314T002536Z
UID:1773535-1678993200-1678998600@ramayogainstitute.com
SUMMARY:Kundalini Yoga & Meditation with Shabadpreet
DESCRIPTION:TUNE IN\nShabadpreet is the CEO of RA MA Institute for Applied Yogic Science and Technology with locations in Los Angeles\, California; Mallorca\, Spain; New York City\, and virtually on RA MA TV. \nWith the passing of Guru Jagat\, Shabadpreet continues RA MA’s Mission as a crossroads of consciousness\, wellbeing\, and creation-culture. Known for her healing approach\, Shabadpreet can also be found teaching in our Kundalini Trainings and in our three Global Women’s Programs.
URL:https://ramayogainstitute.com/event/kundalini-yoga-meditation-with-shabadpreet-2-2023-02-09-2023-03-16/2023-03-16/
LOCATION:Online
CATEGORIES:In Person,RA MA TV Live
ATTACH;FMTTYPE=image/jpeg:https://ramayogainstitute.com/wp-content/uploads/2023/03/Shabadpreet-1.jpg
END:VEVENT
BEGIN:VEVENT
DTSTART;TZID=America/Los_Angeles:20230317T150000
DTEND;TZID=America/Los_Angeles:20230317T153000
DTSTAMP:20260423T082602
CREATED:20230317T212700Z
LAST-MODIFIED:20230317T212701Z
UID:1781944-1679065200-1679067000@ramayogainstitute.com
SUMMARY:Healing Meditation for Tej
DESCRIPTION:TUNE IN\n 
URL:https://ramayogainstitute.com/event/healing-meditation-for-tej/
LOCATION:Online
CATEGORIES:Community Content,In Person,RA MA TV Live
ATTACH;FMTTYPE=image/jpeg:https://ramayogainstitute.com/wp-content/uploads/2021/11/Tej-at-RA-MA-Los-Angeles.jpg
END:VEVENT
BEGIN:VEVENT
DTSTART;TZID=America/Los_Angeles:20230319T090000
DTEND;TZID=America/Los_Angeles:20230319T103000
DTSTAMP:20260423T082602
CREATED:20230104T211248Z
LAST-MODIFIED:20230313T162200Z
UID:1763147-1679216400-1679221800@ramayogainstitute.com
SUMMARY:Kundalini Yoga & Meditation with Gurujas
DESCRIPTION:TUNE IN\nGurujas is a kundalini yoga teacher and a singer\, songwriter\, and musician. She has gained a worldwide reputation as the lead singer of White Sun\, a Grammy®-award winning band\, and a Billboard #1 artist. As a kundalini yoga teacher\, she is known as being intensely devoted to the accuracy of the teachings\, as well as incorporating contemporary science and practical every-day applications. As a singer\, she is known for her distinctive vocals\, her ethereal live performances\, and her ability to heal through song.
URL:https://ramayogainstitute.com/event/kundalini-yoga-meditation-with-gurujas-2-2023-03-19/
LOCATION:Online
CATEGORIES:In Person,RA MA TV Live
ATTACH;FMTTYPE=image/jpeg:https://ramayogainstitute.com/wp-content/uploads/2021/10/Gurujas-7.jpg
END:VEVENT
BEGIN:VEVENT
DTSTART;TZID=America/Los_Angeles:20230319T130000
DTEND;TZID=America/Los_Angeles:20230319T150000
DTSTAMP:20260423T082602
CREATED:20230314T002413Z
LAST-MODIFIED:20230317T011848Z
UID:1781097-1679230800-1679238000@ramayogainstitute.com
SUMMARY:Pre-Equinox with Harijiwan
DESCRIPTION:SIGN UP\nTUNE IN \nKundalini Yoga\, Meditation & Gong Workshop \nHarijiwan has been teaching Kundalini Yoga since 1975. He is the founder of the GRAMMY®-Award-Winning band\, White Sun. With over 44 years of experience in the science of Kundalini Yoga\, Harijiwan incorporates a vast knowledge of various methodologies and training into his practice. Today\, and throughout his years as a teacher and healer\, Harijiwan remains committed to expanding his knowledge and experience to provide his students with the most progressive\, effective\, self-empowering approaches that increase overall joy and wholeness within the context of everyday experiences.
URL:https://ramayogainstitute.com/event/pre-equinox-with-harijiwan/
LOCATION:Online
CATEGORIES:In Person,Pay Per View Workshops
ATTACH;FMTTYPE=image/jpeg:https://ramayogainstitute.com/wp-content/uploads/2023/03/HarijiwanEquinoxBanner.jpg
END:VEVENT
BEGIN:VEVENT
DTSTART;TZID=America/Los_Angeles:20230319T180000
DTEND;TZID=America/Los_Angeles:20230319T190000
DTSTAMP:20260423T082602
CREATED:20230313T161335Z
LAST-MODIFIED:20230317T012947Z
UID:1780816-1679248800-1679252400@ramayogainstitute.com
SUMMARY:Journey to the Jungle: Meditation with Shaman Durek
DESCRIPTION:SIGN UP\nTUNE IN \nSunday\, March 19\, 2023\n6:00pm – 7:00pm PDT \nA powerful meditation led by Shaman Durek with transcendent sounds produced by Natalia Alava to activate your inner power for deep healing with your animal spirit. The tribal elders of the world will step in to bring you life-giving energy that will awaken you to your deeper knowing with your spirit guide. Meet and connect with the spring goddess Astara who will lift your spirit and bring in beautiful gifts into your life. \nDress comfortably and bring yoga mat and blanket. \nIn Person at RA MA Los Angeles\nVirtually on RA MA TV + Infinite Replay
URL:https://ramayogainstitute.com/event/journey-to-the-jungle-meditation-with-shaman-durek/
LOCATION:Online
CATEGORIES:In Person,Pay Per View Workshops
ATTACH;FMTTYPE=image/jpeg:https://ramayogainstitute.com/wp-content/uploads/2023/02/Shaman-durek-major.jpg
END:VEVENT
END:VCALENDAR