BEGIN:VCALENDAR
VERSION:2.0
PRODID:-//RA MA LIFE - ECPv6.15.15//NONSGML v1.0//EN
CALSCALE:GREGORIAN
METHOD:PUBLISH
X-ORIGINAL-URL:https://ramayogainstitute.com
X-WR-CALDESC:Events for RA MA LIFE
REFRESH-INTERVAL;VALUE=DURATION:PT1H
X-Robots-Tag:noindex
X-PUBLISHED-TTL:PT1H
BEGIN:VTIMEZONE
TZID:America/Los_Angeles
BEGIN:DAYLIGHT
TZOFFSETFROM:-0800
TZOFFSETTO:-0700
TZNAME:PDT
DTSTART:20220313T100000
END:DAYLIGHT
BEGIN:STANDARD
TZOFFSETFROM:-0700
TZOFFSETTO:-0800
TZNAME:PST
DTSTART:20221106T090000
END:STANDARD
BEGIN:DAYLIGHT
TZOFFSETFROM:-0800
TZOFFSETTO:-0700
TZNAME:PDT
DTSTART:20230312T100000
END:DAYLIGHT
BEGIN:STANDARD
TZOFFSETFROM:-0700
TZOFFSETTO:-0800
TZNAME:PST
DTSTART:20231105T090000
END:STANDARD
BEGIN:DAYLIGHT
TZOFFSETFROM:-0800
TZOFFSETTO:-0700
TZNAME:PDT
DTSTART:20240310T100000
END:DAYLIGHT
BEGIN:STANDARD
TZOFFSETFROM:-0700
TZOFFSETTO:-0800
TZNAME:PST
DTSTART:20241103T090000
END:STANDARD
END:VTIMEZONE
BEGIN:VEVENT
DTSTART;TZID=America/Los_Angeles:20230307T110000
DTEND;TZID=America/Los_Angeles:20230307T120000
DTSTAMP:20260423T083822
CREATED:20220730T013956Z
LAST-MODIFIED:20230302T191404Z
UID:1740653-1678186800-1678190400@ramayogainstitute.com
SUMMARY:Full Moon Prosperity Meditation with Malyvahn
DESCRIPTION:TUNE IN\nJoin us for this special new series “Prosperity Hour.” These practices will brighten your day and expand the aura in all directions unlocking your hidden treasures. Invest an hour to charge up and experience your power to set a projection that lasts. Health\, Wealth\, Happiness. Thank you. \nMalyvahn studied with Tej & Harijiwan. Kundalini Yoga and Meditation was a lighting fast practice for her self growth and healing. An entrepreneur at heart. Her goal is to hold a healing space\, guided by the teachings\, where each student can reach their highest bliss of prosperity!
URL:https://ramayogainstitute.com/event/prosperity-hour-with-malyvahn-2022-10-04-2023-03-07/
LOCATION:Online
CATEGORIES:In Person,RA MA TV Live
ATTACH;FMTTYPE=image/jpeg:https://ramayogainstitute.com/wp-content/uploads/2022/01/Malyvahn-6.jpg
END:VEVENT
BEGIN:VEVENT
DTSTART;TZID=America/Los_Angeles:20230307T190000
DTEND;TZID=America/Los_Angeles:20230307T203000
DTSTAMP:20260423T083822
CREATED:20230104T211248Z
LAST-MODIFIED:20230307T022243Z
UID:1763103-1678215600-1678221000@ramayogainstitute.com
SUMMARY:Full Moon in Virgo with Harijiwan
DESCRIPTION:SIGN UP\nTUNE IN\nHarijiwan has been teaching Kundalini Yoga since 1975. He is the founder of the GRAMMY®-Award-Winning band\, White Sun. With over 44 years of experience in the science of Kundalini Yoga\, Harijiwan incorporates a vast knowledge of various methodologies and training into his practice. Today\, and throughout his years as a teacher and healer\, Harijiwan remains committed to expanding his knowledge and experience to provide his students with the most progressive\, effective\, self-empowering approaches that increase overall joy and wholeness within the context of everyday experiences.
URL:https://ramayogainstitute.com/event/full-moon-in-virgo-harijiwan-3-7-23/
LOCATION:Online
CATEGORIES:In Person,Pay Per View Workshops
ATTACH;FMTTYPE=image/jpeg:https://ramayogainstitute.com/wp-content/uploads/2022/12/L1050856_Harijiwan-RA-MA-TV.jpg
END:VEVENT
BEGIN:VEVENT
DTSTART;TZID=America/Los_Angeles:20230308T080000
DTEND;TZID=America/Los_Angeles:20230308T090000
DTSTAMP:20260423T083822
CREATED:20230302T194053Z
LAST-MODIFIED:20230306T232929Z
UID:1777765-1678262400-1678266000@ramayogainstitute.com
SUMMARY:The Badass That You Are with Anne V
DESCRIPTION:TUNE IN\nAnne V is a fashion model\, mom and yogi based in New York City. She has trained as a teacher and studied kundalini at RAMA yoga Institute for Applied Science and Technology with Guru Jagat\, Harijiwan and Tej. Her classes are inspired by her own journey. “This practice gives me the ability to handle life. We are here to experience our potential ….full of power\, ease and radiance. After all happiness is our birth right.”
URL:https://ramayogainstitute.com/event/kundalini-yoga-meditation-with-anne-v-3/
LOCATION:RA MA New York & Online
CATEGORIES:In Person,RA MA TV Live
ATTACH;FMTTYPE=image/jpeg:https://ramayogainstitute.com/wp-content/uploads/2022/05/Anne-V.jpg
END:VEVENT
BEGIN:VEVENT
DTSTART;TZID=America/Los_Angeles:20230308T110000
DTEND;TZID=America/Los_Angeles:20230308T120000
DTSTAMP:20260423T083822
CREATED:20211217T191549Z
LAST-MODIFIED:20230306T231323Z
UID:1742169-1678273200-1678276800@ramayogainstitute.com
SUMMARY:Women as Grace Marta Ulbricht
DESCRIPTION:Learn More & Tune In \n 
URL:https://ramayogainstitute.com/event/marta-ulbricht-kundalini-12-22-21-2022-08-17-2022-08-31-2023-03-08/
LOCATION:Online
CATEGORIES:In Person,RA MA TV Live
ATTACH;FMTTYPE=image/jpeg:https://ramayogainstitute.com/wp-content/uploads/2021/12/Marta-Ulbricht.jpg
END:VEVENT
BEGIN:VEVENT
DTSTART;TZID=America/Los_Angeles:20230308T173000
DTEND;TZID=America/Los_Angeles:20230308T184500
DTSTAMP:20260423T083822
CREATED:20230106T004156Z
LAST-MODIFIED:20230306T235214Z
UID:1763783-1678296600-1678301100@ramayogainstitute.com
SUMMARY:WOMAN: Creativity\, Power\, Grace with Jen Saltiel
DESCRIPTION:TUNE IN\nEnhance your pranic capacity and mental strength to stay steady\, solid\, and well positioned for your highest destiny and ultimate fulfillment. \nJen Saltiel has been practicing and working with the Kundalini Yoga technology since 2012. As a devout student of Guru Jagat’s and member of RA MA Institute Global team\, she has a deep connection with the teachings and genuine love and desire to deliver them to the world. Her classes are clear\, uplifting\, rhythmic\, and meditative.
URL:https://ramayogainstitute.com/event/beam-with-jen-2023-03-20/
LOCATION:Online
CATEGORIES:In Person,RA MA TV Live
ATTACH;FMTTYPE=image/jpeg:https://ramayogainstitute.com/wp-content/uploads/2021/08/Jen-Saltiel.jpeg
END:VEVENT
BEGIN:VEVENT
DTSTART;TZID=America/Los_Angeles:20230309T080000
DTEND;TZID=America/Los_Angeles:20230309T093000
DTSTAMP:20260423T083822
CREATED:20230302T200234Z
LAST-MODIFIED:20230302T200234Z
UID:1777774-1678348800-1678354200@ramayogainstitute.com
SUMMARY:Metabolism Reboot with Rebecca Underdown
DESCRIPTION:TUNE IN\nJoin us for this 4 class series designed to detox the winter body\, fire up the metabolism and turn negative health habits into sustainable positive ones. \nMarch 2nd- “Everything is Chemical”- Strengthen Your Hormonal Secretions for a healthy\, happy body \nMarch 9th- “Get On Up” Awaken Your Metabolism Strength for weight loss \nMarch 16th- “Overcome Your Weaknesses” Release addictive behaviors and experience your most confident self \nMarch 23rd- “Knowing Is Your Victory Path ” Loving your perfectly imperfect body for a higher than human experience.
URL:https://ramayogainstitute.com/event/metabolism-reboot-with-rebecca-underdown-2/
LOCATION:RA MA New York & Online
CATEGORIES:In Person,RA MA TV Live
ATTACH;FMTTYPE=image/jpeg:https://ramayogainstitute.com/wp-content/uploads/2022/12/Rebecca-Underdown.jpg
END:VEVENT
BEGIN:VEVENT
DTSTART;TZID=America/Los_Angeles:20230310T090000
DTEND;TZID=America/Los_Angeles:20230310T110000
DTSTAMP:20260423T083822
CREATED:20230307T001756Z
LAST-MODIFIED:20230307T004639Z
UID:1778594-1678438800-1678446000@ramayogainstitute.com
SUMMARY:Business School: The New Paradigm with Mandev
DESCRIPTION:TUNE IN\nSIGN UP FOR RA MA BUSINESS SCHOOL\nRA MA Business School brings together Kundalini Yoga & Meditation\, business how-to\, prosperity technologies\, and a roster of high-impact individuals in the business\, finance\, and leadership sectors for an unparalleled experience. \nOver 2 days\, you will gain practical tools and clear action steps from a variety of viewpoints and modalities to leave you with both the vision and know-how to create the life of wealth\, joy\, and purpose you want.
URL:https://ramayogainstitute.com/event/business-school-the-new-paradigm-with-mandev/
LOCATION:Online
CATEGORIES:In Person,RA MA TV Live
ATTACH;FMTTYPE=image/jpeg:https://ramayogainstitute.com/wp-content/uploads/2023/03/Mandev-RA-MA-Business-School.jpg
END:VEVENT
BEGIN:VEVENT
DTSTART;TZID=America/Los_Angeles:20230310T090000
DTEND;TZID=America/Los_Angeles:20230310T180000
DTSTAMP:20260423T083822
CREATED:20230224T200520Z
LAST-MODIFIED:20230224T200520Z
UID:1776325-1678438800-1678471200@ramayogainstitute.com
SUMMARY:RA MA Business School Day 1
DESCRIPTION:LEARN MORE\nSIGN UP\nDiscover the nuance\, opportunity\, and possibility of The New Paradigm in the next RA MA Business School. \n\n\n\n\n\n\nRA MA Business School brings together Kundalini Yoga & Meditation\, business how-to\, prosperity technologies\, and a roster of high-impact individuals in the business\, finance\, and leadership sectors for an unparalleled experience. \nOver 2 days\, you will gain practical tools and clear action steps from a variety of viewpoints and modalities to leave you with both the vision and know-how to create the life of wealth\, joy\, and purpose you want.
URL:https://ramayogainstitute.com/event/ra-ma-business-school-day-1/
LOCATION:Online
CATEGORIES:Courses & Events,In Person
ATTACH;FMTTYPE=image/jpeg:https://ramayogainstitute.com/wp-content/uploads/2023/02/Teal-Galaxy.jpg
END:VEVENT
BEGIN:VEVENT
DTSTART;TZID=America/Los_Angeles:20230311T090000
DTEND;TZID=America/Los_Angeles:20230311T180000
DTSTAMP:20260423T083822
CREATED:20230224T200641Z
LAST-MODIFIED:20230224T200641Z
UID:1776327-1678525200-1678557600@ramayogainstitute.com
SUMMARY:RA MA Business School Day 2
DESCRIPTION:LEARN MORE\nSIGN UP\nDiscover the nuance\, opportunity\, and possibility of The New Paradigm in the next RA MA Business School. \n\n\n\n\n\n\nRA MA Business School brings together Kundalini Yoga & Meditation\, business how-to\, prosperity technologies\, and a roster of high-impact individuals in the business\, finance\, and leadership sectors for an unparalleled experience. \nOver 2 days\, you will gain practical tools and clear action steps from a variety of viewpoints and modalities to leave you with both the vision and know-how to create the life of wealth\, joy\, and purpose you want.
URL:https://ramayogainstitute.com/event/ra-ma-business-school-day-2/
LOCATION:Online
CATEGORIES:Courses & Events,In Person
ATTACH;FMTTYPE=image/jpeg:https://ramayogainstitute.com/wp-content/uploads/2023/02/Teal-Galaxy.jpg
END:VEVENT
BEGIN:VEVENT
DTSTART;TZID=America/Los_Angeles:20230311T190000
DTEND;TZID=America/Los_Angeles:20230311T210000
DTSTAMP:20260423T083822
CREATED:20230307T223856Z
LAST-MODIFIED:20230309T034012Z
UID:1779443-1678561200-1678568400@ramayogainstitute.com
SUMMARY:Live Kirtan with Govind Das and Jacqueline
DESCRIPTION:SIGN UP\nTUNE IN\nKirtan is an ancient bhakti yoga practice using chanting\, mantra\, and music as an expression of our devotion and heartfelt prayer. \nExperience this live Kirtan presented by Bhakti Yoga Shala\, led and directed by husband-wife team Govind Das and Jacqueline\, who aim to spread the practice of bhakti around the world. At the Shala\, teachings of the great saint Neem Karoli Baba are followed\, who celebrated all Gods as one. Anyone and everyone is welcome\, and we are happy to serve you on your spiritual journey.
URL:https://ramayogainstitute.com/event/live-kirtan-with-govind-das-and-jacqueline/
LOCATION:Online
CATEGORIES:In Person,Pay Per View Workshops
ATTACH;FMTTYPE=image/jpeg:https://ramayogainstitute.com/wp-content/uploads/2023/02/live-kirtan-cal-event.jpg
END:VEVENT
BEGIN:VEVENT
DTSTART;TZID=America/Los_Angeles:20230312T140000
DTEND;TZID=America/Los_Angeles:20230312T150000
DTSTAMP:20260423T083822
CREATED:20230309T035045Z
LAST-MODIFIED:20230309T035046Z
UID:1779787-1678629600-1678633200@ramayogainstitute.com
SUMMARY:Prosperity High Meditation with Shaman Durek
DESCRIPTION:SIGN UP\nTUNE IN\nJoin Shaman Durek for a shamanic meditation with transcendent sounds created by Natalia Alava to align your multi-dimensional self with the current of prosperity. \nMoney and prosperity open the doorway to joy and receiving. This is a pleasure center activation to increase wealth and prosperity and all things abundance in your life. Activate your relationship with money and remove negative feelings around it. When you come to this meditation you will have your magnetic centers open and activated and you will feel in flow with money and kinetic currency. \nDress comfortably and bring a yoga mat and blanket. \nIn Person at RA MA Los Angeles\nVirtually on RA MA TV + Infinite Replay
URL:https://ramayogainstitute.com/event/prosperity-high-meditation-with-shaman-durek/
LOCATION:Online
CATEGORIES:In Person,Pay Per View Workshops
ATTACH;FMTTYPE=image/jpeg:https://ramayogainstitute.com/wp-content/uploads/2023/02/Shaman-durek-major.jpg
END:VEVENT
END:VCALENDAR