BEGIN:VCALENDAR
VERSION:2.0
PRODID:-//RA MA LIFE - ECPv6.15.15//NONSGML v1.0//EN
CALSCALE:GREGORIAN
METHOD:PUBLISH
X-ORIGINAL-URL:https://ramayogainstitute.com
X-WR-CALDESC:Events for RA MA LIFE
REFRESH-INTERVAL;VALUE=DURATION:PT1H
X-Robots-Tag:noindex
X-PUBLISHED-TTL:PT1H
BEGIN:VTIMEZONE
TZID:America/Los_Angeles
BEGIN:DAYLIGHT
TZOFFSETFROM:-0800
TZOFFSETTO:-0700
TZNAME:PDT
DTSTART:20220313T100000
END:DAYLIGHT
BEGIN:STANDARD
TZOFFSETFROM:-0700
TZOFFSETTO:-0800
TZNAME:PST
DTSTART:20221106T090000
END:STANDARD
BEGIN:DAYLIGHT
TZOFFSETFROM:-0800
TZOFFSETTO:-0700
TZNAME:PDT
DTSTART:20230312T100000
END:DAYLIGHT
BEGIN:STANDARD
TZOFFSETFROM:-0700
TZOFFSETTO:-0800
TZNAME:PST
DTSTART:20231105T090000
END:STANDARD
BEGIN:DAYLIGHT
TZOFFSETFROM:-0800
TZOFFSETTO:-0700
TZNAME:PDT
DTSTART:20240310T100000
END:DAYLIGHT
BEGIN:STANDARD
TZOFFSETFROM:-0700
TZOFFSETTO:-0800
TZNAME:PST
DTSTART:20241103T090000
END:STANDARD
END:VTIMEZONE
BEGIN:VEVENT
DTSTART;TZID=America/Los_Angeles:20230222T190000
DTEND;TZID=America/Los_Angeles:20230222T201500
DTSTAMP:20260423T083819
CREATED:20220903T013500Z
LAST-MODIFIED:20230220T002512Z
UID:1749614-1677092400-1677096900@ramayogainstitute.com
SUMMARY:Divine Feminine Activation with Iram
DESCRIPTION:TUNE IN \nJoin Iram for a deeply embodied kundalini yoga class followed by a powerful activation using three special mantras that hold the frequency of the divine feminine. \nAbout The Teacher\nIram first encountered Kundalini Yoga in 2016 in New York City\, where she studied with Hari Kaur. She immediately became passionate about the teachings\, experiencing their power in healing her anxiety\, and was soon teaching at a studio in New York. Since moving to Los Angeles\, she has been studying with Guru Jagat and teaching Kundalini at UCLA Anderson School of Management. Outside of her passion for spreading Yogi Bhajanu2019s teachings of Kundalini Yoga\, Iram is a student at UCLA Anderson and a leader at Light CoCreative\, a social innovation and impact consultancy\, where her long-term goal is to bring Kundalini Yoga to the business world through corporate wellness programming. Iram is also a student of Daoist feminine embodiment teachings and has found her own personal practice to thrive from the integration of Kundalini Yoga and feminine embodiment practices\, which include womb breathing and visualization techniques\, that she incorporates into her classes. \n 
URL:https://ramayogainstitute.com/event/embodying-success-with-iram-2022-11-09-2023-02-22/
LOCATION:Online
CATEGORIES:In Person,RA MA TV Live
ATTACH;FMTTYPE=image/jpeg:https://ramayogainstitute.com/wp-content/uploads/2022/02/iram-video-collection-hero-image.jpg
END:VEVENT
BEGIN:VEVENT
DTSTART;TZID=America/Los_Angeles:20230223T080000
DTEND;TZID=America/Los_Angeles:20230223T093000
DTSTAMP:20260423T083819
CREATED:20230201T040306Z
LAST-MODIFIED:20230214T225154Z
UID:1770380-1677139200-1677144600@ramayogainstitute.com
SUMMARY:Love: The Victory Current
DESCRIPTION:TUNE IN ON RA MA TV LIVE\n\nJoin Rebecca Underdown on Thursdays for a love & relationship kundalini series. \nFebruary 2\, 2023  Breaking Up With Addictive Patterns\nFebruary 9\, 2023 The Infinity Relationship\nFebruary 16\, 2023 Love: The Greatest Location on Earth\nFebruary 23\, 2023 Giver and Receiver: Understand Your Auric Power \n\n\nRebecca Underdown began practicing Kundalini yoga in 2000 and studying with Tej\, Harijiwan and Guru Jagat in 2015. Rebecca holds a BA in Eastern Religions from Boston University and a Masters Degree in Chinese Acupuncture & Herbal Medicine. She is the founder of the skincare company Veridatta.
URL:https://ramayogainstitute.com/event/love-the-victory-current-2023-02-23/
LOCATION:RA MA New York & Online
CATEGORIES:In Person,RA MA TV Live
ATTACH;FMTTYPE=image/jpeg:https://ramayogainstitute.com/wp-content/uploads/2022/12/Rebecca-Underdown.jpg
END:VEVENT
BEGIN:VEVENT
DTSTART;TZID=America/Los_Angeles:20230224T173000
DTEND;TZID=America/Los_Angeles:20230224T184500
DTSTAMP:20260423T083819
CREATED:20230214T225947Z
LAST-MODIFIED:20230304T015951Z
UID:1773538-1677259800-1677264300@ramayogainstitute.com
SUMMARY:EXCEL with Atma Santokh
DESCRIPTION:TUNE IN\nYou can win at life. You can win in every moment. You can choose your brightest destiny. Prep your mind body system to excel with Kundalini Yoga & Meditation\, taught lovingly by Atma Santokh. \nSpending time with Atma Santokh is an invitation into joyful integration of the vast perfection of Spirit into this faceted human vehicle\, arriving home in rich and rising expression Me. Experience challenging mudras\, deep mantra selections\, and transformative meditation experiences with practical\, engaging\, and down-to-earth verbiage to express the deep love he has for\, and practical application of\, the Kundalini Yoga teachings and techniques.
URL:https://ramayogainstitute.com/event/excel-with-atma-santokh-3/2023-02-24/
LOCATION:Online
CATEGORIES:In Person,RA MA TV Live
ATTACH;FMTTYPE=image/jpeg:https://ramayogainstitute.com/wp-content/uploads/2022/12/Elevated-Aliveness-Atma-Santokh-Bundle-Banner.jpg
END:VEVENT
BEGIN:VEVENT
DTSTART;TZID=America/Los_Angeles:20230225T090000
DTEND;TZID=America/Los_Angeles:20230225T103000
DTSTAMP:20260423T083819
CREATED:20211209T010530Z
LAST-MODIFIED:20230302T194903Z
UID:1735925-1677315600-1677321000@ramayogainstitute.com
SUMMARY:Kundalini Yoga & Meditation with Shabadpreet
DESCRIPTION:Shabadpreet is the CEO of RA MA Institute for Applied Yogic Science and Technology with locations in Los Angeles\, California; Mallorca\, Spain; New York City\, and virtually on RA MA TV. \nWith the passing of Guru Jagat\, Shabadpreet continues RA MA’s Mission as a crossroads of consciousness\, wellbeing\, and creation-culture. Known for her healing approach\, Shabadpreet can also be found teaching in our Kundalini Trainings and in our three Global Women’s Programs. \nShabadpreet’s classes are fun\, meditative\, and deeply healing and provide a variety of tools that you can take into your daily life. \nYou can book private sessions with Shabadpreet here. \nTUNE IN
URL:https://ramayogainstitute.com/event/shabadpreet-kundalini-12-11-21-2022-01-08-2022-01-15-2022-05-21-2022-05-28-2023-02-25/
LOCATION:Online
CATEGORIES:Community Content,In Person,RA MA TV Live
ATTACH;FMTTYPE=image/jpeg:https://ramayogainstitute.com/wp-content/uploads/2022/05/Shabadpreet-Calendar-Icon.jpg
END:VEVENT
BEGIN:VEVENT
DTSTART;TZID=America/Los_Angeles:20230225T180000
DTEND;TZID=America/Los_Angeles:20230225T200000
DTSTAMP:20260423T083819
CREATED:20230216T195042Z
LAST-MODIFIED:20230224T065857Z
UID:1773905-1677348000-1677355200@ramayogainstitute.com
SUMMARY:Live Kirtan with Govind Das & Jacqueline
DESCRIPTION:SIGN UP\n\nTUNE IN\nSaturday\, February 25\, 2023 \n6:00pm – 8:00pm PST \nIn-Person at RA MA Los Angeles\nVirtually on RA MA TV with 48 hour replay
URL:https://ramayogainstitute.com/event/live-kirtan-with-govind-das-jacqueline-2/
LOCATION:Online
CATEGORIES:In Person,Pay Per View Workshops
ATTACH;FMTTYPE=image/jpeg:https://ramayogainstitute.com/wp-content/uploads/2023/02/live-kirtan-cal-event.jpg
END:VEVENT
BEGIN:VEVENT
DTSTART;TZID=America/Los_Angeles:20230226T090000
DTEND;TZID=America/Los_Angeles:20230226T103000
DTSTAMP:20260423T083819
CREATED:20230104T211248Z
LAST-MODIFIED:20230221T230014Z
UID:1763144-1677402000-1677407400@ramayogainstitute.com
SUMMARY:Kundalini Yoga & Meditation with Gurujas
DESCRIPTION:TUNE IN on RA MA TV LIVE \nGurujas is a kundalini yoga teacher and a singer\, songwriter\, and musician. She has gained a worldwide reputation as the lead singer of White Sun\, a Grammy®-award winning band\, and a Billboard #1 artist. As a kundalini yoga teacher\, she is known as being intensely devoted to the accuracy of the teachings\, as well as incorporating contemporary science and practical every-day applications. As a singer\, she is known for her distinctive vocals\, her ethereal live performances\, and her ability to heal through song.
URL:https://ramayogainstitute.com/event/kundalini-yoga-meditation-with-gurujas-2-2023-02-26/
LOCATION:Online
CATEGORIES:In Person,RA MA TV Live
ATTACH;FMTTYPE=image/jpeg:https://ramayogainstitute.com/wp-content/uploads/2021/10/Gurujas-7.jpg
END:VEVENT
BEGIN:VEVENT
DTSTART;TZID=America/Los_Angeles:20230226T130000
DTEND;TZID=America/Los_Angeles:20230226T150000
DTSTAMP:20260423T083819
CREATED:20230213T232705Z
LAST-MODIFIED:20230224T065935Z
UID:1773214-1677416400-1677423600@ramayogainstitute.com
SUMMARY:Kundalini Yoga for Actors with Alexis Krause
DESCRIPTION:SIGN UP\nTUNE IN\n\nAmplify Your Radiance\, Upgrade Your Projection & Get Booked \nA Workshop with Alexis Krause \nThe job of an actor isn’t just to act. It’s also to carry an aura that can hold the level of success one truly desires. Much of the actor’s time is spent in between jobs or in between set ups. So…why not spend that time building the radiant body to create more opportunities\, learn to take advantage of those opportunities\, become fearless\, learn how to stay calm when the pressure is on\, and gain enough energy in the system so that your energy not only lights up a room but lights up on screen? \nThis is the Kundalini Yoga experience. \n-Expand your aura\n-Strengthen your radiant body\n-Become more magnetic\n-Experience a yoga set to help with memorization\n-Harness your fearlessness\n-Calm the nerves\n-Shine from within\n-Enjoy the process
URL:https://ramayogainstitute.com/event/kundalini-yoga-for-actors-with-alexis-krause/
LOCATION:Online
CATEGORIES:In Person,Pay Per View Workshops
ATTACH;FMTTYPE=image/jpeg:https://ramayogainstitute.com/wp-content/uploads/2022/11/Alexis-Krause-Di-Salvo-2.jpg
END:VEVENT
BEGIN:VEVENT
DTSTART;TZID=America/Los_Angeles:20230226T180000
DTEND;TZID=America/Los_Angeles:20230226T190000
DTSTAMP:20260423T083819
CREATED:20230221T230030Z
LAST-MODIFIED:20230224T065805Z
UID:1775159-1677434400-1677438000@ramayogainstitute.com
SUMMARY:Pleiadian Activation Meditation with Shaman Durek
DESCRIPTION:SIGN UP\nTUNE IN\nSunday\, February 26\, 2023 \n6:00pm – 7:00pm PST | 9:00pm – 10:00pm EST | 3:00am – 4:00am CET \nThis meditation with Shaman Durek is for integrating your light grids and opening up your Ascension body. It is part of a new series happening on select Sundays at RA MA Los Angeles and streamed virtually on RA MA TV.
URL:https://ramayogainstitute.com/event/pleiadian-activation-meditation-with-shaman-durek/
LOCATION:Online
CATEGORIES:In Person,Pay Per View Workshops
ATTACH;FMTTYPE=image/jpeg:https://ramayogainstitute.com/wp-content/uploads/2023/02/Shaman-durek-major.jpg
END:VEVENT
END:VCALENDAR