BEGIN:VCALENDAR
VERSION:2.0
PRODID:-//RA MA LIFE - ECPv6.15.15//NONSGML v1.0//EN
CALSCALE:GREGORIAN
METHOD:PUBLISH
X-WR-CALNAME:RA MA LIFE
X-ORIGINAL-URL:https://ramayogainstitute.com
X-WR-CALDESC:Events for RA MA LIFE
REFRESH-INTERVAL;VALUE=DURATION:PT1H
X-Robots-Tag:noindex
X-PUBLISHED-TTL:PT1H
BEGIN:VTIMEZONE
TZID:America/Los_Angeles
BEGIN:DAYLIGHT
TZOFFSETFROM:-0800
TZOFFSETTO:-0700
TZNAME:PDT
DTSTART:20220313T100000
END:DAYLIGHT
BEGIN:STANDARD
TZOFFSETFROM:-0700
TZOFFSETTO:-0800
TZNAME:PST
DTSTART:20221106T090000
END:STANDARD
BEGIN:DAYLIGHT
TZOFFSETFROM:-0800
TZOFFSETTO:-0700
TZNAME:PDT
DTSTART:20230312T100000
END:DAYLIGHT
BEGIN:STANDARD
TZOFFSETFROM:-0700
TZOFFSETTO:-0800
TZNAME:PST
DTSTART:20231105T090000
END:STANDARD
BEGIN:DAYLIGHT
TZOFFSETFROM:-0800
TZOFFSETTO:-0700
TZNAME:PDT
DTSTART:20240310T100000
END:DAYLIGHT
BEGIN:STANDARD
TZOFFSETFROM:-0700
TZOFFSETTO:-0800
TZNAME:PST
DTSTART:20241103T090000
END:STANDARD
END:VTIMEZONE
BEGIN:VEVENT
DTSTART;TZID=America/Los_Angeles:20230214T170000
DTEND;TZID=America/Los_Angeles:20230214T210000
DTSTAMP:20260423T213633
CREATED:20230209T000821Z
LAST-MODIFIED:20230209T022438Z
UID:1772265-1676394000-1676408400@ramayogainstitute.com
SUMMARY:RA MA Presents: All Roads Lead to Love
DESCRIPTION:SIGN UP\nRA MA Presents \nAll Roads Lead to Love\nA Valentine’s Day evening of cosmic love Astrology\, insights from a matchmaker\, and heart-opening Kundalini Yoga & Meditation \nTuesday\, February 14\, 2023\n5:00pm-9:00pm PST \n$50 in advance\, $55 day of\nFeaturing Mandev & Harijiwan\, Soniyah Singh\, Tashi Powers\, & Jen Saltiel \nIn-Person at RA MA Los Angeles & Virtually on RA MA TV with infinite replay \nTHE LINEUP: \n5:00pm – 6:00pm PST \nFinding Your Love Signature: Astrology with Tashi Powers \nTurn on your Mars\, the scout of the Soul and tune into the best mate for your Love Journey. There is an 8 out of 8 potential romantic love score using houses\, planets and signs of the YIN and YANG signatures in your chart. This class will help you pinpoint your Love Signature. \nLocate your Sun and Moon\, as well as your Venus and Mars\, and learn the secret sauce for finding what to look for in a compatible partner. You will need your phone\, time\, place and date of birth. \n6:00pm – 7:00pm PST \nBe The Love You Want \nTuning into the Frequency of Higher Love \nAn interview with Love Researcher & Empowered Matchmaker\, Soniyah Singh & Jen Saltiel  \nJoin Jen Saltiel in conversation with Soniyah Singh\, a Love Researcher\, Empowered Matchmaker\, Relationship Coach and a guide for over 15 years. Her life’s calling is to help people be the Love they want and create the Love they want. She works with singles and couples of all ages\, orientations\, and backgrounds. \nThrough her years in practice and research she has found that the medicine of Love and Compassion can heal conscious and unconscious barriers to Love\, Relationships\, Intimacy and Pleasure. She has seen over and over again that Love is Inevitable\, if you are willing to do\, what she calls\, the Heartwork. \n7:00pm – 9:00pm PST \nLove is Love: A Valentine’s Day Kundalini Yoga\, Meditation\, & Gong Workshop with Mandev & Harijiwan  \nExperience your highest love-frequency and the magnitude of your heart space in a special Valentine’s Day workshop with Harijiwan and Mandev. Elevate to be the source of love that you desire\, and immerse yourself in the vast expanse of the high-frequency realm of love. \n 
URL:https://ramayogainstitute.com/event/all-roads-lead-to-love/
LOCATION:Online
CATEGORIES:In Person,Pay Per View Workshops
ATTACH;FMTTYPE=image/jpeg:https://ramayogainstitute.com/wp-content/uploads/2022/02/ValentinesThumbnail.jpg
END:VEVENT
BEGIN:VEVENT
DTSTART;TZID=America/Los_Angeles:20230217T183000
DTEND;TZID=America/Los_Angeles:20230217T203000
DTSTAMP:20260423T213633
CREATED:20220723T032349Z
LAST-MODIFIED:20230217T044658Z
UID:1752541-1676658600-1676665800@ramayogainstitute.com
SUMMARY:Accessing Past Lives and Future Lives with Shaman Durek
DESCRIPTION:SIGN UP\nAccessing past lives and future lives with Shaman Durek \nA beautifully orchestrated workshop on traveling to the past or the possible future. \nYou will: \n– Remember what shamanic traveling is\n– Remember how to release without mental attachment\n– Remember how to understand what the past has to do with you now\n– Remember why the vessel holds many spirits \nPlease have a yoga mat or cushion to sit on\, writing material\, a warm blanket\, some water\, and a good attitude for remembering.
URL:https://ramayogainstitute.com/event/past-future-lives-shaman-durek-2-17-23/
LOCATION:Online
CATEGORIES:In Person,Pay Per View Workshops
ATTACH;FMTTYPE=image/jpeg:https://ramayogainstitute.com/wp-content/uploads/2023/02/Shaman-Durek.jpg
END:VEVENT
BEGIN:VEVENT
DTSTART;TZID=America/Los_Angeles:20230218T090000
DTEND;TZID=America/Los_Angeles:20230218T180000
DTSTAMP:20260423T213633
CREATED:20230206T170821Z
LAST-MODIFIED:20230209T002024Z
UID:1771514-1676710800-1676743200@ramayogainstitute.com
SUMMARY:Immense Grace: Intuition
DESCRIPTION:SIGN UP\nIN PERSON\nIntuition is your higher guidance system that draws on the information of the universe operating optimally as a whole. Without intuition\, your perspective\, thoughts\, and decisions are based on information that is limited by what you can see and observe with your physical senses. \nIntuition is connected to the wisdom and magic of our interconnected Universe\, and feeds you guidance that leads you to the most fulfilling\, successful\, and purpose-filled life far beyond your logical conception. \nLive from RA MA Los Angeles & Virtually on RA MA TV.
URL:https://ramayogainstitute.com/event/intuition-2-18-2023/
LOCATION:Online
CATEGORIES:Courses & Events,In Person
ATTACH;FMTTYPE=image/jpeg:https://ramayogainstitute.com/wp-content/uploads/2023/02/rama-intuition-hero-banner-mandev.jpg
END:VEVENT
BEGIN:VEVENT
DTSTART;TZID=America/Los_Angeles:20230218T160000
DTEND;TZID=America/Los_Angeles:20230218T180000
DTSTAMP:20260423T213633
CREATED:20230218T030444Z
LAST-MODIFIED:20230218T052554Z
UID:1774311-1676736000-1676743200@ramayogainstitute.com
SUMMARY:Long Mul Mantra & Mahan Jaap with Harijiwan & Mandev
DESCRIPTION:SIGN UP\nTUNE IN\nSaturday\, February 18\, 2023 \n4:00pm – 6:00pm PST | 7:00pm – 9:00pm EST | 1:00am – 3:00am CET \n$50 In Advance\, $55 Day of \nVirtually on RA MA TV or In Person @ RA MA Los Angeles
URL:https://ramayogainstitute.com/event/long-mul-mantra-mahan-jaap-with-harijiwan-mandev/
LOCATION:Online
CATEGORIES:In Person,Pay Per View Workshops
ATTACH;FMTTYPE=image/jpeg:https://ramayogainstitute.com/wp-content/uploads/2022/07/Mandev-Harijiwan-7.4.22.jpg
END:VEVENT
BEGIN:VEVENT
DTSTART;TZID=America/Los_Angeles:20230219T130000
DTEND;TZID=America/Los_Angeles:20230219T150000
DTSTAMP:20260423T213633
CREATED:20230209T021357Z
LAST-MODIFIED:20230219T193323Z
UID:1772365-1676811600-1676818800@ramayogainstitute.com
SUMMARY:New Moon in Pisces with Harijiwan
DESCRIPTION:SIGN UP\nTUNE IN\nHarijiwan has been teaching Kundalini Yoga since 1975. He is the founder of the GRAMMY®-Award-Winning band\, White Sun. With over 44 years of experience in the science of Kundalini Yoga\, Harijiwan incorporates a vast knowledge of various methodologies and training into his practice. Today\, and throughout his years as a teacher and healer\, Harijiwan remains committed to expanding his knowledge and experience to provide his students with the most progressive\, effective\, self-empowering approaches that increase overall joy and wholeness within the context of everyday experiences.
URL:https://ramayogainstitute.com/event/new-moon-in-pisces-with-harijiwan-2-19-2023/
LOCATION:Online
CATEGORIES:In Person,Pay Per View Workshops
ATTACH;FMTTYPE=image/jpeg:https://ramayogainstitute.com/wp-content/uploads/2023/01/Harijiwan-France.jpg
END:VEVENT
END:VCALENDAR