BEGIN:VCALENDAR
VERSION:2.0
PRODID:-//RA MA LIFE - ECPv6.15.15//NONSGML v1.0//EN
CALSCALE:GREGORIAN
METHOD:PUBLISH
X-ORIGINAL-URL:https://ramayogainstitute.com
X-WR-CALDESC:Events for RA MA LIFE
REFRESH-INTERVAL;VALUE=DURATION:PT1H
X-Robots-Tag:noindex
X-PUBLISHED-TTL:PT1H
BEGIN:VTIMEZONE
TZID:America/Los_Angeles
BEGIN:DAYLIGHT
TZOFFSETFROM:-0800
TZOFFSETTO:-0700
TZNAME:PDT
DTSTART:20220313T100000
END:DAYLIGHT
BEGIN:STANDARD
TZOFFSETFROM:-0700
TZOFFSETTO:-0800
TZNAME:PST
DTSTART:20221106T090000
END:STANDARD
BEGIN:DAYLIGHT
TZOFFSETFROM:-0800
TZOFFSETTO:-0700
TZNAME:PDT
DTSTART:20230312T100000
END:DAYLIGHT
BEGIN:STANDARD
TZOFFSETFROM:-0700
TZOFFSETTO:-0800
TZNAME:PST
DTSTART:20231105T090000
END:STANDARD
BEGIN:DAYLIGHT
TZOFFSETFROM:-0800
TZOFFSETTO:-0700
TZNAME:PDT
DTSTART:20240310T100000
END:DAYLIGHT
BEGIN:STANDARD
TZOFFSETFROM:-0700
TZOFFSETTO:-0800
TZNAME:PST
DTSTART:20241103T090000
END:STANDARD
END:VTIMEZONE
BEGIN:VEVENT
DTSTART;TZID=America/Los_Angeles:20230208T110000
DTEND;TZID=America/Los_Angeles:20230208T120000
DTSTAMP:20260423T103054
CREATED:20211217T191549Z
LAST-MODIFIED:20230203T215507Z
UID:1742165-1675854000-1675857600@ramayogainstitute.com
SUMMARY:Energy with Marta Ulbricht
DESCRIPTION:Learn More & Tune In
URL:https://ramayogainstitute.com/event/marta-ulbricht-kundalini-12-22-21-2022-08-17-2022-08-31-2023-02-08/
LOCATION:Online
CATEGORIES:In Person,RA MA TV Live
ATTACH;FMTTYPE=image/jpeg:https://ramayogainstitute.com/wp-content/uploads/2021/12/Marta-Ulbricht.jpg
END:VEVENT
BEGIN:VEVENT
DTSTART;TZID=America/Los_Angeles:20230208T173000
DTEND;TZID=America/Los_Angeles:20230208T184500
DTSTAMP:20260423T103054
CREATED:20230203T215934Z
LAST-MODIFIED:20230203T215934Z
UID:1771100-1675877400-1675881900@ramayogainstitute.com
SUMMARY:Kundalini Yoga & Meditation with Jen Saltiel
DESCRIPTION:TUNE IN LIVE\nJen Saltiel has been practicing and working with the Kundalini Yoga technology since 2012. As a devout student of Guru Jagat’s and Chief of Staff of the RA MA Institute Global team\, she has a deep connection with the teachings and genuine love and desire to deliver them to the world.
URL:https://ramayogainstitute.com/event/kundalini-yoga-meditation-with-jen-saltiel-2-3-23/
LOCATION:Online
CATEGORIES:In Person,RA MA TV Live
ATTACH;FMTTYPE=image/jpeg:https://ramayogainstitute.com/wp-content/uploads/2022/06/Jen-Saltiel-Vimeo-Thumbnail.jpg
END:VEVENT
BEGIN:VEVENT
DTSTART;TZID=America/Los_Angeles:20230209T090000
DTEND;TZID=America/Los_Angeles:20230209T103000
DTSTAMP:20260423T103054
CREATED:20230126T033224Z
LAST-MODIFIED:20230208T181741Z
UID:1769272-1675933200-1675938600@ramayogainstitute.com
SUMMARY:Be Brave\, Be You with Alexis Di Salvo
DESCRIPTION:TUNE IN\nAlexis met her teacher\, Harijiwan in 2012 and in 2013 took her first of many kundalini trainings with Harijiwan and Tej. She began teaching at the brand new RA MA Venice and has been practicing and using the Kundalini Yoga technology to upgrade and expand her potential ever since. \nAlexis is also a mother and successful working actress. She has appeared in several television shows and feature films such as THIS IS US\, GRACE AND FRANKIE\, THE RESIDENT\, JERSEY BOYS AND THE GET DOWN. She also teaches and coaches other actors through Lesly Kahn & Co Acting Studio. \nAlexis loves deepening her daily practice and continuing to study and learn from her teacher\, Harijiwan. \n 
URL:https://ramayogainstitute.com/event/kundalini-yoga-meditation-with-alexis-2023-02-09/
LOCATION:Online
CATEGORIES:In Person,RA MA TV Live
ATTACH;FMTTYPE=image/jpeg:https://ramayogainstitute.com/wp-content/uploads/2022/11/Alexis-Krause-Di-Salvo-2.jpg
END:VEVENT
BEGIN:VEVENT
DTSTART;TZID=America/Los_Angeles:20230211T180000
DTEND;TZID=America/Los_Angeles:20230211T200000
DTSTAMP:20260423T103054
CREATED:20230209T023508Z
LAST-MODIFIED:20230210T055832Z
UID:1772371-1676138400-1676145600@ramayogainstitute.com
SUMMARY:Live Kirtan with Govind Das & Jacqueline
DESCRIPTION:SIGN UP\nSaturday\, February 11\, 2023 \n6:00pm – 8:00pm PST \nIn-Person at RA MA Los Angeles\nVirtually on RA MA TV with 48 hour replay
URL:https://ramayogainstitute.com/event/live-kirtan-2-11-23/
LOCATION:Online
CATEGORIES:In Person,Pay Per View Workshops
ATTACH;FMTTYPE=image/jpeg:https://ramayogainstitute.com/wp-content/uploads/2023/02/live-kirtan-cal-event.jpg
END:VEVENT
END:VCALENDAR