BEGIN:VCALENDAR
VERSION:2.0
PRODID:-//RA MA LIFE - ECPv6.15.15//NONSGML v1.0//EN
CALSCALE:GREGORIAN
METHOD:PUBLISH
X-WR-CALNAME:RA MA LIFE
X-ORIGINAL-URL:https://ramayogainstitute.com
X-WR-CALDESC:Events for RA MA LIFE
REFRESH-INTERVAL;VALUE=DURATION:PT1H
X-Robots-Tag:noindex
X-PUBLISHED-TTL:PT1H
BEGIN:VTIMEZONE
TZID:America/Los_Angeles
BEGIN:DAYLIGHT
TZOFFSETFROM:-0800
TZOFFSETTO:-0700
TZNAME:PDT
DTSTART:20220313T100000
END:DAYLIGHT
BEGIN:STANDARD
TZOFFSETFROM:-0700
TZOFFSETTO:-0800
TZNAME:PST
DTSTART:20221106T090000
END:STANDARD
BEGIN:DAYLIGHT
TZOFFSETFROM:-0800
TZOFFSETTO:-0700
TZNAME:PDT
DTSTART:20230312T100000
END:DAYLIGHT
BEGIN:STANDARD
TZOFFSETFROM:-0700
TZOFFSETTO:-0800
TZNAME:PST
DTSTART:20231105T090000
END:STANDARD
BEGIN:DAYLIGHT
TZOFFSETFROM:-0800
TZOFFSETTO:-0700
TZNAME:PDT
DTSTART:20240310T100000
END:DAYLIGHT
BEGIN:STANDARD
TZOFFSETFROM:-0700
TZOFFSETTO:-0800
TZNAME:PST
DTSTART:20241103T090000
END:STANDARD
END:VTIMEZONE
BEGIN:VEVENT
DTSTART;TZID=America/Los_Angeles:20230130T170000
DTEND;TZID=America/Los_Angeles:20230130T190000
DTSTAMP:20260423T103052
CREATED:20230125T040638Z
LAST-MODIFIED:20230130T045024Z
UID:1769085-1675098000-1675105200@ramayogainstitute.com
SUMMARY:10th Day of the Moon with Harijiwan
DESCRIPTION:SIGN UP\nTUNE IN\nKundalini Yoga\, Meditation & Gong Workshop \nVirtually on RA MA TV + Infinite Replay \nHarijiwan has been teaching Kundalini Yoga since 1975. He is the founder of the GRAMMY®-Award-Winning band\, White Sun. With over 44 years of experience in the science of Kundalini Yoga\, Harijiwan incorporates a vast knowledge of various methodologies and training into his practice. Today\, and throughout his years as a teacher and healer\, Harijiwan remains committed to expanding his knowledge and experience to provide his students with the most progressive\, effective\, self-empowering approaches that increase overall joy and wholeness within the context of everyday experiences.
URL:https://ramayogainstitute.com/event/10th-day-of-the-moon-with-harijiwan-01-24-2023/
LOCATION:Online
CATEGORIES:In Person,Pay Per View Workshops
ATTACH;FMTTYPE=image/jpeg:https://ramayogainstitute.com/wp-content/uploads/2022/12/L1050856_Harijiwan-RA-MA-TV.jpg
END:VEVENT
BEGIN:VEVENT
DTSTART;TZID=America/Los_Angeles:20230130T193000
DTEND;TZID=America/Los_Angeles:20230130T210000
DTSTAMP:20260423T103052
CREATED:20230125T043723Z
LAST-MODIFIED:20230130T033651Z
UID:1769096-1675107000-1675112400@ramayogainstitute.com
SUMMARY:The Flow of Grace: Opening to the Presence and Power of the Divine
DESCRIPTION:TUNE IN \nOpening to the Presence and Power of the Divine \nWisdom Talk\, Meditation\, Satsang\, Chanting and Divine Blessings\nwith HH Pujya Swami Chidanand Saraswati\, Pujya Sadhvi Bhagawati Saraswati\, Govind Das\, and Jacqueline \nIn-Person at RA MA Los Angeles\nVirtually on RA MA TV\nComplimentary / By Donation
URL:https://ramayogainstitute.com/event/the-flow-of-grace/
LOCATION:Online
CATEGORIES:Community Content,In Person,RA MA TV Live
ATTACH;FMTTYPE=image/jpeg:https://ramayogainstitute.com/wp-content/uploads/2023/01/Flow-of-Grace-HH-Pujya-Chidanand-Pujya-Sadhvi-Bhagawati-Saraswati-.jpg
END:VEVENT
BEGIN:VEVENT
DTSTART;TZID=America/Los_Angeles:20230131T170000
DTEND;TZID=America/Los_Angeles:20230131T190000
DTSTAMP:20260423T103052
CREATED:20230125T041049Z
LAST-MODIFIED:20230130T050635Z
UID:1769089-1675184400-1675191600@ramayogainstitute.com
SUMMARY:11th Day of the Moon with Harijiwan
DESCRIPTION:SIGN UP\nTUNE IN\nKundalini Yoga\, Meditation & Gong Workshop \nVirtually on RA MA TV + Infinite Replay \nHarijiwan has been teaching Kundalini Yoga since 1975. He is the founder of the GRAMMY®-Award-Winning band\, White Sun. With over 44 years of experience in the science of Kundalini Yoga\, Harijiwan incorporates a vast knowledge of various methodologies and training into his practice. Today\, and throughout his years as a teacher and healer\, Harijiwan remains committed to expanding his knowledge and experience to provide his students with the most progressive\, effective\, self-empowering approaches that increase overall joy and wholeness within the context of everyday experiences.
URL:https://ramayogainstitute.com/event/11th-day-of-the-moon-with-harijiwan-01-31-2023/
LOCATION:Online
CATEGORIES:In Person,Pay Per View Workshops
ATTACH;FMTTYPE=image/jpeg:https://ramayogainstitute.com/wp-content/uploads/2022/12/L1050856_Harijiwan-RA-MA-TV.jpg
END:VEVENT
BEGIN:VEVENT
DTSTART;TZID=America/Los_Angeles:20230202T080000
DTEND;TZID=America/Los_Angeles:20230202T093000
DTSTAMP:20260423T103052
CREATED:20230201T040306Z
LAST-MODIFIED:20230201T041039Z
UID:1770376-1675324800-1675330200@ramayogainstitute.com
SUMMARY:Love: The Victory Current
DESCRIPTION:TUNE IN ON RA MA TV LIVE\n\nJoin Rebecca Underdown on Thursdays for a love & relationship kundalini series. \nFebruary 2\, 2023  Breaking Up With Addictive Patterns\nFebruary 9\, 2023 The Infinity Relationship\nFebruary 16\, 2023 Love: The Greatest Location on Earth\nFebruary 23\, 2023 Giver and Receiver: Understand Your Auric Power \n\n\nRebecca Underdown began practicing Kundalini yoga in 2000 and studying with Tej\, Harijiwan and Guru Jagat in 2015. Rebecca holds a BA in Eastern Religions from Boston University and a Masters Degree in Chinese Acupuncture & Herbal Medicine. She is the founder of the skincare company Veridatta.
URL:https://ramayogainstitute.com/event/love-the-victory-current/2023-02-02/
LOCATION:RA MA New York & Online
CATEGORIES:In Person,RA MA TV Live
ATTACH;FMTTYPE=image/jpeg:https://ramayogainstitute.com/wp-content/uploads/2022/12/Rebecca-Underdown.jpg
END:VEVENT
BEGIN:VEVENT
DTSTART;TZID=America/Los_Angeles:20230202T170000
DTEND;TZID=America/Los_Angeles:20230202T190000
DTSTAMP:20260423T103052
CREATED:20230125T042442Z
LAST-MODIFIED:20230201T013115Z
UID:1769075-1675357200-1675364400@ramayogainstitute.com
SUMMARY:Green Comet with Harijiwan
DESCRIPTION:SIGN UP\nTUNE IN\nKundalini Yoga\, Meditation & Gong Workshop \nVirtually on RA MA TV + Infinite Replay \nThe Green Comet arrives closest to Earth between February 1st and 2nd\, 2023. It was last seen over 50\,000 years ago during the Stone Age. \nComets are celestial wanderers\, first formed during the dawn of our solar system around 4.6 billion years ago. Said to contain the fundamental elements of the earth\, they are recognized as celestial messengers\, deeply connected to our spiritual destiny. \nThe Green Comet arrives auspiciously on 2-2\, which is not only a power date\, but it’s also a cross-quarter day\, the half-way point between Winter Solstice and the Equinox. This may be the last time is it ever seen by Earth. \n 
URL:https://ramayogainstitute.com/event/green-comet-with-harijiwan/
LOCATION:Online
CATEGORIES:In Person,Pay Per View Workshops
ATTACH;FMTTYPE=image/jpeg:https://ramayogainstitute.com/wp-content/uploads/2023/01/Harijiwan-Green-Comet.jpg
END:VEVENT
BEGIN:VEVENT
DTSTART;TZID=America/Los_Angeles:20230204T090000
DTEND;TZID=America/Los_Angeles:20230204T103000
DTSTAMP:20260423T103052
CREATED:20230130T071424Z
LAST-MODIFIED:20230201T015415Z
UID:1769969-1675501200-1675506600@ramayogainstitute.com
SUMMARY:Kirtan Vinyasa with Govind Das and Jacqueline
DESCRIPTION:SIGN UP\nor TUNE IN ON RA MA TV LIVE\nExperience yoga led by Govind Das and live music with Jacqueline. Flow together and open your heart. \nSpace is limited. Please bring your own yoga mat. \nVirtually on RA MA TV &\nIn-person at RA MA Los Angeles 1729 21 St. Santa Monica\, CA 90404 \n$27 \n 
URL:https://ramayogainstitute.com/event/kirtan-vinyasa-with-govind-das-and-jacqueline/
LOCATION:Online
CATEGORIES:In Person,RA MA TV Live
ATTACH;FMTTYPE=image/jpeg:https://ramayogainstitute.com/wp-content/uploads/2023/01/Govindas-and-Jacqueline-Kirtan-Vinyasa.jpg
END:VEVENT
BEGIN:VEVENT
DTSTART;TZID=America/Los_Angeles:20230205T090000
DTEND;TZID=America/Los_Angeles:20230205T103000
DTSTAMP:20260423T103052
CREATED:20230130T070148Z
LAST-MODIFIED:20230203T065729Z
UID:1769958-1675587600-1675593000@ramayogainstitute.com
SUMMARY:Be Brave\, Be You with Alexis Di Salvo
DESCRIPTION:TUNE IN\nFull Moon in Leo Kundalini Yoga & Meditation \nAlexis met her teacher\, Harijiwan in 2012 and in 2013 took her first of many kundalini trainings with Harijiwan and Tej. She began teaching at the brand new RA MA Venice and has been practicing and using the Kundalini Yoga technology to upgrade and expand her potential ever since. \nAlexis is also a mother and successful working actress. She has appeared in several television shows and feature films such as THIS IS US\, GRACE AND FRANKIE\, THE RESIDENT\, JERSEY BOYS AND THE GET DOWN. She also teaches and coaches other actors through Lesly Kahn & Co Acting Studio. \nAlexis loves deepening her daily practice and continuing to study and learn from her teacher\, Harijiwan.
URL:https://ramayogainstitute.com/event/full-moon-in-leo-alexis/
LOCATION:Online
CATEGORIES:In Person,RA MA TV Live
ATTACH;FMTTYPE=image/jpeg:https://ramayogainstitute.com/wp-content/uploads/2022/11/Alexis-Krause-Di-Salvo-2.jpg
END:VEVENT
BEGIN:VEVENT
DTSTART;TZID=America/Los_Angeles:20230205T113000
DTEND;TZID=America/Los_Angeles:20230205T123000
DTSTAMP:20260423T103052
CREATED:20230130T070928Z
LAST-MODIFIED:20230130T070928Z
UID:1769965-1675596600-1675600200@ramayogainstitute.com
SUMMARY:Embodied Astrology: Full Moon Kundalini Yoga & Meditation with Teg Prakash
DESCRIPTION:TUNE IN ON RA MA TV LIVE\nVibrate the Cosmos & the Cosmos Shall Clear the Path \nTeg Prakash is a Kundalini Yoga teacher\, astrologer\, and intuitive sound healer with a passionate curiosity for the teachings of Kundalini Yoga\, as taught by Yogi Bhajan\, and seeks to bring people to a true sense of their soul through astrology\, their personal power through yoga\, and their peace through the power of sound.
URL:https://ramayogainstitute.com/event/embodied-astrology-full-moon-kundalini-yoga-meditation-with-teg-prakash/
LOCATION:Online
CATEGORIES:In Person,RA MA TV Live
ATTACH;FMTTYPE=image/jpeg:https://ramayogainstitute.com/wp-content/uploads/2023/01/Teg_Prakash_Website_Pic.jpg
END:VEVENT
BEGIN:VEVENT
DTSTART;TZID=America/Los_Angeles:20230205T160000
DTEND;TZID=America/Los_Angeles:20230205T173000
DTSTAMP:20260423T103052
CREATED:20211111T222113Z
LAST-MODIFIED:20230130T065933Z
UID:1743600-1675612800-1675618200@ramayogainstitute.com
SUMMARY:We are Unlimited: Experience Our Own Inner Self-Power with Tej
DESCRIPTION:Tej Kaur Khalsa has been a student of traditional Kundalini for over 35 years. She is a Custodian of Kundalini knowledge\, and a recognized authority on the teachings. \nLearn More & Tune In
URL:https://ramayogainstitute.com/event/kundalini-tej-11-20-21-2021-12-05-2022-01-09-2022-04-24-2022-05-01-2023-02-05/
LOCATION:Online
CATEGORIES:In Person,RA MA TV Live
ATTACH;FMTTYPE=image/jpeg:https://ramayogainstitute.com/wp-content/uploads/2021/11/Tej-at-RA-MA-Los-Angeles.jpg
END:VEVENT
END:VCALENDAR