BEGIN:VCALENDAR
VERSION:2.0
PRODID:-//RA MA LIFE - ECPv6.15.15//NONSGML v1.0//EN
CALSCALE:GREGORIAN
METHOD:PUBLISH
X-ORIGINAL-URL:https://ramayogainstitute.com
X-WR-CALDESC:Events for RA MA LIFE
REFRESH-INTERVAL;VALUE=DURATION:PT1H
X-Robots-Tag:noindex
X-PUBLISHED-TTL:PT1H
BEGIN:VTIMEZONE
TZID:America/Los_Angeles
BEGIN:DAYLIGHT
TZOFFSETFROM:-0800
TZOFFSETTO:-0700
TZNAME:PDT
DTSTART:20220313T100000
END:DAYLIGHT
BEGIN:STANDARD
TZOFFSETFROM:-0700
TZOFFSETTO:-0800
TZNAME:PST
DTSTART:20221106T090000
END:STANDARD
BEGIN:DAYLIGHT
TZOFFSETFROM:-0800
TZOFFSETTO:-0700
TZNAME:PDT
DTSTART:20230312T100000
END:DAYLIGHT
BEGIN:STANDARD
TZOFFSETFROM:-0700
TZOFFSETTO:-0800
TZNAME:PST
DTSTART:20231105T090000
END:STANDARD
BEGIN:DAYLIGHT
TZOFFSETFROM:-0800
TZOFFSETTO:-0700
TZNAME:PDT
DTSTART:20240310T100000
END:DAYLIGHT
BEGIN:STANDARD
TZOFFSETFROM:-0700
TZOFFSETTO:-0800
TZNAME:PST
DTSTART:20241103T090000
END:STANDARD
END:VTIMEZONE
BEGIN:VEVENT
DTSTART;TZID=America/Los_Angeles:20230102T190000
DTEND;TZID=America/Los_Angeles:20230102T210000
DTSTAMP:20260423T103052
CREATED:20221231T203012Z
LAST-MODIFIED:20221231T203013Z
UID:1761774-1672686000-1672693200@ramayogainstitute.com
SUMMARY:11th Day of the Moon with Harijiwan
DESCRIPTION:SIGN UP \nWhen you align your practice with the lunar calendar\, it gives you a deeper experience of clarity and fulfillment. Practice with us in-person or virtually on these power days. \nKundalini Yoga\, Meditation\, & Gong Workshop \nVirtually on RA MA TV + Infinite Replay \n$50 In Advance\, $55 Day of \nHarijiwan has been teaching Kundalini Yoga since 1975. He is the founder of the GRAMMY®-Award-Winning band\, White Sun. With over 44 years of experience in the science of Kundalini Yoga\, Harijiwan incorporates a vast knowledge of various methodologies and training into his practice. Today\, and throughout his years as a teacher and healer\, Harijiwan remains committed to expanding his knowledge and experience to provide his students with the most progressive\, effective\, self-empowering approaches that increase overall joy and wholeness within the context of everyday experiences. \n 
URL:https://ramayogainstitute.com/event/11th-day-of-the-moon-with-harijiwan/
LOCATION:Online
CATEGORIES:In Person,Pay Per View Workshops
ATTACH;FMTTYPE=image/jpeg:https://ramayogainstitute.com/wp-content/uploads/2022/12/L1050856_Harijiwan-RA-MA-TV.jpg
END:VEVENT
BEGIN:VEVENT
DTSTART;TZID=America/Los_Angeles:20230103T090000
DTEND;TZID=America/Los_Angeles:20230103T103000
DTSTAMP:20260423T103052
CREATED:20221231T204147Z
LAST-MODIFIED:20221231T204148Z
UID:1761814-1672736400-1672741800@ramayogainstitute.com
SUMMARY:Prosperity Patterns with Mandev
DESCRIPTION:TUNE IN on RA MA TV LIVE \nRemove blocks & install prosperity patterns. Energize. Heal. Transform. \nMandev Khalsa is an award-winning filmmaker and creator of My Moon Map™\, an IOS mobile app to track your moods and behavior pattern using the ancient yogic science of the Moon Centers. For years\, Mandev has deeply researched esoteric energetic structures in yogic teachings to discover energy and power. \nMandev teaches at RA MA Institute. Her classes feature deep breathing\, mantra\, meditation\, and gong relaxation. She seamlessly guides the class through a mandala of yogic postures\, pranayam\, and meditation with an emphasis on conscious breathing\, proper posture\, applying precise techniques to open an infinite flow of energy in you. \nMandev provides invaluable insight into how to apply yogic teachings in a practical\, modern way. She teaches how love\, happiness and prosperity is a frequency you can subscribe to. Her classes focus on removing blocks\, installing prosperity patterns\, weaving celestial sound codes\, karma clearing\, third eye-opening\, mind crystallizing\, heart opening\, soul downloading. Each class with Mandev is fun\, deeply transformative\, and profoundly healing. \nShe travels the world with her teacher and husband Harijiwan leading Kundalini Trainings\, yatras\, and women’s programs. \nMandev recently launched a complimentary virtual women’s community: The Inner Moon Circle\, inviting women around the world to realize the infinite stream of energy at their fingertips through mapping the Moon Centers\, unlocking the power of the auric field\, and exploring and applying the vast ocean of women’s teachings Kundalini Yoga has to offer. \nConnect with Mandev on Instagram @mandevkhalsa & @mymoonmap \nFind out about upcoming yoga classes\, trainings\, yatras and more events mymoonmap.com \nYou can book private sessions with Mandev here.
URL:https://ramayogainstitute.com/event/prosperity-patterns-with-mandev/2023-01-03/
LOCATION:Online
CATEGORIES:In Person,RA MA TV Live
ATTACH;FMTTYPE=image/jpeg:https://ramayogainstitute.com/wp-content/uploads/2022/12/Mandev-Camp-Grace-2022-Idylwild-photo-by-Santosh.jpg
END:VEVENT
BEGIN:VEVENT
DTSTART;TZID=America/Los_Angeles:20230105T170000
DTEND;TZID=America/Los_Angeles:20230105T180000
DTSTAMP:20260423T103052
CREATED:20230104T103055Z
LAST-MODIFIED:20230104T103056Z
UID:1762862-1672938000-1672941600@ramayogainstitute.com
SUMMARY:Q&A Kundalini Training: The Art & Science of Teaching
DESCRIPTION:RSVP \nJoin Harijiwan for a live complimentary Q&A Zoom call to learn more about the upcoming Kundalini Training. \nBring your questions or come to listen. \nKundalini Training: The Art & Science of Teaching\nIn-Person at RA MA New York and Virtually around the world taking place\nSunday\, January 15 – Thursday 19\, 2023
URL:https://ramayogainstitute.com/event/qa-kundalini-training-the-art-science-of-teaching/
LOCATION:Online on Zoom
CATEGORIES:Courses & Events
ATTACH;FMTTYPE=image/jpeg:https://ramayogainstitute.com/wp-content/uploads/2023/01/KT-Art-Science-of-Teaching.jpg
END:VEVENT
BEGIN:VEVENT
DTSTART;TZID=America/Los_Angeles:20230106T090000
DTEND;TZID=America/Los_Angeles:20230106T103000
DTSTAMP:20260423T103052
CREATED:20221231T204147Z
LAST-MODIFIED:20230106T053446Z
UID:1761820-1672995600-1673001000@ramayogainstitute.com
SUMMARY:Prosperity Patterns: Bundle Money Kriya with Mandev
DESCRIPTION:TUNE IN on RA MA TV LIVE \nRemove blocks & install prosperity patterns. Energize. Heal. Transform. \nMandev Khalsa is an award-winning filmmaker and creator of My Moon Map™\, an IOS mobile app to track your moods and behavior pattern using the ancient yogic science of the Moon Centers. For years\, Mandev has deeply researched esoteric energetic structures in yogic teachings to discover energy and power. \nMandev teaches at RA MA Institute. Her classes feature deep breathing\, mantra\, meditation\, and gong relaxation. She seamlessly guides the class through a mandala of yogic postures\, pranayam\, and meditation with an emphasis on conscious breathing\, proper posture\, applying precise techniques to open an infinite flow of energy in you. \nMandev provides invaluable insight into how to apply yogic teachings in a practical\, modern way. She teaches how love\, happiness and prosperity is a frequency you can subscribe to. Her classes focus on removing blocks\, installing prosperity patterns\, weaving celestial sound codes\, karma clearing\, third eye-opening\, mind crystallizing\, heart opening\, soul downloading. Each class with Mandev is fun\, deeply transformative\, and profoundly healing. \nShe travels the world with her teacher and husband Harijiwan leading Kundalini Trainings\, yatras\, and women’s programs. \nMandev recently launched a complimentary virtual women’s community: The Inner Moon Circle\, inviting women around the world to realize the infinite stream of energy at their fingertips through mapping the Moon Centers\, unlocking the power of the auric field\, and exploring and applying the vast ocean of women’s teachings Kundalini Yoga has to offer. \nConnect with Mandev on Instagram @mandevkhalsa & @mymoonmap \nFind out about upcoming yoga classes\, trainings\, yatras and more events mymoonmap.com \nYou can book private sessions with Mandev here.
URL:https://ramayogainstitute.com/event/prosperity-patterns-with-mandev-2023-01-06/
LOCATION:Online
CATEGORIES:In Person,RA MA TV Live
ATTACH;FMTTYPE=image/jpeg:https://ramayogainstitute.com/wp-content/uploads/2022/12/Mandev-Camp-Grace-2022-Idylwild-photo-by-Santosh.jpg
END:VEVENT
BEGIN:VEVENT
DTSTART;TZID=America/Los_Angeles:20230106T110000
DTEND;TZID=America/Los_Angeles:20230106T120000
DTSTAMP:20260423T103052
CREATED:20211211T021739Z
LAST-MODIFIED:20230104T213608Z
UID:1762852-1673002800-1673006400@ramayogainstitute.com
SUMMARY:Full Moon Kundalini Yoga with Teg Prakash
DESCRIPTION:Diving into the connections between deep yogic practice and evolutionary astrology to explore and take advantage of the prevailing cosmic movements. \nTeg Prakash is a Kundalini Yoga teacher\, astrologer\, and intuitive sound healer with a passionate curiosity for the teachings of Kundalini Yoga\, as taught by Yogi Bhajan\, and seeks to bring people to a true sense of their soul through astrology\, their personal power through yoga\, and their peace through the power of sound. \nLearn More & Tune In
URL:https://ramayogainstitute.com/event/teg-prakash-12-13-21-2022-01-03-2022-02-21-2022-07-11-2022-07-25-2023-01-06/
LOCATION:Online
CATEGORIES:In Person,RA MA TV Live
ATTACH;FMTTYPE=image/jpeg:https://ramayogainstitute.com/wp-content/uploads/2022/06/Teg-Prakash-Looking-Up-Vimeo-Thumbnail.jpg
END:VEVENT
BEGIN:VEVENT
DTSTART;TZID=America/Los_Angeles:20230106T170000
DTEND;TZID=America/Los_Angeles:20230106T190000
DTSTAMP:20260423T103052
CREATED:20230104T101508Z
LAST-MODIFIED:20230104T225835Z
UID:1762847-1673024400-1673031600@ramayogainstitute.com
SUMMARY:Full Moon in Cancer with Harijiwan
DESCRIPTION:SIGN UP\nTUNE IN\nKundalini Yoga\, Meditation & Gong Workshop \nHarijiwan has been teaching Kundalini Yoga since 1975. He is the founder of the GRAMMY®-Award-Winning band\, White Sun. With over 44 years of experience in the science of Kundalini Yoga\, Harijiwan incorporates a vast knowledge of various methodologies and training into his practice. Today\, and throughout his years as a teacher and healer\, Harijiwan remains committed to expanding his knowledge and experience to provide his students with the most progressive\, effective\, self-empowering approaches that increase overall joy and wholeness within the context of everyday experiences.
URL:https://ramayogainstitute.com/event/full-moon-in-cancer-with-harijiwan/
LOCATION:Online
CATEGORIES:In Person,Pay Per View Workshops
ATTACH;FMTTYPE=image/jpeg:https://ramayogainstitute.com/wp-content/uploads/2022/12/L1050856_Harijiwan-RA-MA-TV.jpg
END:VEVENT
BEGIN:VEVENT
DTSTART;TZID=America/Los_Angeles:20230107T090000
DTEND;TZID=America/Los_Angeles:20230107T103000
DTSTAMP:20260423T103052
CREATED:20211209T010530Z
LAST-MODIFIED:20230107T012819Z
UID:1735918-1673082000-1673087400@ramayogainstitute.com
SUMMARY:Kundalini Yoga & Meditation with Kim Krans
DESCRIPTION:TUNE IN\nKim Krans is a visionary artist\, author\, and creator of The New York Times bestseller THE WILD UNKNOWN TAROT. \nKim received her BFA in drawing at Cooper Union in NYC\, MFA in mixed media at Hunter College\, and an MA in depth psychology and creativity at Pacifica Graduate Institute in California. Her seeker’s heart has brought her to study in-depth practices of Classical Hatha\, Kundalini yoga\, and shamanism in India\, Africa\, Europe\, and the UK. Kim teaches events and workshops that activate the forces of creativity and radical transformation through art\, meditation\, mysticism\, and movement. Though revered for her drawings and publications\, Krans is also a multi-media artist\, filmmaker\, and musician.
URL:https://ramayogainstitute.com/event/shabadpreet-kundalini-12-11-21-2022-01-08-2022-01-15-2022-05-21-2022-05-28-2023-01-07/
LOCATION:Online
CATEGORIES:Community Content,In Person,RA MA TV Live
ATTACH;FMTTYPE=image/jpeg:https://ramayogainstitute.com/wp-content/uploads/2022/07/Kim-Krans.jpg
END:VEVENT
BEGIN:VEVENT
DTSTART;TZID=America/Los_Angeles:20230107T110000
DTEND;TZID=America/Los_Angeles:20230107T123000
DTSTAMP:20260423T103052
CREATED:20230104T213200Z
LAST-MODIFIED:20230106T011635Z
UID:1763189-1673089200-1673094600@ramayogainstitute.com
SUMMARY:Kundalini Yoga & Meditation with Mandev
DESCRIPTION:TUNE IN\nMandev Khalsa is an award-winning filmmaker and creator of My Moon Map™\, an IOS mobile app to track your moods and behavior pattern using the ancient yogic science of the Moon Centers. For years\, Mandev has deeply researched esoteric energetic structures in yogic teachings to discover energy and power. \nMandev teaches at RA MA Institute. Her classes feature deep breathing\, mantra\, meditation\, and gong relaxation. She seamlessly guides the class through a mandala of yogic postures\, pranayam\, and meditation with an emphasis on conscious breathing\, proper posture\, applying precise techniques to open an infinite flow of energy in you. \nMandev provides invaluable insight into how to apply yogic teachings in a practical\, modern way. She teaches how love\, happiness and prosperity is a frequency you can subscribe to. Her classes focus on removing blocks\, installing prosperity patterns\, weaving celestial sound codes\, karma clearing\, third eye-opening\, mind crystallizing\, heart opening\, soul downloading. Each class with Mandev is fun\, deeply transformative\, and profoundly healing. \nShe travels the world with her teacher and husband Harijiwan leading Kundalini Trainings\, yatras\, and women’s programs. \nMandev recently launched a complimentary virtual women’s community: The Inner Moon Circle\, inviting women around the world to realize the infinite stream of energy at their fingertips through mapping the Moon Centers\, unlocking the power of the auric field\, and exploring and applying the vast ocean of women’s teachings Kundalini Yoga has to offer. \nConnect with Mandev on Instagram @mandevkhalsa & @mymoonmap \nFind out about upcoming yoga classes\, trainings\, yatras and more events mymoonmap.com \nYou can book private sessions with Mandev here.
URL:https://ramayogainstitute.com/event/kundalini-yoga-meditation-with-mandev-7/2023-01-07/
LOCATION:Online
CATEGORIES:In Person,RA MA TV Live
ATTACH;FMTTYPE=image/jpeg:https://ramayogainstitute.com/wp-content/uploads/2022/12/Mandev-Equinox-Ra-Ma-2022-photo-by-Santosh-3-small.jpg
END:VEVENT
BEGIN:VEVENT
DTSTART;TZID=America/Los_Angeles:20230108T090000
DTEND;TZID=America/Los_Angeles:20230108T103000
DTSTAMP:20260423T103052
CREATED:20230104T212020Z
LAST-MODIFIED:20230104T212020Z
UID:1763137-1673168400-1673173800@ramayogainstitute.com
SUMMARY:Kundalini Yoga & Meditation with Gurujas
DESCRIPTION:TUNE IN on RA MA TV LIVE \nGurujas is a kundalini yoga teacher and a singer\, songwriter\, and musician. She has gained a worldwide reputation as the lead singer of White Sun\, a Grammy®-award winning band\, and a Billboard #1 artist. As a kundalini yoga teacher\, she is known as being intensely devoted to the accuracy of the teachings\, as well as incorporating contemporary science and practical every-day applications. As a singer\, she is known for her distinctive vocals\, her ethereal live performances\, and her ability to heal through song.
URL:https://ramayogainstitute.com/event/kundalini-yoga-meditation-with-gurujas-3/
LOCATION:Online
CATEGORIES:In Person,RA MA TV Live
ATTACH;FMTTYPE=image/jpeg:https://ramayogainstitute.com/wp-content/uploads/2021/10/Gurujas-7.jpg
END:VEVENT
END:VCALENDAR