BEGIN:VCALENDAR
VERSION:2.0
PRODID:-//RA MA LIFE - ECPv6.15.15//NONSGML v1.0//EN
CALSCALE:GREGORIAN
METHOD:PUBLISH
X-WR-CALNAME:RA MA LIFE
X-ORIGINAL-URL:https://ramayogainstitute.com
X-WR-CALDESC:Events for RA MA LIFE
REFRESH-INTERVAL;VALUE=DURATION:PT1H
X-Robots-Tag:noindex
X-PUBLISHED-TTL:PT1H
BEGIN:VTIMEZONE
TZID:America/Los_Angeles
BEGIN:DAYLIGHT
TZOFFSETFROM:-0800
TZOFFSETTO:-0700
TZNAME:PDT
DTSTART:20210314T100000
END:DAYLIGHT
BEGIN:STANDARD
TZOFFSETFROM:-0700
TZOFFSETTO:-0800
TZNAME:PST
DTSTART:20211107T090000
END:STANDARD
BEGIN:DAYLIGHT
TZOFFSETFROM:-0800
TZOFFSETTO:-0700
TZNAME:PDT
DTSTART:20220313T100000
END:DAYLIGHT
BEGIN:STANDARD
TZOFFSETFROM:-0700
TZOFFSETTO:-0800
TZNAME:PST
DTSTART:20221106T090000
END:STANDARD
BEGIN:DAYLIGHT
TZOFFSETFROM:-0800
TZOFFSETTO:-0700
TZNAME:PDT
DTSTART:20230312T100000
END:DAYLIGHT
BEGIN:STANDARD
TZOFFSETFROM:-0700
TZOFFSETTO:-0800
TZNAME:PST
DTSTART:20231105T090000
END:STANDARD
END:VTIMEZONE
BEGIN:VEVENT
DTSTART;TZID=America/Los_Angeles:20221219T190000
DTEND;TZID=America/Los_Angeles:20221219T210000
DTSTAMP:20260423T103047
CREATED:20221213T215715Z
LAST-MODIFIED:20221218T211654Z
UID:1758090-1671476400-1671483600@ramayogainstitute.com
SUMMARY:Pranic Acceleration: Opening the Solstice Portal
DESCRIPTION:SIGN UP \nTUNE IN \nPre-Solstice Workshops with Harijiwan & Mandev\nMonday\, December 19 & Tuesday\, December 20\, 2022 \nMonday\, December 19th\nPranic Acceleration: Opening the Solstice Portal \nPre-Solstice Workshop with Harijiwan & Mandev \nTuesday\, December 20th\nDiagonal Frequency: Solstice Portal Projection\nPre-Solstice Workshop with Harijiwan & Mandev \nThe Winter Solstice is one of the most important days of the year. As the window of energy opens in the days leading up to the solstice\, you want to set yourself. The Winter Solstice energy is inward. It is a time for deep inward meditation. Long Mul Mantra & Mahan Jap are key meditations that will give you a harmonious forward momentum. \nAs a group of practitioners\, we can accelerate much more easily than we can as an individual. When we practice these two meditations together\, we are magnifying the effects\, deepening the meditative space and amplifying the group aura\, the group consciousness and creating an energetic field where we can all experience a quantum shift in our own being.
URL:https://ramayogainstitute.com/event/pranic-acceleration-opening-the-solstice-portal/
LOCATION:Online
CATEGORIES:In Person,Pay Per View Workshops
ATTACH;FMTTYPE=image/jpeg:https://ramayogainstitute.com/wp-content/uploads/2022/12/Harijiwan-Mandev-on-Stage.jpg
END:VEVENT
BEGIN:VEVENT
DTSTART;TZID=America/Los_Angeles:20221220T110000
DTEND;TZID=America/Los_Angeles:20221220T120000
DTSTAMP:20260423T103047
CREATED:20220326T233512Z
LAST-MODIFIED:20221216T043909Z
UID:1758766-1671534000-1671537600@ramayogainstitute.com
SUMMARY:Prosperity Hour with Alexis Di Salvo
DESCRIPTION:Mandev Khalsa is an award-winning filmmaker and creator of My Moon Map™\, an IOS mobile app to track your moods and behavior pattern using the ancient yogic science of the Moon Centers. For years\, Mandev has deeply researched esoteric energetic structures in yogic teachings to discover energy and power. \nMandev teaches at RA MA Institute. Her classes feature deep breathing\, mantra\, meditation\, and gong relaxation. She seamlessly guides the class through a mandala of yogic postures\, pranayam\, and meditation with an emphasis on conscious breathing\, proper posture\, applying precise techniques to open an infinite flow of energy in you. \nMandev provides invaluable insight into how to apply yogic teachings in a practical\, modern way. She teaches how love\, happiness and prosperity is a frequency you can subscribe to. Her classes focus on removing blocks\, installing prosperity patterns\, weaving celestial sound codes\, karma clearing\, third eye-opening\, mind crystallizing\, heart opening\, soul downloading. Each class with Mandev is fun\, deeply transformative\, and profoundly healing. \nShe travels the world with her teacher and husband Harijiwan leading Kundalini Trainings\, yatras\, and women’s programs. \nMandev recently launched a complimentary virtual women’s community: The Inner Moon Circle\, inviting women around the world to realize the infinite stream of energy at their fingertips through mapping the Moon Centers\, unlocking the power of the auric field\, and exploring and applying the vast ocean of women’s teachings Kundalini Yoga has to offer. \nConnect with Mandev on Instagram @mandevkhalsa & @mymoonmap \nFind out about upcoming yoga classes\, trainings\, yatras and more events mymoonmap.com \nYou can book private sessions with Mandev here. \nTUNE IN
URL:https://ramayogainstitute.com/event/kundalini-yoga-meditation-with-mandev-6-2022-05-12-2022-05-19-2022-09-14-2022-12-17-2022-12-20/2022-12-20/
LOCATION:Online
CATEGORIES:In Person,RA MA TV Live
ATTACH;FMTTYPE=image/jpeg:https://ramayogainstitute.com/wp-content/uploads/2022/11/Alexis-Krause-Di-Salvo-2.jpg
END:VEVENT
BEGIN:VEVENT
DTSTART;TZID=America/Los_Angeles:20221220T170000
DTEND;TZID=America/Los_Angeles:20221220T190000
DTSTAMP:20260423T103047
CREATED:20221214T004133Z
LAST-MODIFIED:20221219T012001Z
UID:1758233-1671555600-1671562800@ramayogainstitute.com
SUMMARY:Diagonal Frequency: Solstice Portal Projection
DESCRIPTION:SIGN UP \nTUNE IN  \nPre-Solstice Workshops with Harijiwan & Mandev\nMonday\, December 19 & Tuesday\, December 20\, 2022 \nMonday\, December 19th\nPranic Acceleration: Opening the Solstice Portal\nPre-Solstice Workshop with Harijiwan & Mandev \nTuesday\, December 20th\nDiagonal Frequency: Solstice Portal Projection\nPre-Solstice Workshop with Harijiwan & Mandev \nThe Winter Solstice is one of the most important days of the year. As the window of energy opens in the days leading up to the solstice\, you want to set yourself. The Winter Solstice energy is inward. It is a time for deep inward meditation. Long Mul Mantra & Mahan Jap are key meditations that will give you a harmonious forward momentum. \nAs a group of practitioners\, we can accelerate much more easily than we can as an individual. When we practice these two meditations together\, we are magnifying the effects\, deepening the meditative space and amplifying the group aura\, the group consciousness and creating an energetic field where we can all experience a quantum shift in our own being.
URL:https://ramayogainstitute.com/event/diagonal-frequency-solstice-portal-projection/
LOCATION:Online
CATEGORIES:In Person,Pay Per View Workshops
ATTACH;FMTTYPE=image/jpeg:https://ramayogainstitute.com/wp-content/uploads/2022/12/Harijiwan-Mandev-on-Stage.jpg
END:VEVENT
BEGIN:VEVENT
DTSTART;TZID=America/Los_Angeles:20221221T030000
DTEND;TZID=America/Los_Angeles:20221221T190000
DTSTAMP:20260423T103047
CREATED:20221213T211108Z
LAST-MODIFIED:20221213T211139Z
UID:1758081-1671591600-1671649200@ramayogainstitute.com
SUMMARY:Winter Solstice 2022
DESCRIPTION:SIGN UP \nA Day-Long Festival Experience with Harijiwan\, Gurujas\, Mandev\, Shabadpreet\, and Special Guests
URL:https://ramayogainstitute.com/event/winter-solstice-2022/
LOCATION:Online
CATEGORIES:Courses & Events,In Person
ATTACH;FMTTYPE=image/jpeg:https://ramayogainstitute.com/wp-content/uploads/2022/12/Winter-Solstice.jpg
END:VEVENT
BEGIN:VEVENT
DTSTART;TZID=America/Los_Angeles:20221223T060000
DTEND;TZID=America/Los_Angeles:20221223T074500
DTSTAMP:20260423T103047
CREATED:20221214T012507Z
LAST-MODIFIED:20221219T225418Z
UID:1758263-1671775200-1671781500@ramayogainstitute.com
SUMMARY:Inner Illumination Part One with Mandev
DESCRIPTION:TUNE IN on RA MA TV LIVE \nSIGN UP for both sessions with Harijiwan & Mandev \nJoin Harijiwan & Mandev in the Winter Solstice energetic opening for this auspicious New Moon in Capricorn.
URL:https://ramayogainstitute.com/event/inner-illumination-part-one-with-mandev/
LOCATION:RA MA New York & Online
CATEGORIES:In Person,RA MA TV Live
ATTACH;FMTTYPE=image/jpeg:https://ramayogainstitute.com/wp-content/uploads/2022/12/Harijiwan-Mandev-1.jpg
END:VEVENT
BEGIN:VEVENT
DTSTART;TZID=America/Los_Angeles:20221223T080000
DTEND;TZID=America/Los_Angeles:20221223T100000
DTSTAMP:20260423T103047
CREATED:20221214T013026Z
LAST-MODIFIED:20221223T074139Z
UID:1758268-1671782400-1671789600@ramayogainstitute.com
SUMMARY:Inner Illumination Part Two with Harijiwan
DESCRIPTION:SIGN UP or TUNE IN for New Moon in the Winter Solstice Window with Harijiwan \nSIGN UP or TUNE IN for both New Moon in the Winter Solstice Window sessions with Harijiwan & Mandev \nVirtually on RA MA TV & In Person @ RA MA New York \n$50/$55
URL:https://ramayogainstitute.com/event/inner-illumination-part-two-with-harijiwan/
LOCATION:RA MA New York & Online
CATEGORIES:In Person,Pay Per View Workshops
ATTACH;FMTTYPE=image/jpeg:https://ramayogainstitute.com/wp-content/uploads/2022/12/Harijiwan-Mandev-2.jpg
END:VEVENT
BEGIN:VEVENT
DTSTART;TZID=America/Los_Angeles:20221223T110000
DTEND;TZID=America/Los_Angeles:20221223T120000
DTSTAMP:20260423T103047
CREATED:20221113T055233Z
LAST-MODIFIED:20221214T013053Z
UID:1752575-1671793200-1671796800@ramayogainstitute.com
SUMMARY:Waheguru Your Weekend
DESCRIPTION:TUNE IN on RA MA TV Live \n“Wah” means “Wondrous” in Sanskrit. Join us in creating a powerful\, fun vortex of energy and prep for your Wondrous Weekend. \nBenefits:\n– end your work week with a Grand Finale of energy and focus\n– tune into your greatest possibilities\n– charge up to party and have fun\n– magnetize high vibe people into your orbit\n– amplify the rest and recovery you need\n– as for hangovers\, not much I can do about that (hahaha!) \nParesh Shah is an experienced entrepreneur\, executive\, yogi\, life coach and father of four kids. He’s the founder and CEO of Los Angeles-based Glimpulse\, the “human expression company” that creates products to challenge\, inspire and equip people to be happier\, healthier and more giving through authentic self-expression.
URL:https://ramayogainstitute.com/event/waheguru-your-weekend-2022-12-23/
LOCATION:Online
CATEGORIES:In Person,RA MA TV Live
ATTACH;FMTTYPE=image/jpeg:https://ramayogainstitute.com/wp-content/uploads/2022/09/Paresh-Shah.jpg
END:VEVENT
BEGIN:VEVENT
DTSTART;TZID=America/Los_Angeles:20221223T180000
DTEND;TZID=America/Los_Angeles:20221223T200000
DTSTAMP:20260423T103047
CREATED:20221214T013530Z
LAST-MODIFIED:20221223T085058Z
UID:1758270-1671818400-1671825600@ramayogainstitute.com
SUMMARY:Create a Miracle: Let the Universe Come Through with Tej
DESCRIPTION:SIGN UP  \nTUNE IN  \nA Pre-Christmas Eve\, New Moon Kundalini Yoga & Meditation Workshop with Tej \nVirtually on RA MA TV & In Person @ RA MA Los Angeles
URL:https://ramayogainstitute.com/event/create-a-miracle-let-the-universe-come-through-with-tej/
LOCATION:Online
CATEGORIES:In Person,Pay Per View Workshops
ATTACH;FMTTYPE=image/jpeg:https://ramayogainstitute.com/wp-content/uploads/2022/12/Tej.jpg
END:VEVENT
BEGIN:VEVENT
DTSTART;TZID=America/Los_Angeles:20221224T090000
DTEND;TZID=America/Los_Angeles:20221224T103000
DTSTAMP:20260423T103047
CREATED:20211209T010530Z
LAST-MODIFIED:20221215T023841Z
UID:1735916-1671872400-1671877800@ramayogainstitute.com
SUMMARY:Christmas Eve with Shabadpreet
DESCRIPTION:Shabadpreet is the CEO of RA MA Institute for Applied Yogic Science and Technology with locations in Los Angeles\, California; Mallorca\, Spain; New York City\, and virtually on RA MA TV. \nWith the passing of Guru Jagat\, Shabadpreet continues RA MA’s Mission as a crossroads of consciousness\, wellbeing\, and creation-culture. Known for her healing approach\, Shabadpreet can also be found teaching in our Kundalini Trainings and in our three Global Women’s Programs. \nShabadpreet’s classes are fun\, meditative\, and deeply healing and provide a variety of tools that you can take into your daily life. \nYou can book private sessions with Shabadpreet here. \nTUNE IN
URL:https://ramayogainstitute.com/event/shabadpreet-kundalini-12-11-21-2022-01-08-2022-01-15-2022-05-21-2022-05-28-2022-12-24/
LOCATION:Online
CATEGORIES:Community Content,In Person,RA MA TV Live
ATTACH;FMTTYPE=image/jpeg:https://ramayogainstitute.com/wp-content/uploads/2021/12/Shabadpreet-3.jpg
END:VEVENT
BEGIN:VEVENT
DTSTART;TZID=America/Los_Angeles:20221224T110000
DTEND;TZID=America/Los_Angeles:20221224T123000
DTSTAMP:20260423T103047
CREATED:20220326T233512Z
LAST-MODIFIED:20221215T022329Z
UID:1739152-1671879600-1671885000@ramayogainstitute.com
SUMMARY:The Frequency of Joy with Mandev
DESCRIPTION:Mandev Khalsa is an award-winning filmmaker and creator of My Moon Map™\, an IOS mobile app to track your moods and behavior pattern using the ancient yogic science of the Moon Centers. For years\, Mandev has deeply researched esoteric energetic structures in yogic teachings to discover energy and power. \nMandev teaches at RA MA Institute. Her classes feature deep breathing\, mantra\, meditation\, and gong relaxation. She seamlessly guides the class through a mandala of yogic postures\, pranayam\, and meditation with an emphasis on conscious breathing\, proper posture\, applying precise techniques to open an infinite flow of energy in you. \nMandev provides invaluable insight into how to apply yogic teachings in a practical\, modern way. She teaches how love\, happiness and prosperity is a frequency you can subscribe to. Her classes focus on removing blocks\, installing prosperity patterns\, weaving celestial sound codes\, karma clearing\, third eye-opening\, mind crystallizing\, heart opening\, soul downloading. Each class with Mandev is fun\, deeply transformative\, and profoundly healing. \nShe travels the world with her teacher and husband Harijiwan leading Kundalini Trainings\, yatras\, and women’s programs. \nMandev recently launched a complimentary virtual women’s community: The Inner Moon Circle\, inviting women around the world to realize the infinite stream of energy at their fingertips through mapping the Moon Centers\, unlocking the power of the auric field\, and exploring and applying the vast ocean of women’s teachings Kundalini Yoga has to offer. \nConnect with Mandev on Instagram @mandevkhalsa & @mymoonmap \nFind out about upcoming yoga classes\, trainings\, yatras and more events mymoonmap.com \nYou can book private sessions with Mandev here. \nTUNE IN
URL:https://ramayogainstitute.com/event/kundalini-yoga-meditation-with-mandev-6-2022-05-12-2022-05-19-2022-09-14-2022-12-24/
LOCATION:Online
CATEGORIES:In Person,RA MA TV Live
ATTACH;FMTTYPE=image/jpeg:https://ramayogainstitute.com/wp-content/uploads/2022/03/Mandev-11.jpg
END:VEVENT
BEGIN:VEVENT
DTSTART;TZID=America/Los_Angeles:20221225T103000
DTEND;TZID=America/Los_Angeles:20221225T120000
DTSTAMP:20260423T103047
CREATED:20221214T020159Z
LAST-MODIFIED:20221214T040723Z
UID:1758293-1671964200-1671969600@ramayogainstitute.com
SUMMARY:Christmas Day with Harijiwan
DESCRIPTION:TUNE IN on RA MA TV LIVE \nNot a TV Live member? Drop In Here. \nJoin Harijiwan for a special Kundalini Yoga & Meditation class on Christmas Day. \nHarijiwan has been teaching Kundalini Yoga since 1975. He is the founder of the GRAMMY®-Award-Winning band\, White Sun. With over 44 years of experience in the science of Kundalini Yoga\, Harijiwan incorporates a vast knowledge of various methodologies and training into his practice. Today\, and throughout his years as a teacher and healer\, Harijiwan remains committed to expanding his knowledge and experience to provide his students with the most progressive\, effective\, self-empowering approaches that increase overall joy and wholeness within the context of everyday experiences.
URL:https://ramayogainstitute.com/event/christmas-day-with-harijiwan/
LOCATION:Online
CATEGORIES:In Person,Pay Per View Workshops,RA MA TV Live
ATTACH;FMTTYPE=image/jpeg:https://ramayogainstitute.com/wp-content/uploads/2022/09/Harijiwan-Select.jpg
END:VEVENT
END:VCALENDAR