BEGIN:VCALENDAR
VERSION:2.0
PRODID:-//RA MA LIFE - ECPv6.15.15//NONSGML v1.0//EN
CALSCALE:GREGORIAN
METHOD:PUBLISH
X-WR-CALNAME:RA MA LIFE
X-ORIGINAL-URL:https://ramayogainstitute.com
X-WR-CALDESC:Events for RA MA LIFE
REFRESH-INTERVAL;VALUE=DURATION:PT1H
X-Robots-Tag:noindex
X-PUBLISHED-TTL:PT1H
BEGIN:VTIMEZONE
TZID:America/Los_Angeles
BEGIN:DAYLIGHT
TZOFFSETFROM:-0800
TZOFFSETTO:-0700
TZNAME:PDT
DTSTART:20210314T100000
END:DAYLIGHT
BEGIN:STANDARD
TZOFFSETFROM:-0700
TZOFFSETTO:-0800
TZNAME:PST
DTSTART:20211107T090000
END:STANDARD
BEGIN:DAYLIGHT
TZOFFSETFROM:-0800
TZOFFSETTO:-0700
TZNAME:PDT
DTSTART:20220313T100000
END:DAYLIGHT
BEGIN:STANDARD
TZOFFSETFROM:-0700
TZOFFSETTO:-0800
TZNAME:PST
DTSTART:20221106T090000
END:STANDARD
BEGIN:DAYLIGHT
TZOFFSETFROM:-0800
TZOFFSETTO:-0700
TZNAME:PDT
DTSTART:20230312T100000
END:DAYLIGHT
BEGIN:STANDARD
TZOFFSETFROM:-0700
TZOFFSETTO:-0800
TZNAME:PST
DTSTART:20231105T090000
END:STANDARD
END:VTIMEZONE
BEGIN:VEVENT
DTSTART;TZID=America/Los_Angeles:20221207T190000
DTEND;TZID=America/Los_Angeles:20221207T210000
DTSTAMP:20260424T031352
CREATED:20221202T061033Z
LAST-MODIFIED:20221207T212020Z
UID:1755799-1670439600-1670446800@ramayogainstitute.com
SUMMARY:Full Moon in Gemini with Harijiwan
DESCRIPTION:SIGN UP \nTUNE IN \nKundalini Yoga\, Meditation & Gong Workshop \nVirtually on RA MA TV & In Person @RA MA Los Angeles \n$50 In Advance\, $55 Day Of \nHarijiwan has been teaching Kundalini Yoga since 1975. He is the founder of the GRAMMY®-Award-Winning band\, White Sun. With over 44 years of experience in the science of Kundalini Yoga\, Harijiwan incorporates a vast knowledge of various methodologies and training into his practice. Today\, and throughout his years as a teacher and healer\, Harijiwan remains committed to expanding his knowledge and experience to provide his students with the most progressive\, effective\, self-empowering approaches that increase overall joy and wholeness within the context of everyday experiences.
URL:https://ramayogainstitute.com/event/full-moon-in-gemini-with-harijiwan-2023/
LOCATION:Online
CATEGORIES:In Person,Pay Per View Workshops
ATTACH;FMTTYPE=image/jpeg:https://ramayogainstitute.com/wp-content/uploads/2022/09/Harijiwan-Select.jpg
END:VEVENT
BEGIN:VEVENT
DTSTART;TZID=America/Los_Angeles:20221210T090000
DTEND;TZID=America/Los_Angeles:20221210T180000
DTSTAMP:20260424T031352
CREATED:20221126T010349Z
LAST-MODIFIED:20221126T010350Z
UID:1753922-1670662800-1670695200@ramayogainstitute.com
SUMMARY:Immense Grace Presents: Applied Prosperity
DESCRIPTION:SIGN UP  \nImmense Grace Presents: Applied Prosperity\nMagnetize\, Vibrate\, and HOLD the Frequency of Prosperity\nwith Harijiwan\, Mandev\, Shabadpreet\, & Gurujas \nIn-person at RA MA Los Angeles\nVirtually on RA MA TV \nPrice:\n$199 pre-sale on or before Tuesday\, December 6\, 2022\n$249 after \n*Your purchase is non-transferable and non-refundable.
URL:https://ramayogainstitute.com/event/immense-grace-presents-applied-prosperity/
LOCATION:Online
CATEGORIES:Courses & Events,In Person
ATTACH;FMTTYPE=image/jpeg:https://ramayogainstitute.com/wp-content/uploads/2022/11/CampGraceIdyllwild2022021JW.jpg
END:VEVENT
BEGIN:VEVENT
DTSTART;TZID=America/Los_Angeles:20221211T183000
DTEND;TZID=America/Los_Angeles:20221211T193000
DTSTAMP:20260424T031352
CREATED:20221126T011648Z
LAST-MODIFIED:20221207T203848Z
UID:1753933-1670783400-1670787000@ramayogainstitute.com
SUMMARY:Clearing Your Space: Feng Shui for Abundance with Anjie Cho
DESCRIPTION:SIGN UP  \nTUNE IN \nOur inner and outer environments are interconnected and interdependent. Our homes are our bodies. \nWe’re approaching the end of 2022. In feng shui\, it’s helpful to clear your space during transitional times like this. In this workshop: \n\nLet go of the qi no longer serving you to invite space for new\nLearn about clearing your space with feng shui for abundance\nReview five different ways to shift the energy of your home\nEnd with a virtual space blessing.\n\nSunday\, December 12\, 2022 from 6:30 – 7:30pm PST \nIn Person at RA MA Los Angeles and Virtually on RA MA TV
URL:https://ramayogainstitute.com/event/clearing-your-space-feng-shui-for-abundance-with-anjie-cho/
LOCATION:Online
CATEGORIES:In Person,Pay Per View Workshops
ATTACH;FMTTYPE=image/jpeg:https://ramayogainstitute.com/wp-content/uploads/2022/12/Anjie-Cho-Feng-Shui.jpg
END:VEVENT
END:VCALENDAR