BEGIN:VCALENDAR
VERSION:2.0
PRODID:-//RA MA LIFE - ECPv6.15.15//NONSGML v1.0//EN
CALSCALE:GREGORIAN
METHOD:PUBLISH
X-ORIGINAL-URL:https://ramayogainstitute.com
X-WR-CALDESC:Events for RA MA LIFE
REFRESH-INTERVAL;VALUE=DURATION:PT1H
X-Robots-Tag:noindex
X-PUBLISHED-TTL:PT1H
BEGIN:VTIMEZONE
TZID:America/Los_Angeles
BEGIN:DAYLIGHT
TZOFFSETFROM:-0800
TZOFFSETTO:-0700
TZNAME:PDT
DTSTART:20210314T100000
END:DAYLIGHT
BEGIN:STANDARD
TZOFFSETFROM:-0700
TZOFFSETTO:-0800
TZNAME:PST
DTSTART:20211107T090000
END:STANDARD
BEGIN:DAYLIGHT
TZOFFSETFROM:-0800
TZOFFSETTO:-0700
TZNAME:PDT
DTSTART:20220313T100000
END:DAYLIGHT
BEGIN:STANDARD
TZOFFSETFROM:-0700
TZOFFSETTO:-0800
TZNAME:PST
DTSTART:20221106T090000
END:STANDARD
BEGIN:DAYLIGHT
TZOFFSETFROM:-0800
TZOFFSETTO:-0700
TZNAME:PDT
DTSTART:20230312T100000
END:DAYLIGHT
BEGIN:STANDARD
TZOFFSETFROM:-0700
TZOFFSETTO:-0800
TZNAME:PST
DTSTART:20231105T090000
END:STANDARD
END:VTIMEZONE
BEGIN:VEVENT
DTSTART;TZID=America/Los_Angeles:20221129T190000
DTEND;TZID=America/Los_Angeles:20221129T201500
DTSTAMP:20260423T154601
CREATED:20221126T002216Z
LAST-MODIFIED:20221129T032228Z
UID:1753872-1669748400-1669752900@ramayogainstitute.com
SUMMARY:Kundalini Yoga & Meditation with Alexis
DESCRIPTION:TUNE IN \nAlexis met her teacher\, Harijiwan in 2012 and in 2013 took her first of many kundalini trainings with Harijiwan and Tej. She began teaching at the brand new RA MA Venice and has been practicing and using the Kundalini Yoga technology to upgrade and expand her potential ever since. \nAlexis is also a mother and successful working actress. She has appeared in several television shows and feature films such as THIS IS US\, GRACE AND FRANKIE\, THE RESIDENT\, JERSEY BOYS AND THE GET DOWN. She also teaches and coaches other actors through Lesly Kahn & Co Acting Studio. \nAlexis loves deepening her daily practice and continuing to study and learn from her teacher\, Harijiwan. \n 
URL:https://ramayogainstitute.com/event/kundalini-yoga-meditation-alexis-di-salvo/2022-11-29/
LOCATION:Online
CATEGORIES:In Person,RA MA TV Live
ATTACH;FMTTYPE=image/jpeg:https://ramayogainstitute.com/wp-content/uploads/2022/11/Alexis-Krause-Di-Salvo-2.jpg
END:VEVENT
BEGIN:VEVENT
DTSTART;TZID=America/Los_Angeles:20221130T190000
DTEND;TZID=America/Los_Angeles:20221130T201500
DTSTAMP:20260423T154601
CREATED:20220903T013500Z
LAST-MODIFIED:20221201T000028Z
UID:1749602-1669834800-1669839300@ramayogainstitute.com
SUMMARY:Fundamentals
DESCRIPTION:TUNE IN \nBuild your foundation with essential kriyas and meditations. This can be an introduction to kundalini yoga for those who are newer to the practice and an opportunity to refresh and go deeper on the fundamentals for more experienced practitioners! \nAbout The Teacher: Mary Margaret Skelly\nAfter spending over a decade in executive search on Wall Street and in Silicon Valley\, Mary Margaret trained in executive coaching with Founder Bay\, the leadership advisory firm founded by the exclusive executive coach to acquired CEOs at Google. \nToday she works with C-suite executives\, government leaders\, entrepreneurs and emerging leaders across industries. She’s coached hundreds of professionals as they seek to develop as leaders\, plan major career shifts\, and manage their energy. \n 
URL:https://ramayogainstitute.com/event/embodying-success-with-iram-2022-11-09-2022-11-30/
LOCATION:Online
CATEGORIES:In Person,RA MA TV Live
ATTACH;FMTTYPE=image/jpeg:https://ramayogainstitute.com/wp-content/uploads/2022/09/Fundamentals.jpeg
END:VEVENT
BEGIN:VEVENT
DTSTART;TZID=America/Los_Angeles:20221202T090000
DTEND;TZID=America/Los_Angeles:20221202T103000
DTSTAMP:20260423T154601
CREATED:20221201T225538Z
LAST-MODIFIED:20221201T230158Z
UID:1755722-1669971600-1669977000@ramayogainstitute.com
SUMMARY:The Attitude of Gratitude: Opening the Channels of Giving & Receiving
DESCRIPTION:TUNE IN  \nGratitude is an expression of Divine intent\, and the optimum way to navigate through time and space. \nEverything you give and receive needs to be blessed with gratitude so the positive polarity can be activated. By giving in the finite form\, you receive from the Infinite. Acts of giving and receiving are opportunities to create more harmonious relationships and environments and enter the natural flow of positive intention. This heart-centered state of reciprocity is the foundation of the Aquarian Age\, a time of accelerated consciousness and unprecedented levels of communication. Join Mandev as she uses Kundalini Yoga\, deep Meditation and the Gong to balance and synchronize your mind\, body and spirit with the cosmic flow of gratitude. Release your deep subconscious blocks\, which will enhance your self-worth\, expand your capacity to receive\, and increase your ability to give and excel.
URL:https://ramayogainstitute.com/event/the-attitude-of-gratitude-opening-the-channels-of-giving-receiving/2022-12-02/
LOCATION:Online
CATEGORIES:In Person,RA MA TV Live
ATTACH;FMTTYPE=image/jpeg:https://ramayogainstitute.com/wp-content/uploads/2022/08/Mandev-Stage-Photo-small.jpg
END:VEVENT
BEGIN:VEVENT
DTSTART;TZID=America/Los_Angeles:20221204T074500
DTEND;TZID=America/Los_Angeles:20221204T083000
DTSTAMP:20260423T154601
CREATED:20221023T082553Z
LAST-MODIFIED:20221126T005847Z
UID:1747423-1670139900-1670142600@ramayogainstitute.com
SUMMARY:Long Life Meditation with Siri Shakti
DESCRIPTION:TUNE IN
URL:https://ramayogainstitute.com/event/long-life-meditation-with-santosh-2022-12-04/
LOCATION:Online
CATEGORIES:Community Content,In Person,RA MA TV Live
ATTACH;FMTTYPE=image/jpeg:https://ramayogainstitute.com/wp-content/uploads/2022/02/Siri-Shakti-.jpeg
END:VEVENT
END:VCALENDAR