BEGIN:VCALENDAR
VERSION:2.0
PRODID:-//RA MA LIFE - ECPv6.15.15//NONSGML v1.0//EN
CALSCALE:GREGORIAN
METHOD:PUBLISH
X-ORIGINAL-URL:https://ramayogainstitute.com
X-WR-CALDESC:Events for RA MA LIFE
REFRESH-INTERVAL;VALUE=DURATION:PT1H
X-Robots-Tag:noindex
X-PUBLISHED-TTL:PT1H
BEGIN:VTIMEZONE
TZID:America/Los_Angeles
BEGIN:DAYLIGHT
TZOFFSETFROM:-0800
TZOFFSETTO:-0700
TZNAME:PDT
DTSTART:20210314T100000
END:DAYLIGHT
BEGIN:STANDARD
TZOFFSETFROM:-0700
TZOFFSETTO:-0800
TZNAME:PST
DTSTART:20211107T090000
END:STANDARD
BEGIN:DAYLIGHT
TZOFFSETFROM:-0800
TZOFFSETTO:-0700
TZNAME:PDT
DTSTART:20220313T100000
END:DAYLIGHT
BEGIN:STANDARD
TZOFFSETFROM:-0700
TZOFFSETTO:-0800
TZNAME:PST
DTSTART:20221106T090000
END:STANDARD
BEGIN:DAYLIGHT
TZOFFSETFROM:-0800
TZOFFSETTO:-0700
TZNAME:PDT
DTSTART:20230312T100000
END:DAYLIGHT
BEGIN:STANDARD
TZOFFSETFROM:-0700
TZOFFSETTO:-0800
TZNAME:PST
DTSTART:20231105T090000
END:STANDARD
END:VTIMEZONE
BEGIN:VEVENT
DTSTART;TZID=America/Los_Angeles:20221121T190000
DTEND;TZID=America/Los_Angeles:20221121T201500
DTSTAMP:20260423T140453
CREATED:20221118T054354Z
LAST-MODIFIED:20221118T054354Z
UID:1752520-1669057200-1669061700@ramayogainstitute.com
SUMMARY:Kundalini Yoga & Meditation with Ray
DESCRIPTION:TUNE IN on RA MA TV Live \nRay has a finance background but also likes long walks on the beach\, crystals and raising the collective V ⚡️ B E. Kundalini has changed his life tremendously and he has deep a passion to share what he’s learned along his personal journey with others at all levels.
URL:https://ramayogainstitute.com/event/kundalini-yoga-meditation-with-ray-2/2022-11-21/
LOCATION:Online
CATEGORIES:In Person,RA MA TV Live
END:VEVENT
BEGIN:VEVENT
DTSTART;TZID=America/Los_Angeles:20221122T190000
DTEND;TZID=America/Los_Angeles:20221122T203000
DTSTAMP:20260423T140453
CREATED:20211028T002901Z
LAST-MODIFIED:20221118T052307Z
UID:1743534-1669143600-1669149000@ramayogainstitute.com
SUMMARY:Kundalini Yoga & Meditation with Gurujas
DESCRIPTION:Gurujas teaches that Kundalini Yoga is an experientially-based system–a science of joy\, fulfillment and love. She also believes that happiness is a vibrational frequency\, and can be an enduring state of being. Gurujas is the lead singer of the Grammy Award winning group White Sun. \nLearn More & Tune In
URL:https://ramayogainstitute.com/event/kundalini-yoga-meditation-with-gurujas-11-2021-12-05-2022-01-09-2022-02-27-2022-04-19-2022-04-26-2022-11-22/
LOCATION:Online
CATEGORIES:In Person,RA MA TV Live
ATTACH;FMTTYPE=image/jpeg:https://ramayogainstitute.com/wp-content/uploads/2021/10/Gurujas-7.jpg
END:VEVENT
BEGIN:VEVENT
DTSTART;TZID=America/Los_Angeles:20221123T110000
DTEND;TZID=America/Los_Angeles:20221123T120000
DTSTAMP:20260423T140453
CREATED:20211217T191549Z
LAST-MODIFIED:20221122T003247Z
UID:1742153-1669201200-1669204800@ramayogainstitute.com
SUMMARY:New Moon Blooming with Marta Ulbricht
DESCRIPTION:Learn More & Tune In
URL:https://ramayogainstitute.com/event/marta-ulbricht-kundalini-12-22-21-2022-08-17-2022-08-31-2022-11-23/
LOCATION:Online
CATEGORIES:In Person,RA MA TV Live
ATTACH;FMTTYPE=image/jpeg:https://ramayogainstitute.com/wp-content/uploads/2021/12/Marta-Ulbricht.jpg
END:VEVENT
BEGIN:VEVENT
DTSTART;TZID=America/Los_Angeles:20221123T190000
DTEND;TZID=America/Los_Angeles:20221123T201500
DTSTAMP:20260423T140453
CREATED:20221122T001653Z
LAST-MODIFIED:20221122T001653Z
UID:1753294-1669230000-1669234500@ramayogainstitute.com
SUMMARY:Grateful Inspiration with Joanna Pitt
DESCRIPTION:
URL:https://ramayogainstitute.com/event/grateful-inspiration-with-joanna-pitt/
LOCATION:Online
CATEGORIES:In Person,RA MA TV Live
ATTACH;FMTTYPE=image/jpeg:https://ramayogainstitute.com/wp-content/uploads/2022/07/JoannaPitt1920x1280.jpg
END:VEVENT
BEGIN:VEVENT
DTSTART;TZID=America/Los_Angeles:20221124T090000
DTEND;TZID=America/Los_Angeles:20221124T103000
DTSTAMP:20260423T140453
CREATED:20221118T055617Z
LAST-MODIFIED:20221118T060259Z
UID:1752582-1669280400-1669285800@ramayogainstitute.com
SUMMARY:Gratitude Meditation with Malyvahn
DESCRIPTION:TUNE IN  (RA MA TV Live Members) \nSIGN UP $22 to Drop In \nMalyvahn studied with Tej & Harijiwan. Kundalini Yoga and Meditation was a lighting fast practice for her self growth and healing. An entrepreneur at heart. Her goal is to hold a healing space\, guided by the teachings\, where each student can reach their highest bliss of prosperity!
URL:https://ramayogainstitute.com/event/gratitude-meditation-with-malyvahn/
LOCATION:Online
CATEGORIES:In Person,Pay Per View Workshops,RA MA TV Live
ATTACH;FMTTYPE=image/jpeg:https://ramayogainstitute.com/wp-content/uploads/2022/11/Malyvahn.jpg
END:VEVENT
BEGIN:VEVENT
DTSTART;TZID=America/Los_Angeles:20221125T090000
DTEND;TZID=America/Los_Angeles:20221125T103000
DTSTAMP:20260423T140453
CREATED:20221118T054945Z
LAST-MODIFIED:20221118T060141Z
UID:1752556-1669366800-1669372200@ramayogainstitute.com
SUMMARY:Kundalini Yoga & Meditation with Teg Prakash
DESCRIPTION:TUNE IN on RA MA TV Live \nTeg Prakash is a Kundalini Yoga teacher\, astrologer\, and intuitive sound healer with a passionate curiosity for the teachings of Kundalini Yoga\, as taught by Yogi Bhajan\, and seeks to bring people to a true sense of their soul through astrology\, their personal power through yoga\, and their peace through the power of sound.
URL:https://ramayogainstitute.com/event/kundalini-yoga-meditation-with-teg-prakash-2/2022-11-25/
LOCATION:Online
CATEGORIES:In Person,RA MA TV Live
ATTACH;FMTTYPE=image/jpeg:https://ramayogainstitute.com/wp-content/uploads/2022/06/Teg-Prakash-Looking-Up-Vimeo-Thumbnail.jpg
END:VEVENT
BEGIN:VEVENT
DTSTART;TZID=America/Los_Angeles:20221127T074500
DTEND;TZID=America/Los_Angeles:20221127T083000
DTSTAMP:20260423T140453
CREATED:20221023T082553Z
LAST-MODIFIED:20221118T062349Z
UID:1747422-1669535100-1669537800@ramayogainstitute.com
SUMMARY:Long Life Meditation
DESCRIPTION:TUNE IN
URL:https://ramayogainstitute.com/event/long-life-meditation-with-santosh-2022-11-27/
LOCATION:Online
CATEGORIES:Community Content,In Person,RA MA TV Live
ATTACH;FMTTYPE=image/jpeg:https://ramayogainstitute.com/wp-content/uploads/2021/02/Damanpreet-cal-icon.jpg
END:VEVENT
BEGIN:VEVENT
DTSTART;TZID=America/Los_Angeles:20221127T090000
DTEND;TZID=America/Los_Angeles:20221127T103000
DTSTAMP:20260423T140453
CREATED:20221118T061129Z
LAST-MODIFIED:20221118T061311Z
UID:1752632-1669539600-1669545000@ramayogainstitute.com
SUMMARY:Kundalini Yoga & Meditation with Damanpreet
DESCRIPTION:TUNE IN on RA MA TV LIVE \nFrom her first exposure to Kundalini Yoga in 2011 and through traveling extensively around the world with her teacher Harijiwan\, Damanpreet’s intimate understanding of the ancient practices of Kundalini Yoga has grown exponentially from first-hand practice and experience.\n​\nThe focus and discipline of Damanpreet’s\npersonal practice and the exact science of Kundalini Yoga is reflected in the depth of her understanding of the human psyche. Coupled with her ten years of professional experience working with clients\, alongside her own multifaceted background\, Damanpreet is uniquely qualified to merge the Western and Eastern mindset\, bringing together the best of two complementary worlds. \nDamanpreet’s method is penetrating\, uplifting\, and radically transformational. Her mission is to contribute to the positive unfoldment of the human potential intrinsic in every individual: she is her own Treasure Revealer ready to serve and activate the Treasure Revealer in you.
URL:https://ramayogainstitute.com/event/kundalini-yoga-meditation-with-damanpreet-3/
LOCATION:Online
CATEGORIES:In Person,RA MA TV Live
ATTACH;FMTTYPE=image/jpeg:https://ramayogainstitute.com/wp-content/uploads/2021/02/Damanpreet-cal-icon.jpg
END:VEVENT
BEGIN:VEVENT
DTSTART;TZID=America/Los_Angeles:20221127T160000
DTEND;TZID=America/Los_Angeles:20221127T173000
DTSTAMP:20260423T140453
CREATED:20211111T222113Z
LAST-MODIFIED:20221118T060843Z
UID:1743590-1669564800-1669570200@ramayogainstitute.com
SUMMARY:The Healing Power in Sharing & Caring with Tej
DESCRIPTION:TUNE IN on RA MA TV LIVE \nSIGN UP $22 to Drop In \nTej Kaur Khalsa has been a student of traditional Kundalini for over 35 years. She is a Custodian of Kundalini knowledge\, and a recognized authority on the teachings. \n 
URL:https://ramayogainstitute.com/event/kundalini-tej-11-20-21-2021-12-05-2022-01-09-2022-04-24-2022-05-01-2022-11-27/
LOCATION:Online
CATEGORIES:In Person,Pay Per View Workshops,RA MA TV Live
ATTACH;FMTTYPE=image/png:https://ramayogainstitute.com/wp-content/uploads/2021/05/tej-cal-icon.png
END:VEVENT
END:VCALENDAR