BEGIN:VCALENDAR
VERSION:2.0
PRODID:-//RA MA LIFE - ECPv6.15.15//NONSGML v1.0//EN
CALSCALE:GREGORIAN
METHOD:PUBLISH
X-WR-CALNAME:RA MA LIFE
X-ORIGINAL-URL:https://ramayogainstitute.com
X-WR-CALDESC:Events for RA MA LIFE
REFRESH-INTERVAL;VALUE=DURATION:PT1H
X-Robots-Tag:noindex
X-PUBLISHED-TTL:PT1H
BEGIN:VTIMEZONE
TZID:America/Los_Angeles
BEGIN:DAYLIGHT
TZOFFSETFROM:-0800
TZOFFSETTO:-0700
TZNAME:PDT
DTSTART:20210314T100000
END:DAYLIGHT
BEGIN:STANDARD
TZOFFSETFROM:-0700
TZOFFSETTO:-0800
TZNAME:PST
DTSTART:20211107T090000
END:STANDARD
BEGIN:DAYLIGHT
TZOFFSETFROM:-0800
TZOFFSETTO:-0700
TZNAME:PDT
DTSTART:20220313T100000
END:DAYLIGHT
BEGIN:STANDARD
TZOFFSETFROM:-0700
TZOFFSETTO:-0800
TZNAME:PST
DTSTART:20221106T090000
END:STANDARD
BEGIN:DAYLIGHT
TZOFFSETFROM:-0800
TZOFFSETTO:-0700
TZNAME:PDT
DTSTART:20230312T100000
END:DAYLIGHT
BEGIN:STANDARD
TZOFFSETFROM:-0700
TZOFFSETTO:-0800
TZNAME:PST
DTSTART:20231105T090000
END:STANDARD
END:VTIMEZONE
BEGIN:VEVENT
DTSTART;TZID=America/Los_Angeles:20221107T190000
DTEND;TZID=America/Los_Angeles:20221107T201500
DTSTAMP:20260423T151604
CREATED:20221105T223004Z
LAST-MODIFIED:20221114T005637Z
UID:1748905-1667847600-1667852100@ramayogainstitute.com
SUMMARY:Kundalini Yoga & Meditation with Jen Saltiel
DESCRIPTION:TUNE IN
URL:https://ramayogainstitute.com/event/kundalini-yoga-meditation-with-ray/2022-11-07/
LOCATION:Online
CATEGORIES:In Person,RA MA TV Live
ATTACH;FMTTYPE=image/jpeg:https://ramayogainstitute.com/wp-content/uploads/2022/06/Jen-Saltiel-Vimeo-Thumbnail.jpg
END:VEVENT
BEGIN:VEVENT
DTSTART;TZID=America/Los_Angeles:20221108T090000
DTEND;TZID=America/Los_Angeles:20221108T103000
DTSTAMP:20260423T151604
CREATED:20211028T002901Z
LAST-MODIFIED:20221105T223403Z
UID:1743530-1667898000-1667903400@ramayogainstitute.com
SUMMARY:Symphony of The Pure Land with Gurujas
DESCRIPTION:Gurujas teaches that Kundalini Yoga is an experientially-based system–a science of joy\, fulfillment and love. She also believes that happiness is a vibrational frequency\, and can be an enduring state of being. Gurujas is the lead singer of the Grammy Award winning group White Sun. \nLearn More & Tune In
URL:https://ramayogainstitute.com/event/kundalini-yoga-meditation-with-gurujas-11-2021-12-05-2022-01-09-2022-02-27-2022-04-19-2022-04-26-2022-11-08/
LOCATION:Online
CATEGORIES:In Person,RA MA TV Live
ATTACH;FMTTYPE=image/jpeg:https://ramayogainstitute.com/wp-content/uploads/2021/10/Gurujas-7.jpg
END:VEVENT
BEGIN:VEVENT
DTSTART;TZID=America/Los_Angeles:20221108T110000
DTEND;TZID=America/Los_Angeles:20221108T120000
DTSTAMP:20260423T151604
CREATED:20220730T013956Z
LAST-MODIFIED:20221105T224123Z
UID:1727785-1667905200-1667908800@ramayogainstitute.com
SUMMARY:Inner Wealth: Prosperity Hour with Malyvahn
DESCRIPTION:TUNE IN \nJoin us for this special new series “Prosperity Hour.” These practices will brighten your day and expand the aura in all directions unlocking your hidden treasures. Invest an hour to charge up and experience your power to set a projection that lasts. Health\, Wealth\, Happiness. Thank you. \nMalyvahn studied with Tej & Harijiwan. Kundalini Yoga and Meditation was a lighting fast practice for her self growth and healing. An entrepreneur at heart. Her goal is to hold a healing space\, guided by the teachings\, where each student can reach their highest bliss of prosperity!
URL:https://ramayogainstitute.com/event/prosperity-hour-with-malyvahn-2022-10-04-2022-11-08/
LOCATION:Online
CATEGORIES:In Person,RA MA TV Live
ATTACH;FMTTYPE=image/jpeg:https://ramayogainstitute.com/wp-content/uploads/2022/01/Malyvahn-6.jpg
END:VEVENT
BEGIN:VEVENT
DTSTART;TZID=America/Los_Angeles:20221108T190000
DTEND;TZID=America/Los_Angeles:20221108T210000
DTSTAMP:20260423T151604
CREATED:20221105T061318Z
LAST-MODIFIED:20221108T051641Z
UID:1748790-1667934000-1667941200@ramayogainstitute.com
SUMMARY:Total Lunar Eclipse with Harijiwan
DESCRIPTION:SIGN UP \nTUNE IN  \nKundalini Yoga\, Meditation & Gong Workshop\nVirtually on RA MA TV & In Person @RA MA Los Angeles \nHarijiwan has been teaching Kundalini Yoga since 1975. He is the founder of the GRAMMY®-Award-Winning band\, White Sun. With over 44 years of experience in the science of Kundalini Yoga\, Harijiwan incorporates a vast knowledge of various methodologies and training into his practice. Today\, and throughout his years as a teacher and healer\, Harijiwan remains committed to expanding his knowledge and experience to provide his students with the most progressive\, effective\, self-empowering approaches that increase overall joy and wholeness within the context of everyday experiences. \n@harijiwan
URL:https://ramayogainstitute.com/event/total-lunar-eclipse-with-harijiwan/
LOCATION:Online
CATEGORIES:In Person,Pay Per View Workshops
ATTACH;FMTTYPE=image/jpeg:https://ramayogainstitute.com/wp-content/uploads/2022/09/Harijiwan-by-Santosh-Beach-Workshop-Thursday-April-21-2022-2_Chase-Edit.jpg
END:VEVENT
BEGIN:VEVENT
DTSTART;TZID=America/Los_Angeles:20221109T080000
DTEND;TZID=America/Los_Angeles:20221109T090000
DTSTAMP:20260423T151604
CREATED:20220601T025754Z
LAST-MODIFIED:20221109T000551Z
UID:1714624-1667980800-1667984400@ramayogainstitute.com
SUMMARY:Kundalini Yoga & Meditation with Sher Kirtan
DESCRIPTION:Tune In
URL:https://ramayogainstitute.com/event/kundalini-yoga-meditation-with-anne-v-2022-07-13-2022-11-09/
LOCATION:RA MA New York & Online
CATEGORIES:In Person,RA MA TV Live
ATTACH;FMTTYPE=image/jpeg:https://ramayogainstitute.com/wp-content/uploads/2022/07/Sher-Kirtan-New-York.jpg
END:VEVENT
BEGIN:VEVENT
DTSTART;TZID=America/Los_Angeles:20221111T110000
DTEND;TZID=America/Los_Angeles:20221111T123000
DTSTAMP:20260423T151604
CREATED:20220918T190708Z
LAST-MODIFIED:20221109T034748Z
UID:1739085-1668164400-1668169800@ramayogainstitute.com
SUMMARY:With Love from the Golden Archives
DESCRIPTION:Guru Jagat was a celebrated and iconoclastic thought leader who forged a new path of modern wellness. She embodied “creation culture” as an author\, fashion designer\, teacher\, musician\, chef\, and entrepreneur. She founded RA MA in 2013 and left a lasting legacy amongst her students\, family and friends. \nTUNE IN ON RA MA TV LIVE
URL:https://ramayogainstitute.com/event/with-love-from-the-golden-archives-3-2022-11-11/
LOCATION:Online on RA MA TV
CATEGORIES:RA MA TV Live
ATTACH;FMTTYPE=image/jpeg:https://ramayogainstitute.com/wp-content/uploads/2021/05/guru-jagat-oaxaca1-2.jpg
END:VEVENT
BEGIN:VEVENT
DTSTART;TZID=America/Los_Angeles:20221111T110000
DTEND;TZID=America/Los_Angeles:20221111T123000
DTSTAMP:20260423T151604
CREATED:20221109T035239Z
LAST-MODIFIED:20221111T040149Z
UID:1750021-1668164400-1668169800@ramayogainstitute.com
SUMMARY:62 Minute Ant Na Siftee Meditation with Gurujas
DESCRIPTION:SIGN UP \nTUNE IN  \nGurujas is a kundalini yoga teacher and a singer\, songwriter\, and musician. She has gained a worldwide reputation as the lead singer of White Sun\, a Grammy®-award winning band\, and a Billboard #1 artist. As a kundalini yoga teacher\, she is known as being intensely devoted to the accuracy of the teachings\, as well as incorporating contemporary science and practical every-day applications. As a singer\, she is known for her distinctive vocals\, her ethereal live performances\, and her ability to heal through song.
URL:https://ramayogainstitute.com/event/62-minute-ant-na-siftee-meditation-with-gurujas/
LOCATION:Online
CATEGORIES:In Person,Pay Per View Workshops
ATTACH;FMTTYPE=image/jpeg:https://ramayogainstitute.com/wp-content/uploads/2022/11/1111-RA-MA-2022.jpg
END:VEVENT
BEGIN:VEVENT
DTSTART;TZID=America/Los_Angeles:20221111T170000
DTEND;TZID=America/Los_Angeles:20221111T174000
DTSTAMP:20260423T151604
CREATED:20221108T222612Z
LAST-MODIFIED:20221108T230640Z
UID:1749514-1668186000-1668188400@ramayogainstitute.com
SUMMARY:Royal Evening Star: Dhartee Hei Global Meditation
DESCRIPTION:RSVP \nTUNE IN \nThis meditation is practiced for 31 minutes in the evening – around sunset –  and uses the mantra Dhartee Hei to connect the heavens to the Earth. \nRSVP to join the RA MA Global Community for 40 days leading up to the Winter Solstice. Enter your email below to access to the daily zoom link and access to the Dhartee Hei event portal.
URL:https://ramayogainstitute.com/event/royal-evening-star-dhartee-hei-global-meditation/2022-11-11/
LOCATION:Online on Zoom
CATEGORIES:Community Content,RA MA TV Live
ATTACH;FMTTYPE=image/jpeg:https://ramayogainstitute.com/wp-content/uploads/2020/11/1920x1080Horizontal_DharteeHei-1.jpg
END:VEVENT
BEGIN:VEVENT
DTSTART;TZID=America/Los_Angeles:20221111T180000
DTEND;TZID=America/Los_Angeles:20221111T200000
DTSTAMP:20260423T151604
CREATED:20221105T222203Z
LAST-MODIFIED:20221110T021442Z
UID:1748901-1668189600-1668196800@ramayogainstitute.com
SUMMARY:Portal of Infinity with Harijiwan
DESCRIPTION:SIGN UP  \nTUNE IN \nKundalini Yoga\, Meditation & Gong Workshop\nVirtually on RA MA TV & In Person @RA MA Los Angeles \nHarijiwan has been teaching Kundalini Yoga since 1975. He is the founder of the GRAMMY®-Award-Winning band\, White Sun. With over 44 years of experience in the science of Kundalini Yoga\, Harijiwan incorporates a vast knowledge of various methodologies and training into his practice. Today\, and throughout his years as a teacher and healer\, Harijiwan remains committed to expanding his knowledge and experience to provide his students with the most progressive\, effective\, self-empowering approaches that increase overall joy and wholeness within the context of everyday experiences. \n@harijiwan
URL:https://ramayogainstitute.com/event/portal-of-infinity-with-harijiwan/
LOCATION:Online
CATEGORIES:In Person,Pay Per View Workshops
ATTACH;FMTTYPE=image/jpeg:https://ramayogainstitute.com/wp-content/uploads/2022/11/1111-RA-MA-2022.jpg
END:VEVENT
BEGIN:VEVENT
DTSTART;TZID=America/Los_Angeles:20221112T090000
DTEND;TZID=America/Los_Angeles:20221112T103000
DTSTAMP:20260423T151604
CREATED:20211209T010530Z
LAST-MODIFIED:20221111T034259Z
UID:1711125-1668243600-1668249000@ramayogainstitute.com
SUMMARY:Kundalini Yoga & Meditation with Shabadpreet
DESCRIPTION:Shabadpreet is the CEO of RA MA Institute for Applied Yogic Science and Technology with locations in Los Angeles\, California; Mallorca\, Spain; New York City\, and virtually on RA MA TV. \nWith the passing of Guru Jagat\, Shabadpreet continues RA MA’s Mission as a crossroads of consciousness\, wellbeing\, and creation-culture. Known for her healing approach\, Shabadpreet can also be found teaching in our Kundalini Trainings and in our three Global Women’s Programs. \nShabadpreet’s classes are fun\, meditative\, and deeply healing and provide a variety of tools that you can take into your daily life. \nYou can book private sessions with Shabadpreet here. \nTUNE IN
URL:https://ramayogainstitute.com/event/shabadpreet-kundalini-12-11-21-2022-01-08-2022-01-15-2022-05-21-2022-05-28-2022-11-12/
LOCATION:Online
CATEGORIES:In Person,RA MA TV Live
ATTACH;FMTTYPE=image/jpeg:https://ramayogainstitute.com/wp-content/uploads/2022/05/Shabadpreet-Calendar-Icon.jpg
END:VEVENT
BEGIN:VEVENT
DTSTART;TZID=America/Los_Angeles:20221113T160000
DTEND;TZID=America/Los_Angeles:20221113T173000
DTSTAMP:20260423T151604
CREATED:20211111T222113Z
LAST-MODIFIED:20221105T224356Z
UID:1743588-1668355200-1668360600@ramayogainstitute.com
SUMMARY:Kundalini Yoga & Meditation with Tej
DESCRIPTION:Tej Kaur Khalsa has been a student of traditional Kundalini for over 35 years. She is a Custodian of Kundalini knowledge\, and a recognized authority on the teachings. \nLearn More & Tune In
URL:https://ramayogainstitute.com/event/kundalini-tej-11-20-21-2021-12-05-2022-01-09-2022-04-24-2022-05-01-2022-11-13/
LOCATION:Online
CATEGORIES:In Person,RA MA TV Live
ATTACH;FMTTYPE=image/png:https://ramayogainstitute.com/wp-content/uploads/2021/05/tej-cal-icon.png
END:VEVENT
END:VCALENDAR