BEGIN:VCALENDAR
VERSION:2.0
PRODID:-//RA MA LIFE - ECPv6.15.15//NONSGML v1.0//EN
CALSCALE:GREGORIAN
METHOD:PUBLISH
X-WR-CALNAME:RA MA LIFE
X-ORIGINAL-URL:https://ramayogainstitute.com
X-WR-CALDESC:Events for RA MA LIFE
REFRESH-INTERVAL;VALUE=DURATION:PT1H
X-Robots-Tag:noindex
X-PUBLISHED-TTL:PT1H
BEGIN:VTIMEZONE
TZID:America/Los_Angeles
BEGIN:DAYLIGHT
TZOFFSETFROM:-0800
TZOFFSETTO:-0700
TZNAME:PDT
DTSTART:20210314T100000
END:DAYLIGHT
BEGIN:STANDARD
TZOFFSETFROM:-0700
TZOFFSETTO:-0800
TZNAME:PST
DTSTART:20211107T090000
END:STANDARD
BEGIN:DAYLIGHT
TZOFFSETFROM:-0800
TZOFFSETTO:-0700
TZNAME:PDT
DTSTART:20220313T100000
END:DAYLIGHT
BEGIN:STANDARD
TZOFFSETFROM:-0700
TZOFFSETTO:-0800
TZNAME:PST
DTSTART:20221106T090000
END:STANDARD
BEGIN:DAYLIGHT
TZOFFSETFROM:-0800
TZOFFSETTO:-0700
TZNAME:PDT
DTSTART:20230312T100000
END:DAYLIGHT
BEGIN:STANDARD
TZOFFSETFROM:-0700
TZOFFSETTO:-0800
TZNAME:PST
DTSTART:20231105T090000
END:STANDARD
END:VTIMEZONE
BEGIN:VEVENT
DTSTART;TZID=America/Los_Angeles:20221031T040000
DTEND;TZID=America/Los_Angeles:20221031T213000
DTSTAMP:20260423T140309
CREATED:20221027T200755Z
LAST-MODIFIED:20221027T200757Z
UID:1747261-1667188800-1667251800@ramayogainstitute.com
SUMMARY:All Hallow's Eve
DESCRIPTION:SIGN UP  \nAll Hallows’ Eve marks the time of welcoming in the harvest and ushering in the powerful and potent “dark half of the year.” During this specific window\, ordinary laws of time and space are suspended and the veil between the earth and spirit world thins. \nJoin Harijiwan\, Tej\, Remington Donovan\, Jose Apju Munoz\, the RA MA Crew and Special Guests on an auspicious day for accessing subtle energy\, other dimensions\, and receiving esoteric energies.
URL:https://ramayogainstitute.com/event/all-hallows-eve-2022/
LOCATION:Online
CATEGORIES:Courses & Events,In Person
ATTACH;FMTTYPE=image/jpeg:https://ramayogainstitute.com/wp-content/uploads/2022/10/All-Hallows-2022-.jpg
END:VEVENT
BEGIN:VEVENT
DTSTART;TZID=America/Los_Angeles:20221031T083000
DTEND;TZID=America/Los_Angeles:20221031T090000
DTSTAMP:20260423T140309
CREATED:20220726T034942Z
LAST-MODIFIED:20221028T061105Z
UID:1727080-1667205000-1667206800@ramayogainstitute.com
SUMMARY:Mind-Curing Meditations
DESCRIPTION:A short series of meditations to practice daily. \n\nAddiction Meditation\nIntelligence Meditation\nArd Kachari\n\nTUNE IN
URL:https://ramayogainstitute.com/event/daily-global-meditations-2022-2022-10-31/
LOCATION:Online
CATEGORIES:Community Content,In Person,RA MA TV Live
ATTACH;FMTTYPE=image/jpeg:https://ramayogainstitute.com/wp-content/uploads/2022/08/All-Hallows-Sadhana.jpg
END:VEVENT
BEGIN:VEVENT
DTSTART;TZID=America/Los_Angeles:20221101T190000
DTEND;TZID=America/Los_Angeles:20221101T201500
DTSTAMP:20260423T140309
CREATED:20220109T034919Z
LAST-MODIFIED:20221028T063556Z
UID:1729777-1667329200-1667333700@ramayogainstitute.com
SUMMARY:Kundalini Yoga & Meditation with Giangeet
DESCRIPTION:TUNE IN \nGiangeet Kaur is a Kundalini Yoga practitioner and certified teacher practicing for more than 10 years.\nKundalini Yoga is a complete system that offers yogic knowledge to improve all aspects of our lives. \nShe teaches this ancient science in a way that is simple\, relatable and easy to understand. \nGiangeet is an expert on the science of the Tantric Necklace. An immensely powerful yogic tool\, unmatched by anything else on the planet\, Giangeet loves creating these sacred pieces through her company\, Satamber. Giangeet founded Satamber in 2016 as a way to bring this technology to everyone on the planet. Her lifestyle embodies “to walk lightly on the earth\, to walk firmly in the spirit” and all her\nclasses are fun\, happy and powerfully invoke the strength of the spirit. \n@satamber @giangeet \n  \n 
URL:https://ramayogainstitute.com/event/kundalini-yoga-meditation-with-shabadpreet-9-2022-05-17-2022-08-09-2022-11-01/
LOCATION:Online
CATEGORIES:In Person,RA MA TV Live
ATTACH;FMTTYPE=image/jpeg:https://ramayogainstitute.com/wp-content/uploads/2022/01/Giangeet-Kaur.jpg
END:VEVENT
BEGIN:VEVENT
DTSTART;TZID=America/Los_Angeles:20221102T190000
DTEND;TZID=America/Los_Angeles:20221102T201500
DTSTAMP:20260423T140309
CREATED:20220903T013500Z
LAST-MODIFIED:20221028T063307Z
UID:1736598-1667415600-1667420100@ramayogainstitute.com
SUMMARY:Kundalini Yoga & Meditation with Iram
DESCRIPTION:Iram first encountered Kundalini Yoga in 2016 in New York City\, where she studied with Hari Kaur. She immediately became passionate about the teachings\, experiencing their power in healing her anxiety\, and was soon teaching at a studio in New York. Since moving to Los Angeles\, she has been studying with Guru Jagat and teaching Kundalini at UCLA Anderson School of Management. Outside of her passion for spreading Yogi Bhajan’s teachings of Kundalini Yoga\, Iram is a student at UCLA Anderson and a leader at Light CoCreative\, a social innovation and impact consultancy\, where her long-term goal is to bring Kundalini Yoga to the business world through corporate wellness programming. Iram is also a student of Daoist feminine embodiment teachings and has found her own personal practice to thrive from the integration of Kundalini Yoga and feminine embodiment practices\, which include womb breathing and visualization techniques\, that she incorporates into her classes. \nTUNE IN
URL:https://ramayogainstitute.com/event/embodying-success-with-iram-2022-11-02/
LOCATION:Online
CATEGORIES:In Person,RA MA TV Live
ATTACH;FMTTYPE=image/jpeg:https://ramayogainstitute.com/wp-content/uploads/2022/02/iram-video-collection-hero-image.jpg
END:VEVENT
BEGIN:VEVENT
DTSTART;TZID=America/Los_Angeles:20221105T090000
DTEND;TZID=America/Los_Angeles:20221105T103000
DTSTAMP:20260423T140309
CREATED:20220326T233512Z
LAST-MODIFIED:20221105T054504Z
UID:1747416-1667638800-1667644200@ramayogainstitute.com
SUMMARY:Kundalini Yoga & Meditation
DESCRIPTION:TUNE IN
URL:https://ramayogainstitute.com/event/kundalini-yoga-meditation-with-mandev-6-2022-05-12-2022-05-19-2022-09-14-2022-09-30-2022-11-05/
LOCATION:Online
CATEGORIES:Community Content,In Person,RA MA TV Live
ATTACH;FMTTYPE=image/jpeg:https://ramayogainstitute.com/wp-content/uploads/2022/04/Kundalini-Class-with-Tej.jpg
END:VEVENT
BEGIN:VEVENT
DTSTART;TZID=America/Los_Angeles:20221106T090000
DTEND;TZID=America/Los_Angeles:20221106T103000
DTSTAMP:20260423T140309
CREATED:20211028T002901Z
LAST-MODIFIED:20221105T053557Z
UID:1743529-1667725200-1667730600@ramayogainstitute.com
SUMMARY:Kundalini Yoga & Meditation with Gurujas
DESCRIPTION:Gurujas teaches that Kundalini Yoga is an experientially-based system–a science of joy\, fulfillment and love. She also believes that happiness is a vibrational frequency\, and can be an enduring state of being. Gurujas is the lead singer of the Grammy Award winning group White Sun. \nLearn More & Tune In
URL:https://ramayogainstitute.com/event/kundalini-yoga-meditation-with-gurujas-11-2021-12-05-2022-01-09-2022-02-27-2022-04-19-2022-04-26-2022-11-06/
LOCATION:Online
CATEGORIES:In Person,RA MA TV Live
ATTACH;FMTTYPE=image/jpeg:https://ramayogainstitute.com/wp-content/uploads/2021/10/Gurujas-7.jpg
END:VEVENT
BEGIN:VEVENT
DTSTART;TZID=America/Los_Angeles:20221106T160000
DTEND;TZID=America/Los_Angeles:20221106T173000
DTSTAMP:20260423T140309
CREATED:20211111T222113Z
LAST-MODIFIED:20221105T053601Z
UID:1743587-1667750400-1667755800@ramayogainstitute.com
SUMMARY:Kundalini Yoga & Meditation with Tej
DESCRIPTION:Tej Kaur Khalsa has been a student of traditional Kundalini for over 35 years. She is a Custodian of Kundalini knowledge\, and a recognized authority on the teachings. \nLearn More & Tune In
URL:https://ramayogainstitute.com/event/kundalini-tej-11-20-21-2021-12-05-2022-01-09-2022-04-24-2022-05-01-2022-11-06/
LOCATION:Online
CATEGORIES:In Person,RA MA TV Live
ATTACH;FMTTYPE=image/png:https://ramayogainstitute.com/wp-content/uploads/2021/05/tej-cal-icon.png
END:VEVENT
END:VCALENDAR