BEGIN:VCALENDAR
VERSION:2.0
PRODID:-//RA MA LIFE - ECPv6.15.15//NONSGML v1.0//EN
CALSCALE:GREGORIAN
METHOD:PUBLISH
X-ORIGINAL-URL:https://ramayogainstitute.com
X-WR-CALDESC:Events for RA MA LIFE
REFRESH-INTERVAL;VALUE=DURATION:PT1H
X-Robots-Tag:noindex
X-PUBLISHED-TTL:PT1H
BEGIN:VTIMEZONE
TZID:America/Los_Angeles
BEGIN:DAYLIGHT
TZOFFSETFROM:-0800
TZOFFSETTO:-0700
TZNAME:PDT
DTSTART:20210314T100000
END:DAYLIGHT
BEGIN:STANDARD
TZOFFSETFROM:-0700
TZOFFSETTO:-0800
TZNAME:PST
DTSTART:20211107T090000
END:STANDARD
BEGIN:DAYLIGHT
TZOFFSETFROM:-0800
TZOFFSETTO:-0700
TZNAME:PDT
DTSTART:20220313T100000
END:DAYLIGHT
BEGIN:STANDARD
TZOFFSETFROM:-0700
TZOFFSETTO:-0800
TZNAME:PST
DTSTART:20221106T090000
END:STANDARD
BEGIN:DAYLIGHT
TZOFFSETFROM:-0800
TZOFFSETTO:-0700
TZNAME:PDT
DTSTART:20230312T100000
END:DAYLIGHT
BEGIN:STANDARD
TZOFFSETFROM:-0700
TZOFFSETTO:-0800
TZNAME:PST
DTSTART:20231105T090000
END:STANDARD
END:VTIMEZONE
BEGIN:VEVENT
DTSTART;TZID=America/Los_Angeles:20221031T040000
DTEND;TZID=America/Los_Angeles:20221031T213000
DTSTAMP:20260424T064844
CREATED:20221027T200755Z
LAST-MODIFIED:20221027T200757Z
UID:1747261-1667188800-1667251800@ramayogainstitute.com
SUMMARY:All Hallow's Eve
DESCRIPTION:SIGN UP  \nAll Hallows’ Eve marks the time of welcoming in the harvest and ushering in the powerful and potent “dark half of the year.” During this specific window\, ordinary laws of time and space are suspended and the veil between the earth and spirit world thins. \nJoin Harijiwan\, Tej\, Remington Donovan\, Jose Apju Munoz\, the RA MA Crew and Special Guests on an auspicious day for accessing subtle energy\, other dimensions\, and receiving esoteric energies.
URL:https://ramayogainstitute.com/event/all-hallows-eve-2022/
LOCATION:Online
CATEGORIES:Courses & Events,In Person
ATTACH;FMTTYPE=image/jpeg:https://ramayogainstitute.com/wp-content/uploads/2022/10/All-Hallows-2022-.jpg
END:VEVENT
END:VCALENDAR