BEGIN:VCALENDAR
VERSION:2.0
PRODID:-//RA MA LIFE - ECPv6.15.15//NONSGML v1.0//EN
CALSCALE:GREGORIAN
METHOD:PUBLISH
X-ORIGINAL-URL:https://ramayogainstitute.com
X-WR-CALDESC:Events for RA MA LIFE
REFRESH-INTERVAL;VALUE=DURATION:PT1H
X-Robots-Tag:noindex
X-PUBLISHED-TTL:PT1H
BEGIN:VTIMEZONE
TZID:America/Los_Angeles
BEGIN:DAYLIGHT
TZOFFSETFROM:-0800
TZOFFSETTO:-0700
TZNAME:PDT
DTSTART:20210314T100000
END:DAYLIGHT
BEGIN:STANDARD
TZOFFSETFROM:-0700
TZOFFSETTO:-0800
TZNAME:PST
DTSTART:20211107T090000
END:STANDARD
BEGIN:DAYLIGHT
TZOFFSETFROM:-0800
TZOFFSETTO:-0700
TZNAME:PDT
DTSTART:20220313T100000
END:DAYLIGHT
BEGIN:STANDARD
TZOFFSETFROM:-0700
TZOFFSETTO:-0800
TZNAME:PST
DTSTART:20221106T090000
END:STANDARD
BEGIN:DAYLIGHT
TZOFFSETFROM:-0800
TZOFFSETTO:-0700
TZNAME:PDT
DTSTART:20230312T100000
END:DAYLIGHT
BEGIN:STANDARD
TZOFFSETFROM:-0700
TZOFFSETTO:-0800
TZNAME:PST
DTSTART:20231105T090000
END:STANDARD
END:VTIMEZONE
BEGIN:VEVENT
DTSTART;TZID=America/Los_Angeles:20220725T090000
DTEND;TZID=America/Los_Angeles:20220725T103000
DTSTAMP:20260424T094058
CREATED:20220723T030623Z
LAST-MODIFIED:20220723T030623Z
UID:1726253-1658739600-1658745000@ramayogainstitute.com
SUMMARY:Kundalini Yoga & Meditation with Mary Margaret
DESCRIPTION:TUNE IN
URL:https://ramayogainstitute.com/event/kundalini-yoga-meditation-with-mary-margaret/
LOCATION:Online
CATEGORIES:In Person,RA MA TV Live
ATTACH;FMTTYPE=image/jpeg:https://ramayogainstitute.com/wp-content/uploads/2021/08/Mary-Margaret-Skelly.jpg
END:VEVENT
BEGIN:VEVENT
DTSTART;TZID=America/Los_Angeles:20220725T090000
DTEND;TZID=America/Los_Angeles:20220725T103000
DTSTAMP:20260424T094058
CREATED:20220724T234017Z
LAST-MODIFIED:20220819T192332Z
UID:1726700-1658739600-1658745000@ramayogainstitute.com
SUMMARY:Long Mul Mantra Monday on Mallorca with Mandev and Special Guest Star
DESCRIPTION:TUNE IN
URL:https://ramayogainstitute.com/event/long-mul-mantra-monday-on-mallorca-with-mandev-and-special-guest-star/
LOCATION:Online on RA MA TV
CATEGORIES:RA MA TV Live
ATTACH;FMTTYPE=image/jpeg:https://ramayogainstitute.com/wp-content/uploads/2022/06/Mandev-Solstice.jpg
END:VEVENT
BEGIN:VEVENT
DTSTART;TZID=America/Los_Angeles:20220725T110000
DTEND;TZID=America/Los_Angeles:20220725T121500
DTSTAMP:20260424T094058
CREATED:20211211T021739Z
LAST-MODIFIED:20230926T021835Z
UID:1722718-1658746800-1658751300@ramayogainstitute.com
SUMMARY:Kundalini Yoga and the Cosmos with Teg Prakash
DESCRIPTION:TUNE IN\nMONDAYS|11:00 AM-12:15 PM PDT\nVirtually on RA MA TV Live\nIn Person @ RA MA Los Angeles \nDiving into the connections between deep yogic practice and evolutionary astrology to explore and take advantage of the prevailing cosmic movements. \nAbout Teg Prakash \nTeg Prakash is a Kundalini Yoga teacher\, astrologer\, and intuitive sound healer with a passionate curiosity for the teachings of Kundalini Yoga\, as taught by Yogi Bhajan\, and seeks to bring people to a true sense of their soul through astrology\, their personal power through yoga\, and their peace through the power of sound. \n 
URL:https://ramayogainstitute.com/event/teg-prakash-12-13-21-2022-01-03-2022-02-21-2022-07-11-2022-07-25/
LOCATION:Online
CATEGORIES:In Person,RA MA TV Live
ATTACH;FMTTYPE=image/jpeg:https://ramayogainstitute.com/wp-content/uploads/2023/01/MG_3530-e1717037969521.jpg
END:VEVENT
BEGIN:VEVENT
DTSTART;TZID=America/Los_Angeles:20220725T121500
DTEND;TZID=America/Los_Angeles:20220725T124500
DTSTAMP:20260424T094058
CREATED:20240319T212905Z
LAST-MODIFIED:20240319T212905Z
UID:1906376-1658751300-1658753100@ramayogainstitute.com
SUMMARY:Looking up: ECLIPSE Astrology  with Teg Prakash
DESCRIPTION:TUNE IN\nAbout Teg Prakash \nTeg Prakash is a Kundalini Yoga teacher\, astrologer\, and intuitive sound healer with a passionate curiosity for the teachings of Kundalini Yoga\, as taught by Yogi Bhajan\, and seeks to bring people to a true sense of their soul through astrology\, their personal power through yoga\, and their peace through the power of sound. \n 
URL:https://ramayogainstitute.com/event/looking-up-eclipse-astrology-with-teg-prakash/
LOCATION:Online
CATEGORIES:Community Content,In Person,RA MA TV Live
ATTACH;FMTTYPE=image/jpeg:https://ramayogainstitute.com/wp-content/uploads/2023/01/MG_3530-e1717037969521.jpg
END:VEVENT
BEGIN:VEVENT
DTSTART;TZID=America/Los_Angeles:20220725T190000
DTEND;TZID=America/Los_Angeles:20220725T201500
DTSTAMP:20260424T094058
CREATED:20220723T024714Z
LAST-MODIFIED:20220723T024714Z
UID:1726238-1658775600-1658780100@ramayogainstitute.com
SUMMARY:Kundalini Yoga & Meditation with Damanpreet
DESCRIPTION:TUNE IN
URL:https://ramayogainstitute.com/event/kundalini-yoga-meditation-with-damanpreet-2/
LOCATION:Online
CATEGORIES:In Person,RA MA TV Live
ATTACH;FMTTYPE=image/jpeg:https://ramayogainstitute.com/wp-content/uploads/2021/08/Damanpreet-3.jpg
END:VEVENT
BEGIN:VEVENT
DTSTART;TZID=America/Los_Angeles:20220726T110000
DTEND;TZID=America/Los_Angeles:20220726T123000
DTSTAMP:20260424T094058
CREATED:20220725T182426Z
LAST-MODIFIED:20220819T192332Z
UID:1726827-1658833200-1658838600@ramayogainstitute.com
SUMMARY:Venus Gate with Mandev
DESCRIPTION:TUNE IN
URL:https://ramayogainstitute.com/event/venus-gate-with-mandev/
LOCATION:Online on RA MA TV
CATEGORIES:RA MA TV Live
ATTACH;FMTTYPE=image/jpeg:https://ramayogainstitute.com/wp-content/uploads/2022/05/Mandev-Celstial-photo-by-Santosh-SMALL.jpg
END:VEVENT
BEGIN:VEVENT
DTSTART;TZID=America/Los_Angeles:20220727T090000
DTEND;TZID=America/Los_Angeles:20220727T103000
DTSTAMP:20260424T094058
CREATED:20220723T030310Z
LAST-MODIFIED:20220723T031726Z
UID:1726249-1658912400-1658917800@ramayogainstitute.com
SUMMARY:Creative Field with Kim Krans
DESCRIPTION:TUNE IN
URL:https://ramayogainstitute.com/event/creative-field-with-kim-krans/2022-07-27/
LOCATION:Online
CATEGORIES:In Person,RA MA TV Live
ATTACH;FMTTYPE=image/jpeg:https://ramayogainstitute.com/wp-content/uploads/2022/07/Kim-Krans.jpg
END:VEVENT
BEGIN:VEVENT
DTSTART;TZID=America/Los_Angeles:20220727T110000
DTEND;TZID=America/Los_Angeles:20220727T120000
DTSTAMP:20260424T094058
CREATED:20211217T191549Z
LAST-MODIFIED:20220727T021012Z
UID:1721304-1658919600-1658923200@ramayogainstitute.com
SUMMARY:Kundalini Yoga & Meditation with Mary Margaret Skelly
DESCRIPTION:Learn More & Tune In
URL:https://ramayogainstitute.com/event/marta-ulbricht-kundalini-12-22-21-2022-07-27/
LOCATION:Online
CATEGORIES:In Person,RA MA TV Live
ATTACH;FMTTYPE=image/jpeg:https://ramayogainstitute.com/wp-content/uploads/2021/08/Mary-Margaret-Skelly.jpg
END:VEVENT
BEGIN:VEVENT
DTSTART;TZID=America/Los_Angeles:20220727T190000
DTEND;TZID=America/Los_Angeles:20220727T201500
DTSTAMP:20260424T094058
CREATED:20220723T025854Z
LAST-MODIFIED:20220723T025854Z
UID:1726247-1658948400-1658952900@ramayogainstitute.com
SUMMARY:Kundalini Yoga & Meditation with Teg Prakash
DESCRIPTION:TUNE IN
URL:https://ramayogainstitute.com/event/kundalini-yoga-meditation-with-teg-prakash/
LOCATION:Online
CATEGORIES:In Person,RA MA TV Live
ATTACH;FMTTYPE=image/jpeg:https://ramayogainstitute.com/wp-content/uploads/2022/06/Teg-Prakash-Looking-Up-Vimeo-Thumbnail.jpg
END:VEVENT
BEGIN:VEVENT
DTSTART;TZID=America/Los_Angeles:20220728T090000
DTEND;TZID=America/Los_Angeles:20220728T103000
DTSTAMP:20260424T094058
CREATED:20220723T030310Z
LAST-MODIFIED:20220723T031732Z
UID:1726252-1658998800-1659004200@ramayogainstitute.com
SUMMARY:Creative Field with Kim Krans
DESCRIPTION:TUNE IN
URL:https://ramayogainstitute.com/event/creative-field-with-kim-krans-2022-07-28/
LOCATION:Online
CATEGORIES:In Person,RA MA TV Live
ATTACH;FMTTYPE=image/jpeg:https://ramayogainstitute.com/wp-content/uploads/2022/07/Kim-Krans.jpg
END:VEVENT
BEGIN:VEVENT
DTSTART;TZID=America/Los_Angeles:20220728T150000
DTEND;TZID=America/Los_Angeles:20220728T160000
DTSTAMP:20260424T094058
CREATED:20220127T193106Z
LAST-MODIFIED:20220727T021131Z
UID:1703011-1659020400-1659024000@ramayogainstitute.com
SUMMARY:Kundalini Yoga & Meditation with Seva Jagat
DESCRIPTION:Tune In
URL:https://ramayogainstitute.com/event/kundalini-yoga-meditation-with-anya-2022-04-14-2022-07-28/
LOCATION:RA MA New York & Online
CATEGORIES:In Person,RA MA TV Live
ATTACH;FMTTYPE=image/jpeg:https://ramayogainstitute.com/wp-content/uploads/2021/11/Seva-Jagat_02.jpeg
END:VEVENT
BEGIN:VEVENT
DTSTART;TZID=America/Los_Angeles:20220730T090000
DTEND;TZID=America/Los_Angeles:20220730T103000
DTSTAMP:20260424T094058
CREATED:20211209T010530Z
LAST-MODIFIED:20220819T192652Z
UID:1711104-1659171600-1659177000@ramayogainstitute.com
SUMMARY:Arcline Technology with Mandev
DESCRIPTION:Women have 16x times the power of intuitive and creative faculties. In this Immense Grace class\, awaken your awareness to the precious structure of your arcline that holds you intuitive and creative capacities as well as your destiny. When you know how to amplify and consciously work with your arcline\, you can create what most people would only dream of. Discover how to amplify yourself as a true creator with Shabadpreet. \nShabadpreet is a teacher trained in Yogi Bhajan’s healing technologies and various other subtle and physical healing modalities. Since her first encounter with Kundalini Yoga and Meditation in 2008 Shabadpreet has since studied with her teacher Guru Jagat. Kundalini Yoga and Mediation is a lightning fast practice for directly re-connecting with who you are\, cutting through anxiety\, depression\, and other low frequency states\, and freeing up your abundant natural energy. \nLearn More & Tune In
URL:https://ramayogainstitute.com/event/shabadpreet-kundalini-12-11-21-2022-01-08-2022-01-15-2022-05-21-2022-07-30/
LOCATION:Online
CATEGORIES:Community Content,In Person,RA MA TV Live
ATTACH;FMTTYPE=image/jpeg:https://ramayogainstitute.com/wp-content/uploads/2021/12/Shabadpreet-1.jpg
END:VEVENT
END:VCALENDAR