BEGIN:VCALENDAR
VERSION:2.0
PRODID:-//RA MA LIFE - ECPv6.15.15//NONSGML v1.0//EN
CALSCALE:GREGORIAN
METHOD:PUBLISH
X-ORIGINAL-URL:https://ramayogainstitute.com
X-WR-CALDESC:Events for RA MA LIFE
REFRESH-INTERVAL;VALUE=DURATION:PT1H
X-Robots-Tag:noindex
X-PUBLISHED-TTL:PT1H
BEGIN:VTIMEZONE
TZID:America/Los_Angeles
BEGIN:DAYLIGHT
TZOFFSETFROM:-0800
TZOFFSETTO:-0700
TZNAME:PDT
DTSTART:20210314T100000
END:DAYLIGHT
BEGIN:STANDARD
TZOFFSETFROM:-0700
TZOFFSETTO:-0800
TZNAME:PST
DTSTART:20211107T090000
END:STANDARD
BEGIN:DAYLIGHT
TZOFFSETFROM:-0800
TZOFFSETTO:-0700
TZNAME:PDT
DTSTART:20220313T100000
END:DAYLIGHT
BEGIN:STANDARD
TZOFFSETFROM:-0700
TZOFFSETTO:-0800
TZNAME:PST
DTSTART:20221106T090000
END:STANDARD
BEGIN:DAYLIGHT
TZOFFSETFROM:-0800
TZOFFSETTO:-0700
TZNAME:PDT
DTSTART:20230312T100000
END:DAYLIGHT
BEGIN:STANDARD
TZOFFSETFROM:-0700
TZOFFSETTO:-0800
TZNAME:PST
DTSTART:20231105T090000
END:STANDARD
END:VTIMEZONE
BEGIN:VEVENT
DTSTART;TZID=America/Los_Angeles:20220720T110000
DTEND;TZID=America/Los_Angeles:20220720T120000
DTSTAMP:20260424T113253
CREATED:20211217T191549Z
LAST-MODIFIED:20220718T024515Z
UID:1721303-1658314800-1658318400@ramayogainstitute.com
SUMMARY:Pranic Charge with Gabrielle Goss
DESCRIPTION:Learn More & Tune In
URL:https://ramayogainstitute.com/event/marta-ulbricht-kundalini-12-22-21-2022-07-20/
LOCATION:Online
CATEGORIES:In Person,RA MA TV Live
ATTACH;FMTTYPE=image/jpeg:https://ramayogainstitute.com/wp-content/uploads/2021/08/Gabrielle-Goss.jpg
END:VEVENT
BEGIN:VEVENT
DTSTART;TZID=America/Los_Angeles:20220721T090000
DTEND;TZID=America/Los_Angeles:20220721T103000
DTSTAMP:20260424T113253
CREATED:20220326T233512Z
LAST-MODIFIED:20220720T235157Z
UID:1700256-1658394000-1658399400@ramayogainstitute.com
SUMMARY:Kundalini Yoga & Meditation with Teg Prakash
DESCRIPTION:  \nTune In
URL:https://ramayogainstitute.com/event/kundalini-yoga-meditation-with-mandev-6-2022-05-12-2022-05-19-2022-07-21/
LOCATION:Online
CATEGORIES:In Person,RA MA TV Live
ATTACH;FMTTYPE=image/jpeg:https://ramayogainstitute.com/wp-content/uploads/2022/06/Teg-Prakash-Looking-Up-Vimeo-Thumbnail.jpg
END:VEVENT
BEGIN:VEVENT
DTSTART;TZID=America/Los_Angeles:20220721T160000
DTEND;TZID=America/Los_Angeles:20220721T173000
DTSTAMP:20260424T113253
CREATED:20220703T004844Z
LAST-MODIFIED:20220719T021756Z
UID:1724309-1658419200-1658424600@ramayogainstitute.com
SUMMARY:Kundalini Yoga & Meditation with Seva Jagat
DESCRIPTION:Tune In
URL:https://ramayogainstitute.com/event/how-to-relax-with-seva-jagat-2022-07-21/
LOCATION:RA MA New York & Online
CATEGORIES:In Person,RA MA TV Live
ATTACH;FMTTYPE=image/jpeg:https://ramayogainstitute.com/wp-content/uploads/2022/05/Seva-Jagat.jpg
END:VEVENT
BEGIN:VEVENT
DTSTART;TZID=America/Los_Angeles:20220723T090000
DTEND;TZID=America/Los_Angeles:20220723T110000
DTSTAMP:20260424T113253
CREATED:20220719T033026Z
LAST-MODIFIED:20220720T224038Z
UID:1724550-1658566800-1658574000@ramayogainstitute.com
SUMMARY:High Tide Reflection with Gurujas
DESCRIPTION:A day of deep meditation and self-elevation\nwith Gurujas. Live from the nucleus of your soul’s highest calling. Reflect the highest caliber of you. \nYou have worked for 8.4 million lifetimes to get access to these powerful\, precious teachings. In an instant\, they have the power to illuminate your reality in ways beyond comprehension\, rooted in and reawakening a path that is recognized by the true radiance of your soul. You have found these teachings\, while these teachings have found you. \nBask in the gift of this technology and experience rare\, deep meditations. Find yourself in greater resonance with your sense of infinity and your authentic\, genuine connection to this lineage. \nGain a surge of fortified energy and a supreme\, crystalline intuitive beam to ride high on the tides of all this human life brings to us to experience. Within you lies the capability to maneuver any situation to one that brings you more energy\, more courage\, and more grace. \nLive from the nucleus of your soul’s highest calling. Reflect the highest caliber of you. \nSIGN UP \nWATCH NOW
URL:https://ramayogainstitute.com/event/high-tide-reflection-with-gurujas/
LOCATION:Online
CATEGORIES:In Person,Pay Per View Workshops
ATTACH;FMTTYPE=image/jpeg:https://ramayogainstitute.com/wp-content/uploads/2022/07/Gurujas.jpg
END:VEVENT
BEGIN:VEVENT
DTSTART;TZID=America/Los_Angeles:20220723T183000
DTEND;TZID=America/Los_Angeles:20220723T203000
DTSTAMP:20260424T113253
CREATED:20220722T233005Z
LAST-MODIFIED:20220722T233010Z
UID:1726171-1658601000-1658608200@ramayogainstitute.com
SUMMARY:Quantum Harmonix with Torkom Ji
DESCRIPTION:QUANTUM HARMONIX by Torkom Ji is a unique sound-based meditative and healing technology. The powerful tones produced incorporate natural fluidity & movement\, and have been shown to have profound effects on the mind\, body\, and consciousness of an individual. \nQ.H. sounds are designed to lead one through an effortless and powerfully restorative meditation experience invoking relaxation\, and expanded creativity\, while improving sleep quality and productivity\, while decreasing stress. \nThe music is layered live and explores acoustical phenomena\, white/pink noise\, low-mid-high range frequencies; all folded into a tapestry of real time musical compositions. \nTorkom is a sound healer\, meditation guide\, and creator of Quantum Harmonix; a unique frequency healing modality. This listening experience is designed to deeply drop one into a relaxed and therapeutic state by incorporating a variety of techniques and tones that have been shown to effectively calm the body and mind. The total experience typically lasts 1 hour and requires no prior experience with meditation. \nSaturday\, July 23\, 2022 from 6:30-8:30pm PDT\nLive at RA MA Los Angeles and Virtually on RA MA TV with 48-hour replay \nPrice:\n$22 Virtual | $33 In Person \n*All purchases are non-transferable and non-refundable. \nSIGN UP
URL:https://ramayogainstitute.com/event/quantum-harmonix-with-torkom-ji/
LOCATION:Online
CATEGORIES:In Person,Pay Per View Workshops
ATTACH;FMTTYPE=image/jpeg:https://ramayogainstitute.com/wp-content/uploads/2022/06/Torkom-Ji.jpg
END:VEVENT
BEGIN:VEVENT
DTSTART;TZID=America/Los_Angeles:20220724T090000
DTEND;TZID=America/Los_Angeles:20220724T103000
DTSTAMP:20260424T113253
CREATED:20211028T002901Z
LAST-MODIFIED:20220724T134953Z
UID:1693902-1658653200-1658658600@ramayogainstitute.com
SUMMARY:Kundalini Yoga & Meditation with Giangeet
DESCRIPTION:Learn More & Tune In
URL:https://ramayogainstitute.com/event/kundalini-yoga-meditation-with-gurujas-11-2021-12-05-2022-01-09-2022-02-27-2022-04-19-2022-04-26-2022-07-24/
LOCATION:Online
CATEGORIES:In Person,RA MA TV Live
ATTACH;FMTTYPE=image/png:https://ramayogainstitute.com/wp-content/uploads/2021/12/giangeet-cal-icon.png
END:VEVENT
END:VCALENDAR