BEGIN:VCALENDAR
VERSION:2.0
PRODID:-//RA MA LIFE - ECPv6.15.15//NONSGML v1.0//EN
CALSCALE:GREGORIAN
METHOD:PUBLISH
X-WR-CALNAME:RA MA LIFE
X-ORIGINAL-URL:https://ramayogainstitute.com
X-WR-CALDESC:Events for RA MA LIFE
REFRESH-INTERVAL;VALUE=DURATION:PT1H
X-Robots-Tag:noindex
X-PUBLISHED-TTL:PT1H
BEGIN:VTIMEZONE
TZID:America/Los_Angeles
BEGIN:DAYLIGHT
TZOFFSETFROM:-0800
TZOFFSETTO:-0700
TZNAME:PDT
DTSTART:20210314T100000
END:DAYLIGHT
BEGIN:STANDARD
TZOFFSETFROM:-0700
TZOFFSETTO:-0800
TZNAME:PST
DTSTART:20211107T090000
END:STANDARD
BEGIN:DAYLIGHT
TZOFFSETFROM:-0800
TZOFFSETTO:-0700
TZNAME:PDT
DTSTART:20220313T100000
END:DAYLIGHT
BEGIN:STANDARD
TZOFFSETFROM:-0700
TZOFFSETTO:-0800
TZNAME:PST
DTSTART:20221106T090000
END:STANDARD
BEGIN:DAYLIGHT
TZOFFSETFROM:-0800
TZOFFSETTO:-0700
TZNAME:PDT
DTSTART:20230312T100000
END:DAYLIGHT
BEGIN:STANDARD
TZOFFSETFROM:-0700
TZOFFSETTO:-0800
TZNAME:PST
DTSTART:20231105T090000
END:STANDARD
END:VTIMEZONE
BEGIN:VEVENT
DTSTART;TZID=America/Los_Angeles:20220530T110000
DTEND;TZID=America/Los_Angeles:20220530T123000
DTSTAMP:20260424T162455
CREATED:20220520T010026Z
LAST-MODIFIED:20220520T010027Z
UID:1712295-1653908400-1653913800@ramayogainstitute.com
SUMMARY:New Moon & Memorial Day with Harijiwan
DESCRIPTION:New Moon & Memorial Day Kundalini Yoga & Meditation Class with Harijiwan \nVirtual Drop In + Infinite Replay \n$22\, Complimentary for RA MA TV Live \nWATCH HERE \nSIGN UP
URL:https://ramayogainstitute.com/event/new-moon-memorial-day-with-harijiwan/
LOCATION:Online
CATEGORIES:In Person,Pay Per View Workshops,RA MA TV Live
ATTACH;FMTTYPE=image/jpeg:https://ramayogainstitute.com/wp-content/uploads/2022/03/Harijiwan-Los-Angeles.jpg
END:VEVENT
BEGIN:VEVENT
DTSTART;TZID=America/Los_Angeles:20220601T190000
DTEND;TZID=America/Los_Angeles:20220601T203000
DTSTAMP:20260424T162455
CREATED:20220524T020756Z
LAST-MODIFIED:20220524T020942Z
UID:1713222-1654110000-1654115400@ramayogainstitute.com
SUMMARY:Cygnus Supernova with Harijiwan
DESCRIPTION:Kundalini Yoga & Meditation with Harijiwan \n+ INFINITE REPLAY \n$22 \nSIGN UP \nWATCH
URL:https://ramayogainstitute.com/event/cygnus-supernova-with-harijiwan/
LOCATION:Online
CATEGORIES:In Person,Pay Per View Workshops
ATTACH;FMTTYPE=image/jpeg:https://ramayogainstitute.com/wp-content/uploads/2021/08/harijiwan-cal-icon.jpg
END:VEVENT
BEGIN:VEVENT
DTSTART;TZID=America/Los_Angeles:20220602T133000
DTEND;TZID=America/Los_Angeles:20220602T143000
DTSTAMP:20260424T162455
CREATED:20220602T044553Z
LAST-MODIFIED:20220602T045324Z
UID:1714884-1654176600-1654180200@ramayogainstitute.com
SUMMARY:4th Day of the Moon: Cygnus Portal with Harijiwan
DESCRIPTION:SIGN UP  \nWATCH NOW
URL:https://ramayogainstitute.com/event/4th-day-of-the-moon-cygnus-portal-with-harijiwan/
LOCATION:Online
CATEGORIES:In Person,Pay Per View Workshops
ATTACH;FMTTYPE=image/jpeg:https://ramayogainstitute.com/wp-content/uploads/2022/03/Harijiwan-Los-Angeles.jpg
END:VEVENT
END:VCALENDAR