BEGIN:VCALENDAR
VERSION:2.0
PRODID:-//RA MA LIFE - ECPv6.15.15//NONSGML v1.0//EN
CALSCALE:GREGORIAN
METHOD:PUBLISH
X-ORIGINAL-URL:https://ramayogainstitute.com
X-WR-CALDESC:Events for RA MA LIFE
REFRESH-INTERVAL;VALUE=DURATION:PT1H
X-Robots-Tag:noindex
X-PUBLISHED-TTL:PT1H
BEGIN:VTIMEZONE
TZID:America/Los_Angeles
BEGIN:DAYLIGHT
TZOFFSETFROM:-0800
TZOFFSETTO:-0700
TZNAME:PDT
DTSTART:20210314T100000
END:DAYLIGHT
BEGIN:STANDARD
TZOFFSETFROM:-0700
TZOFFSETTO:-0800
TZNAME:PST
DTSTART:20211107T090000
END:STANDARD
BEGIN:DAYLIGHT
TZOFFSETFROM:-0800
TZOFFSETTO:-0700
TZNAME:PDT
DTSTART:20220313T100000
END:DAYLIGHT
BEGIN:STANDARD
TZOFFSETFROM:-0700
TZOFFSETTO:-0800
TZNAME:PST
DTSTART:20221106T090000
END:STANDARD
BEGIN:DAYLIGHT
TZOFFSETFROM:-0800
TZOFFSETTO:-0700
TZNAME:PDT
DTSTART:20230312T100000
END:DAYLIGHT
BEGIN:STANDARD
TZOFFSETFROM:-0700
TZOFFSETTO:-0800
TZNAME:PST
DTSTART:20231105T090000
END:STANDARD
END:VTIMEZONE
BEGIN:VEVENT
DTSTART;TZID=America/Los_Angeles:20220320T040000
DTEND;TZID=America/Los_Angeles:20220320T230000
DTSTAMP:20260424T202208
CREATED:20220315T032159Z
LAST-MODIFIED:20220315T033615Z
UID:1698175-1647748800-1647817200@ramayogainstitute.com
SUMMARY:The Equinox
DESCRIPTION:The Equinox is the instance in time when the center of the Sun is directly above the equator. At this moment\, the Solar and Lunar frequencies are in total balance on the planet – the amount of daylight and darkness are equal. As the sun rises in the direct East and sets in the direct West\, its Northward setting is balanced against the Southward\, creating a perfect equilibrium. \nAll polarities generate power. Think of AC currents that run on alternating magnetic fields or batteries that circuit electricity through negative and positive chemical charges attempting to balance out. Polarity\, when used intelligently\, can create propulsion. \nBy utilizing the higher frequencies present on the Equinox\, you can get deeper into your physical-subtle system\, clarify your mind\, remove limiting blocks\, and slingshot into a season of heightened magnetism\, success\, and prosperity. \nLearn More
URL:https://ramayogainstitute.com/event/the-equinox/
CATEGORIES:Courses & Events
ATTACH;FMTTYPE=image/jpeg:https://ramayogainstitute.com/wp-content/uploads/2019/04/EquinoxBackground2022.jpg
END:VEVENT
END:VCALENDAR