BEGIN:VCALENDAR
VERSION:2.0
PRODID:-//RA MA LIFE - ECPv6.15.15//NONSGML v1.0//EN
CALSCALE:GREGORIAN
METHOD:PUBLISH
X-WR-CALNAME:RA MA LIFE
X-ORIGINAL-URL:https://ramayogainstitute.com
X-WR-CALDESC:Events for RA MA LIFE
REFRESH-INTERVAL;VALUE=DURATION:PT1H
X-Robots-Tag:noindex
X-PUBLISHED-TTL:PT1H
BEGIN:VTIMEZONE
TZID:America/Los_Angeles
BEGIN:DAYLIGHT
TZOFFSETFROM:-0800
TZOFFSETTO:-0700
TZNAME:PDT
DTSTART:20210314T100000
END:DAYLIGHT
BEGIN:STANDARD
TZOFFSETFROM:-0700
TZOFFSETTO:-0800
TZNAME:PST
DTSTART:20211107T090000
END:STANDARD
BEGIN:DAYLIGHT
TZOFFSETFROM:-0800
TZOFFSETTO:-0700
TZNAME:PDT
DTSTART:20220313T100000
END:DAYLIGHT
BEGIN:STANDARD
TZOFFSETFROM:-0700
TZOFFSETTO:-0800
TZNAME:PST
DTSTART:20221106T090000
END:STANDARD
BEGIN:DAYLIGHT
TZOFFSETFROM:-0800
TZOFFSETTO:-0700
TZNAME:PDT
DTSTART:20230312T100000
END:DAYLIGHT
BEGIN:STANDARD
TZOFFSETFROM:-0700
TZOFFSETTO:-0800
TZNAME:PST
DTSTART:20231105T090000
END:STANDARD
END:VTIMEZONE
BEGIN:VEVENT
DTSTART;TZID=America/Los_Angeles:20220307T090000
DTEND;TZID=America/Los_Angeles:20220307T103000
DTSTAMP:20260424T185614
CREATED:20210809T171040Z
LAST-MODIFIED:20220819T192704Z
UID:1676962-1646643600-1646649000@ramayogainstitute.com
SUMMARY:Kundalini Yoga & Meditation + Long Mul Mantra with Mandev
DESCRIPTION:Mandev Khalsa is an award-winning filmmaker and creator of My Moon Map™\, an IOS mobile app to track your moods and behavior pattern using the ancient yogic science of the moon centers. For years\, Mandev has deeply researched esoteric energetic structures in women’s teachings to discover energy and power. Her App and upcoming film\, “The Moon Centers”\, reveal the unique relationship women have to the moon and how to they can unlock and access these infinite lunar powers. \nLearn More & Tune In
URL:https://ramayogainstitute.com/event/kundalini-mandev-12-10-21-2022-03-07/
LOCATION:Online
CATEGORIES:In Person,RA MA TV Live
ATTACH;FMTTYPE=image/jpeg:https://ramayogainstitute.com/wp-content/uploads/2021/08/Mandev-2.jpg
END:VEVENT
BEGIN:VEVENT
DTSTART;TZID=America/Los_Angeles:20220307T174500
DTEND;TZID=America/Los_Angeles:20220307T184500
DTSTAMP:20260424T185614
CREATED:20211211T023736Z
LAST-MODIFIED:20220225T032851Z
UID:1693194-1646675100-1646678700@ramayogainstitute.com
SUMMARY:Kundalini Yoga & Meditation with Giangeet
DESCRIPTION:Learn More & Tune In
URL:https://ramayogainstitute.com/event/kundalini-yoga-giangeet-12-13-21-2022-02-28-2022-03-07/
LOCATION:Online
CATEGORIES:In Person,RA MA TV Live
ATTACH;FMTTYPE=image/png:https://ramayogainstitute.com/wp-content/uploads/2021/12/giangeet-cal-icon.png
END:VEVENT
BEGIN:VEVENT
DTSTART;TZID=America/Los_Angeles:20220308T080000
DTEND;TZID=America/Los_Angeles:20220308T093000
DTSTAMP:20260424T185614
CREATED:20220305T025500Z
LAST-MODIFIED:20220305T025500Z
UID:1696158-1646726400-1646731800@ramayogainstitute.com
SUMMARY:Kundalini Yoga & Meditation with Rebecca Underdown
DESCRIPTION:Rebecca Underdown began practicing Kundalini yoga in 2000 and studying with Tej\, Harijiwan and Guru Jagat in 2015. Rebecca holds a BA in Eastern Religions from Boston University and a Masters Degree in Chinese Acupuncture & Herbal Medicine. She is the founder of the skincare company Veridatta.\n \nLearn More & Tune In
URL:https://ramayogainstitute.com/event/kundalini-yoga-meditation-with-rebecca-underdown-3-8-22/
LOCATION:RA MA New York & Online
CATEGORIES:In Person,RA MA TV Live
ATTACH;FMTTYPE=image/png:https://ramayogainstitute.com/wp-content/uploads/2022/01/rebecca-underdown-cal-icon.png
END:VEVENT
BEGIN:VEVENT
DTSTART;TZID=America/Los_Angeles:20220308T090000
DTEND;TZID=America/Los_Angeles:20220308T103000
DTSTAMP:20260424T185614
CREATED:20211028T002901Z
LAST-MODIFIED:20220305T025732Z
UID:1661333-1646730000-1646735400@ramayogainstitute.com
SUMMARY:Radiance Activation with Gurujas
DESCRIPTION:Gurujas teaches that Kundalini Yoga is an experientially-based system–a science of joy\, fulfillment and love. She also believes that happiness is a vibrational frequency\, and can be an enduring state of being. Gurujas is the lead singer of the Grammy Award winning group White Sun. \nLearn More & Tune In
URL:https://ramayogainstitute.com/event/radiance-activation-gurujas-2022-03-08/
LOCATION:Online
CATEGORIES:In Person,RA MA TV Live
ATTACH;FMTTYPE=image/jpeg:https://ramayogainstitute.com/wp-content/uploads/2021/10/Gurujas-7.jpg
END:VEVENT
BEGIN:VEVENT
DTSTART;TZID=America/Los_Angeles:20220308T090000
DTEND;TZID=America/Los_Angeles:20220308T203000
DTSTAMP:20260424T185614
CREATED:20220305T030756Z
LAST-MODIFIED:20220305T030814Z
UID:1696165-1646730000-1646771400@ramayogainstitute.com
SUMMARY:Woman As Wisdom Keeper
DESCRIPTION:In celebration of Women’s History Month this March\, we’re hosting a month of complimentary events and offerings to celebrate women of the past and present\, and give you the tools to access your greatness and strength as a woman so that you can carry your mission into the future. \nIt all kicks off on International Women’s Day\, Tuesday\, March 8\, 2022 with a full-day complimentary event. \nLearn More & Tune In
URL:https://ramayogainstitute.com/event/woman-as-wisdom-keeper-3-8-22/
LOCATION:Online
CATEGORIES:Community Content,Courses & Events,In Person,RA MA TV Live
ATTACH;FMTTYPE=image/jpeg:https://ramayogainstitute.com/wp-content/uploads/2022/02/BeachIWD.jpg
END:VEVENT
BEGIN:VEVENT
DTSTART;TZID=America/Los_Angeles:20220308T190000
DTEND;TZID=America/Los_Angeles:20220308T203000
DTSTAMP:20260424T185614
CREATED:20220109T034919Z
LAST-MODIFIED:20220305T030129Z
UID:1683158-1646766000-1646771400@ramayogainstitute.com
SUMMARY:Woman as a Complete Unit with Shabadpreet
DESCRIPTION:Shabadpreet is a teacher trained in Yogi Bhajan’s healing technologies and various other subtle and physical healing modalities. Since her first encounter with Kundalini Yoga and Meditation in 2008 Shabadpreet has since studied with her teacher Guru Jagat. Kundalini Yoga and Mediation is a lightning fast practice for directly re-connecting with who you are\, cutting through anxiety\, depression\, and other low frequency states\, and freeing up your abundant natural energy. \nShabadpreet’s classes are fun\, meditative\, and deeply healing and provide a variety of tools that you can take into your daily life. \nLearn More & Tune In
URL:https://ramayogainstitute.com/event/woman-as-a-complete-unit-shabadpreet/
LOCATION:Online
CATEGORIES:In Person,RA MA TV Live
ATTACH;FMTTYPE=image/png:https://ramayogainstitute.com/wp-content/uploads/2021/11/Shabadpreet-November-23-2021.png
END:VEVENT
BEGIN:VEVENT
DTSTART;TZID=America/Los_Angeles:20220309T090000
DTEND;TZID=America/Los_Angeles:20220309T103000
DTSTAMP:20260424T185614
CREATED:20210809T171040Z
LAST-MODIFIED:20220819T192704Z
UID:1676963-1646816400-1646821800@ramayogainstitute.com
SUMMARY:Projective Power with Mandev
DESCRIPTION:Mandev Khalsa is an award-winning filmmaker and creator of My Moon Map™\, an IOS mobile app to track your moods and behavior pattern using the ancient yogic science of the moon centers. For years\, Mandev has deeply researched esoteric energetic structures in women’s teachings to discover energy and power. Her App and upcoming film\, “The Moon Centers”\, reveal the unique relationship women have to the moon and how to they can unlock and access these infinite lunar powers. \nLearn More & Tune In
URL:https://ramayogainstitute.com/event/kundalini-mandev-12-10-21-2022-03-07-2022-03-09/
LOCATION:Online
CATEGORIES:In Person,RA MA TV Live
ATTACH;FMTTYPE=image/jpeg:https://ramayogainstitute.com/wp-content/uploads/2021/08/Mandev-2.jpg
END:VEVENT
BEGIN:VEVENT
DTSTART;TZID=America/Los_Angeles:20220310T090000
DTEND;TZID=America/Los_Angeles:20220310T103000
DTSTAMP:20260424T185614
CREATED:20210809T171040Z
LAST-MODIFIED:20220819T192703Z
UID:1676964-1646902800-1646908200@ramayogainstitute.com
SUMMARY:Projective Power with Mandev
DESCRIPTION:Mandev Khalsa is an award-winning filmmaker and creator of My Moon Map™\, an IOS mobile app to track your moods and behavior pattern using the ancient yogic science of the moon centers. For years\, Mandev has deeply researched esoteric energetic structures in women’s teachings to discover energy and power. Her App and upcoming film\, “The Moon Centers”\, reveal the unique relationship women have to the moon and how to they can unlock and access these infinite lunar powers. \nLearn More & Tune In
URL:https://ramayogainstitute.com/event/kundalini-mandev-12-10-21-2022-03-07-2022-03-10/
LOCATION:Online
CATEGORIES:In Person,RA MA TV Live
ATTACH;FMTTYPE=image/jpeg:https://ramayogainstitute.com/wp-content/uploads/2021/08/Mandev-2.jpg
END:VEVENT
BEGIN:VEVENT
DTSTART;TZID=America/Los_Angeles:20220310T174500
DTEND;TZID=America/Los_Angeles:20220310T184500
DTSTAMP:20260424T185614
CREATED:20210813T162922Z
LAST-MODIFIED:20220311T014918Z
UID:1693107-1646934300-1646937900@ramayogainstitute.com
SUMMARY:Kundalini Yoga & Meditation with Glaucia
DESCRIPTION:Learn More & Tune In
URL:https://ramayogainstitute.com/event/kundalini-yoga-meditation-with-jen-saltiel-2-2021-12-07-2021-12-09-2022-01-06-2022-02-24-2022-03-10/
LOCATION:Online
CATEGORIES:In Person,RA MA TV Live
ATTACH;FMTTYPE=image/jpeg:https://ramayogainstitute.com/wp-content/uploads/2021/12/Los-Angeles-Divider-4.jpg
END:VEVENT
BEGIN:VEVENT
DTSTART;TZID=America/Los_Angeles:20220311T090000
DTEND;TZID=America/Los_Angeles:20220311T103000
DTSTAMP:20260424T185614
CREATED:20210809T171040Z
LAST-MODIFIED:20220819T192703Z
UID:1676965-1646989200-1646994600@ramayogainstitute.com
SUMMARY:Projective Power with Mandev
DESCRIPTION:Mandev Khalsa is an award-winning filmmaker and creator of My Moon Map™\, an IOS mobile app to track your moods and behavior pattern using the ancient yogic science of the moon centers. For years\, Mandev has deeply researched esoteric energetic structures in women’s teachings to discover energy and power. Her App and upcoming film\, “The Moon Centers”\, reveal the unique relationship women have to the moon and how to they can unlock and access these infinite lunar powers. \nLearn More & Tune In
URL:https://ramayogainstitute.com/event/kundalini-mandev-12-10-21-2022-03-07-2022-03-11/
LOCATION:Online
CATEGORIES:In Person,RA MA TV Live
ATTACH;FMTTYPE=image/jpeg:https://ramayogainstitute.com/wp-content/uploads/2021/08/Mandev-2.jpg
END:VEVENT
BEGIN:VEVENT
DTSTART;TZID=America/Los_Angeles:20220311T170000
DTEND;TZID=America/Los_Angeles:20220311T190000
DTSTAMP:20260424T185614
CREATED:20220305T031825Z
LAST-MODIFIED:20220305T031825Z
UID:1696171-1647018000-1647025200@ramayogainstitute.com
SUMMARY:10th Day of the Moon with Harijiwan
DESCRIPTION:Harijiwan has been teaching Kundalini yoga since 1975. Known for his unique Gong playing\, his classes are funny\, profound\, poetic and offer students the opportunity to receive rarified instruction and enjoy vast change. \nLearn More & Tune In
URL:https://ramayogainstitute.com/event/10th-day-of-the-moon-with-harijiwan-3-11-22/
LOCATION:Online
CATEGORIES:In Person,Pay Per View Workshops
ATTACH;FMTTYPE=image/jpeg:https://ramayogainstitute.com/wp-content/uploads/2021/08/harijiwan-cal-icon.jpg
END:VEVENT
BEGIN:VEVENT
DTSTART;TZID=America/Los_Angeles:20220312T130000
DTEND;TZID=America/Los_Angeles:20220312T150000
DTSTAMP:20260424T185614
CREATED:20220305T032217Z
LAST-MODIFIED:20220305T032243Z
UID:1696177-1647090000-1647097200@ramayogainstitute.com
SUMMARY:11th Day of the Moon with Harijiwan
DESCRIPTION:Harijiwan has been teaching Kundalini yoga since 1975. Known for his unique Gong playing\, his classes are funny\, profound\, poetic and offer students the opportunity to receive rarified instruction and enjoy vast change. \nLearn More & Tune In
URL:https://ramayogainstitute.com/event/11th-day-of-the-moon-with-harijiwan-3-12-22/
LOCATION:Online
CATEGORIES:In Person,Pay Per View Workshops
ATTACH;FMTTYPE=image/jpeg:https://ramayogainstitute.com/wp-content/uploads/2021/07/Harijiwan-cal-icon.jpg
END:VEVENT
BEGIN:VEVENT
DTSTART;TZID=America/Los_Angeles:20220312T153000
DTEND;TZID=America/Los_Angeles:20220312T170000
DTSTAMP:20260424T185614
CREATED:20220305T032659Z
LAST-MODIFIED:20220307T022119Z
UID:1696182-1647099000-1647104400@ramayogainstitute.com
SUMMARY:The Mala Workshop
DESCRIPTION:A mala is a powerful tool to amplify our affirmations\, prayers\, and mantra recitations used across so many traditions\, religions and different types of spiritual practices. In this workshop\, you will learn how to use a mala\, how it works\, and how you can take your practice to a new level with this powerful yogic tool.\n\n“We call it mala\, it’s an instrument for japa. Japa gives tapa. When you repeat the name of God it creates a special heat\, it is called tapa. That burns the karma and that gives you the Dharma. It’s a simple known law.” – Yogi Bhajan\n\nThe workshop will be lead by Giangeet of Satamber.\nLearn More & Sign Up (In Person & Online) \n$22 in advance / $33 day of
URL:https://ramayogainstitute.com/event/mala-workshop-with-giangeet-3-12-22/
LOCATION:Online
CATEGORIES:In Person,Pay Per View Workshops
ATTACH;FMTTYPE=image/jpeg:https://ramayogainstitute.com/wp-content/uploads/2022/03/Sat-Amber.jpg
END:VEVENT
BEGIN:VEVENT
DTSTART;TZID=America/Los_Angeles:20220312T180000
DTEND;TZID=America/Los_Angeles:20220312T193000
DTSTAMP:20260424T185614
CREATED:20220305T033308Z
LAST-MODIFIED:20220305T033340Z
UID:1696185-1647108000-1647113400@ramayogainstitute.com
SUMMARY:Group Past Life Regression with Jeroen de Wit
DESCRIPTION:Using Dolores Cannon’s group regression method we’ll delve into one or more of our past lives. We’ll align with our Higher Self and the life or lives it brings forth to experience contain the quantum codes that help heal issues in our current lifetime. The resulting healing and wisdom that is received\, is truly remarkable and often changes a life profoundly as one becomes more aligned with their Divine purpose. \nThese exciting group workshops are a lighthearted way to experience a glimpse of the healing and wisdom of doing a past life regression for yourself. \nIn Person at RA MA Los Angeles and Virtually on RA MA TV \nLearn More & Sign Up (Online & In-Person) \n$22 in advance\, $33 the day of
URL:https://ramayogainstitute.com/event/group-past-life-regression-with-jeroen-de-wit-3-12-22/
LOCATION:Online
CATEGORIES:In Person,Pay Per View Workshops
ATTACH;FMTTYPE=image/png:https://ramayogainstitute.com/wp-content/uploads/2022/03/Jeroen-de-Wit-cal-icon.png
END:VEVENT
END:VCALENDAR