BEGIN:VCALENDAR
VERSION:2.0
PRODID:-//RA MA LIFE - ECPv6.15.15//NONSGML v1.0//EN
CALSCALE:GREGORIAN
METHOD:PUBLISH
X-WR-CALNAME:RA MA LIFE
X-ORIGINAL-URL:https://ramayogainstitute.com
X-WR-CALDESC:Events for RA MA LIFE
REFRESH-INTERVAL;VALUE=DURATION:PT1H
X-Robots-Tag:noindex
X-PUBLISHED-TTL:PT1H
BEGIN:VTIMEZONE
TZID:America/Los_Angeles
BEGIN:DAYLIGHT
TZOFFSETFROM:-0800
TZOFFSETTO:-0700
TZNAME:PDT
DTSTART:20210314T100000
END:DAYLIGHT
BEGIN:STANDARD
TZOFFSETFROM:-0700
TZOFFSETTO:-0800
TZNAME:PST
DTSTART:20211107T090000
END:STANDARD
BEGIN:DAYLIGHT
TZOFFSETFROM:-0800
TZOFFSETTO:-0700
TZNAME:PDT
DTSTART:20220313T100000
END:DAYLIGHT
BEGIN:STANDARD
TZOFFSETFROM:-0700
TZOFFSETTO:-0800
TZNAME:PST
DTSTART:20221106T090000
END:STANDARD
BEGIN:DAYLIGHT
TZOFFSETFROM:-0800
TZOFFSETTO:-0700
TZNAME:PDT
DTSTART:20230312T100000
END:DAYLIGHT
BEGIN:STANDARD
TZOFFSETFROM:-0700
TZOFFSETTO:-0800
TZNAME:PST
DTSTART:20231105T090000
END:STANDARD
END:VTIMEZONE
BEGIN:VEVENT
DTSTART;TZID=America/Los_Angeles:20220131T090000
DTEND;TZID=America/Los_Angeles:20220131T103000
DTSTAMP:20260424T190525
CREATED:20210809T171040Z
LAST-MODIFIED:20220819T192710Z
UID:1676942-1643619600-1643625000@ramayogainstitute.com
SUMMARY:Infinity Projection with Long Mul Mantra with Mandev
DESCRIPTION:Mandev Khalsa is an award-winning filmmaker and creator of My Moon Map™\, an IOS mobile app to track your moods and behavior pattern using the ancient yogic science of the moon centers. For years\, Mandev has deeply researched esoteric energetic structures in women’s teachings to discover energy and power. Her App and upcoming film\, “The Moon Centers”\, reveal the unique relationship women have to the moon and how to they can unlock and access these infinite lunar powers. \nLearn More & Tune In
URL:https://ramayogainstitute.com/event/kundalini-mandev-12-10-21-2022-01-31/
LOCATION:Online
CATEGORIES:In Person,RA MA TV Live
ATTACH;FMTTYPE=image/jpeg:https://ramayogainstitute.com/wp-content/uploads/2021/08/mandev-cal-icon-2.jpg
END:VEVENT
BEGIN:VEVENT
DTSTART;TZID=America/Los_Angeles:20220131T130000
DTEND;TZID=America/Los_Angeles:20220131T140000
DTSTAMP:20260424T190525
CREATED:20220125T184824Z
LAST-MODIFIED:20220125T184850Z
UID:1686581-1643634000-1643637600@ramayogainstitute.com
SUMMARY:Kundalini Training: The Ten Bodies Q/A with Harijiwan
DESCRIPTION:Harijiwan has been teaching Kundalini yoga since 1975. Known for his unique Gong playing\, his classes are funny\, profound\, poetic and offer students the opportunity to receive rarified instruction and enjoy vast change. \nZoom Link Coming Soon
URL:https://ramayogainstitute.com/event/kundalini-training-the-ten-bodies-q-a-with-harijiwan-1-31-21/
LOCATION:Online on Zoom
CATEGORIES:Community Content
ATTACH;FMTTYPE=image/jpeg:https://ramayogainstitute.com/wp-content/uploads/2021/08/harijiwan-cal-icon.jpg
END:VEVENT
BEGIN:VEVENT
DTSTART;TZID=America/Los_Angeles:20220131T170000
DTEND;TZID=America/Los_Angeles:20220131T190000
DTSTAMP:20260424T190525
CREATED:20220125T185443Z
LAST-MODIFIED:20220125T185725Z
UID:1686584-1643648400-1643655600@ramayogainstitute.com
SUMMARY:New Moon in Aquarius with Harijiwan
DESCRIPTION:Harijiwan has been teaching Kundalini yoga since 1975. Known for his unique Gong playing\, his classes are funny\, profound\, poetic and offer students the opportunity to receive rarified instruction and enjoy vast change. \nLearn More \nSign Up Online
URL:https://ramayogainstitute.com/event/new-moon-in-aquarius-with-harijiwan-1-31-22/
LOCATION:Online
CATEGORIES:In Person,Pay Per View Workshops
ATTACH;FMTTYPE=image/jpeg:https://ramayogainstitute.com/wp-content/uploads/2021/08/harijiwan-cal-icon.jpg
END:VEVENT
BEGIN:VEVENT
DTSTART;TZID=America/Los_Angeles:20220201T080000
DTEND;TZID=America/Los_Angeles:20220201T093000
DTSTAMP:20260424T190525
CREATED:20220128T033232Z
LAST-MODIFIED:20220129T214323Z
UID:1687243-1643702400-1643707800@ramayogainstitute.com
SUMMARY:Kundalini Yoga & Meditation with Rebecca Underdown
DESCRIPTION:Rebecca Underdown began practicing Kundalini yoga in 2000 and studying with Tej\, Harijiwan and Guru Jagat in 2015. Rebecca holds a BA in Eastern Religions from Boston University and a Masters Degree in Chinese Acupuncture & Herbal Medicine. She is the founder of the skincare company Veridatta. \nLearn More & Tune In
URL:https://ramayogainstitute.com/event/kundalini-yoga-rebecca-underdown-2-1-22/
LOCATION:RA MA Institute New York\, 125 Stanton Street\, New York\, NY\, 10002\, United States
CATEGORIES:In Person,RA MA TV Live
ATTACH;FMTTYPE=image/jpeg:https://ramayogainstitute.com/wp-content/uploads/2022/01/Rebecca-Underdown-1.jpg
END:VEVENT
BEGIN:VEVENT
DTSTART;TZID=America/Los_Angeles:20220201T090000
DTEND;TZID=America/Los_Angeles:20220201T103000
DTSTAMP:20260424T190525
CREATED:20211028T002901Z
LAST-MODIFIED:20220125T193120Z
UID:1661323-1643706000-1643711400@ramayogainstitute.com
SUMMARY:Imperial Heart with Gurujas
DESCRIPTION:Gurujas teaches that Kundalini Yoga is an experientially-based system–a science of joy\, fulfillment and love. She also believes that happiness is a vibrational frequency\, and can be an enduring state of being. Gurujas is the lead singer of the Grammy Award winning group White Sun. \nLearn More & Tune In
URL:https://ramayogainstitute.com/event/kundalini-yoga-meditation-with-gurujas-11-2021-12-05-2022-01-09-2022-02-01/
LOCATION:Online
CATEGORIES:In Person,RA MA TV Live
ATTACH;FMTTYPE=image/jpeg:https://ramayogainstitute.com/wp-content/uploads/2021/08/Gurujas-Teaching-Ra-Ma-LA-12-2021-5.jpeg
END:VEVENT
BEGIN:VEVENT
DTSTART;TZID=America/Los_Angeles:20220202T090000
DTEND;TZID=America/Los_Angeles:20220202T103000
DTSTAMP:20260424T190525
CREATED:20210809T171040Z
LAST-MODIFIED:20220819T192710Z
UID:1676943-1643792400-1643797800@ramayogainstitute.com
SUMMARY:Kundalini Yoga & Meditation with Mandev
DESCRIPTION:Learn More & Tune In
URL:https://ramayogainstitute.com/event/kundalini-mandev-12-10-21-2022-02-02/
LOCATION:Online
CATEGORIES:In Person,RA MA TV Live
ATTACH;FMTTYPE=image/jpeg:https://ramayogainstitute.com/wp-content/uploads/2021/09/Mandev-camp-grace-profile-BY-SANTOSH.jpg
END:VEVENT
BEGIN:VEVENT
DTSTART;TZID=America/Los_Angeles:20220202T183000
DTEND;TZID=America/Los_Angeles:20220202T203000
DTSTAMP:20260424T190525
CREATED:20220125T193754Z
LAST-MODIFIED:20220125T193754Z
UID:1686623-1643826600-1643833800@ramayogainstitute.com
SUMMARY:22222 with Harijiwan
DESCRIPTION:Harijiwan has been teaching Kundalini yoga since 1975. Known for his unique Gong playing\, his classes are funny\, profound\, poetic and offer students the opportunity to receive rarified instruction and enjoy vast change. \nSign Up Online
URL:https://ramayogainstitute.com/event/22222-with-harijiwan/
LOCATION:Online
CATEGORIES:In Person,Pay Per View Workshops
ATTACH;FMTTYPE=image/jpeg:https://ramayogainstitute.com/wp-content/uploads/2021/08/harijiwan-cal-icon.jpg
END:VEVENT
BEGIN:VEVENT
DTSTART;TZID=America/Los_Angeles:20220203T090000
DTEND;TZID=America/Los_Angeles:20220203T103000
DTSTAMP:20260424T190525
CREATED:20210809T171040Z
LAST-MODIFIED:20220819T192710Z
UID:1676944-1643878800-1643884200@ramayogainstitute.com
SUMMARY:Kundalini Yoga & Meditation with Mandev
DESCRIPTION:Learn More & Tune In
URL:https://ramayogainstitute.com/event/kundalini-mandev-12-10-21-2022-02-03/
LOCATION:Online
CATEGORIES:In Person,RA MA TV Live
ATTACH;FMTTYPE=image/jpeg:https://ramayogainstitute.com/wp-content/uploads/2021/08/mandev-cal-icon-2.jpg
END:VEVENT
BEGIN:VEVENT
DTSTART;TZID=America/Los_Angeles:20220204T090000
DTEND;TZID=America/Los_Angeles:20220204T103000
DTSTAMP:20260424T190525
CREATED:20210809T171040Z
LAST-MODIFIED:20220819T192709Z
UID:1676945-1643965200-1643970600@ramayogainstitute.com
SUMMARY:Kundalini Yoga & Meditation with Mandev
DESCRIPTION:Learn More & Tune In
URL:https://ramayogainstitute.com/event/kundalini-mandev-12-10-21-2022-02-04/
LOCATION:Online
CATEGORIES:In Person,RA MA TV Live
ATTACH;FMTTYPE=image/jpeg:https://ramayogainstitute.com/wp-content/uploads/2021/08/mandev-cal-icon-2.jpg
END:VEVENT
BEGIN:VEVENT
DTSTART;TZID=America/Los_Angeles:20220205T090000
DTEND;TZID=America/Los_Angeles:20220205T103000
DTSTAMP:20260424T190525
CREATED:20211209T010530Z
LAST-MODIFIED:20220202T050621Z
UID:1677275-1644051600-1644057000@ramayogainstitute.com
SUMMARY:Kundalini Yoga & Meditation with Shabadpreet
DESCRIPTION:Learn More & Tune In
URL:https://ramayogainstitute.com/event/gurujas-kundalini-12-11-21-2022-01-08-2022-01-15-2022-02-05/
LOCATION:Online
CATEGORIES:In Person,RA MA TV Live
ATTACH;FMTTYPE=image/jpeg:https://ramayogainstitute.com/wp-content/uploads/2021/12/Shabadpreet-Training-Los-Angeles.jpg
END:VEVENT
BEGIN:VEVENT
DTSTART;TZID=America/Los_Angeles:20220206T090000
DTEND;TZID=America/Los_Angeles:20220206T103000
DTSTAMP:20260424T190525
CREATED:20211028T002901Z
LAST-MODIFIED:20220206T011248Z
UID:1665778-1644138000-1644143400@ramayogainstitute.com
SUMMARY:Boundless Radiance with Gurujas
DESCRIPTION:Gurujas teaches that Kundalini Yoga is an experientially-based system–a science of joy\, fulfillment and love. She also believes that happiness is a vibrational frequency\, and can be an enduring state of being. Gurujas is the lead singer of the Grammy Award winning group White Sun. \nLearn More & Tune In
URL:https://ramayogainstitute.com/event/kundalini-yoga-meditation-with-gurujas-11-2021-12-05-2022-01-09-2022-02-06/
LOCATION:Online
CATEGORIES:In Person,RA MA TV Live
ATTACH;FMTTYPE=image/jpeg:https://ramayogainstitute.com/wp-content/uploads/2021/08/Gurujas-Teaching-Ra-Ma-LA-12-2021-5.jpeg
END:VEVENT
BEGIN:VEVENT
DTSTART;TZID=America/Los_Angeles:20220206T160000
DTEND;TZID=America/Los_Angeles:20220206T173000
DTSTAMP:20260424T190525
CREATED:20211111T222113Z
LAST-MODIFIED:20220131T183943Z
UID:1670098-1644163200-1644168600@ramayogainstitute.com
SUMMARY:Kundalini Yoga & Meditation with Tej
DESCRIPTION:Tej Kaur Khalsa has been a student of traditional Kundalini for over 35 years. She is a Custodian of Kundalini knowledge\, and a recognized authority on the teachings. \nLearn More & Tune In
URL:https://ramayogainstitute.com/event/kundalini-tej-11-20-21-2021-12-05-2022-01-09-2022-02-06/
LOCATION:Online
CATEGORIES:In Person,RA MA TV Live
ATTACH;FMTTYPE=image/png:https://ramayogainstitute.com/wp-content/uploads/2021/05/tej-cal-icon.png
END:VEVENT
END:VCALENDAR