BEGIN:VCALENDAR
VERSION:2.0
PRODID:-//RA MA LIFE - ECPv6.15.15//NONSGML v1.0//EN
CALSCALE:GREGORIAN
METHOD:PUBLISH
X-ORIGINAL-URL:https://ramayogainstitute.com
X-WR-CALDESC:Events for RA MA LIFE
REFRESH-INTERVAL;VALUE=DURATION:PT1H
X-Robots-Tag:noindex
X-PUBLISHED-TTL:PT1H
BEGIN:VTIMEZONE
TZID:America/Los_Angeles
BEGIN:DAYLIGHT
TZOFFSETFROM:-0800
TZOFFSETTO:-0700
TZNAME:PDT
DTSTART:20210314T100000
END:DAYLIGHT
BEGIN:STANDARD
TZOFFSETFROM:-0700
TZOFFSETTO:-0800
TZNAME:PST
DTSTART:20211107T090000
END:STANDARD
BEGIN:DAYLIGHT
TZOFFSETFROM:-0800
TZOFFSETTO:-0700
TZNAME:PDT
DTSTART:20220313T100000
END:DAYLIGHT
BEGIN:STANDARD
TZOFFSETFROM:-0700
TZOFFSETTO:-0800
TZNAME:PST
DTSTART:20221106T090000
END:STANDARD
BEGIN:DAYLIGHT
TZOFFSETFROM:-0800
TZOFFSETTO:-0700
TZNAME:PDT
DTSTART:20230312T100000
END:DAYLIGHT
BEGIN:STANDARD
TZOFFSETFROM:-0700
TZOFFSETTO:-0800
TZNAME:PST
DTSTART:20231105T090000
END:STANDARD
END:VTIMEZONE
BEGIN:VEVENT
DTSTART;TZID=America/Los_Angeles:20220110T090000
DTEND;TZID=America/Los_Angeles:20220110T103000
DTSTAMP:20260425T041518
CREATED:20210809T171040Z
LAST-MODIFIED:20220819T192714Z
UID:1676930-1641805200-1641810600@ramayogainstitute.com
SUMMARY:Prosperity Patterns + Long Mul Mantra with Mandev
DESCRIPTION:In the vast science of Kundalini Yoga and Meditation\, there are energetic laws and meditations given specifically to increase a person’s level of prosperity. \nIn this series\, you will…\nLearn the ancient yogic secrets of prosperity.\nRe-construct your auric field to hold the level of wealth and happiness that you desire. \nExplore and experience the realms of prosperity in specialized meditations.\nLearn how to maneuver and arrange the energetic and elemental currents to your favor. \nReceive tools that you can apply to any situation to make your life more prosperous. \n“Cut a square diagonally\, it makes two triangles. Cut bad luck with endurance\, it will turn\ninto prosperity. Any misfortune will become a source of prosperity\, elevation\, and ecstasy. It’s simple geometry.” — Yogi Bhajan \nMandev Khalsa is an award-winning filmmaker and creator of My Moon Map™\, an IOS mobile app to track your moods and behavior pattern using the ancient yogic science of the moon centers. For years\, Mandev has deeply researched esoteric energetic structures in women’s teachings to discover energy and power. Her App and upcoming film\, “The Moon Centers”\, reveal the unique relationship women have to the moon and how to they can unlock and access these infinite lunar powers. \nLearn More & Tune In
URL:https://ramayogainstitute.com/event/kundalini-mandev-12-10-21-2022-01-10/
LOCATION:Online
CATEGORIES:In Person,RA MA TV Live
ATTACH;FMTTYPE=image/jpeg:https://ramayogainstitute.com/wp-content/uploads/2021/08/mandev-cal-icon-2.jpg
END:VEVENT
BEGIN:VEVENT
DTSTART;TZID=America/Los_Angeles:20220110T110000
DTEND;TZID=America/Los_Angeles:20220110T120000
DTSTAMP:20260425T041518
CREATED:20211211T022647Z
LAST-MODIFIED:20220106T171458Z
UID:1676883-1641812400-1641816000@ramayogainstitute.com
SUMMARY:Pranic Charge with Seva Jagat
DESCRIPTION:Seva Jagat is an Independent Artist and Yogi from Puerto Rico. \nSeva’s interests are sustainability\, social themes and wellness practices. Seva works with Guru Jagat and Aa MA TV\, frequently traveling with the RA MA crew. \nLearn More & Tune In
URL:https://ramayogainstitute.com/event/pranic-change-seva-jagat-2022-01-10/
LOCATION:Online
CATEGORIES:In Person,RA MA TV Live
ATTACH;FMTTYPE=image/jpeg:https://ramayogainstitute.com/wp-content/uploads/2021/08/Seva-Jagat-cal-icon.jpg
END:VEVENT
BEGIN:VEVENT
DTSTART;TZID=America/Los_Angeles:20220111T080000
DTEND;TZID=America/Los_Angeles:20220111T093000
DTSTAMP:20260425T041518
CREATED:20220106T172209Z
LAST-MODIFIED:20220106T172306Z
UID:1682275-1641888000-1641893400@ramayogainstitute.com
SUMMARY:Kundalini Yoga & Meditation with Rebecca Underdown
DESCRIPTION:Rebecca Underdown began practicing Kundalini yoga in 2000 and studying with Tej\, Harijiwan and Guru Jagat in 2015. Rebecca holds a BA in Eastern Religions from Boston University and a Masters Degree in Chinese Acupuncture & Herbal Medicine. She is the founder of the skincare company Veridatta. \nLearn More & Tune In
URL:https://ramayogainstitute.com/event/kundalini-yoga-underdown-1-11-21/
LOCATION:RA MA New York & Online
CATEGORIES:In Person,RA MA TV Live
ATTACH;FMTTYPE=image/png:https://ramayogainstitute.com/wp-content/uploads/2022/01/rebecca-underdown-cal-icon.png
END:VEVENT
BEGIN:VEVENT
DTSTART;TZID=America/Los_Angeles:20220111T170000
DTEND;TZID=America/Los_Angeles:20220111T190000
DTSTAMP:20260425T041518
CREATED:20220106T173328Z
LAST-MODIFIED:20220108T232121Z
UID:1682280-1641920400-1641927600@ramayogainstitute.com
SUMMARY:10th Day of the Moon with Harijiwan
DESCRIPTION:Harijiwan has been teaching Kundalini yoga since 1975. Known for his unique Gong playing\, his classes are funny\, profound\, poetic and offer students the opportunity to receive rarified instruction and enjoy vast change. \nLearn More \nTune In
URL:https://ramayogainstitute.com/event/10th-day-of-the-moon-harijiwan-1-11-22/
LOCATION:Online
CATEGORIES:In Person,Pay Per View Workshops
ATTACH;FMTTYPE=image/jpeg:https://ramayogainstitute.com/wp-content/uploads/2021/08/harijiwan-cal-icon.jpg
END:VEVENT
BEGIN:VEVENT
DTSTART;TZID=America/Los_Angeles:20220112T090000
DTEND;TZID=America/Los_Angeles:20220112T103000
DTSTAMP:20260425T041518
CREATED:20210809T171040Z
LAST-MODIFIED:20220819T192714Z
UID:1676931-1641978000-1641983400@ramayogainstitute.com
SUMMARY:Prosperity Patterns with Mandev
DESCRIPTION:In the vast science of Kundalini Yoga and Meditation\, there are energetic laws and meditations given specifically to increase a person’s level of prosperity. \nIn this series\, you will…\nLearn the ancient yogic secrets of prosperity.\nRe-construct your auric field to hold the level of wealth and happiness that you desire. \nExplore and experience the realms of prosperity in specialized meditations.\nLearn how to maneuver and arrange the energetic and elemental currents to your favor. \nReceive tools that you can apply to any situation to make your life more prosperous. \n“Cut a square diagonally\, it makes two triangles. Cut bad luck with endurance\, it will turn\ninto prosperity. Any misfortune will become a source of prosperity\, elevation\, and ecstasy. It’s simple geometry.” — Yogi Bhajan \nMandev Khalsa is an award-winning filmmaker and creator of My Moon Map™\, an IOS mobile app to track your moods and behavior pattern using the ancient yogic science of the moon centers. For years\, Mandev has deeply researched esoteric energetic structures in women’s teachings to discover energy and power. Her App and upcoming film\, “The Moon Centers”\, reveal the unique relationship women have to the moon and how to they can unlock and access these infinite lunar powers. \nLearn More & Tune In
URL:https://ramayogainstitute.com/event/kundalini-mandev-12-10-21-2022-01-12/
LOCATION:Online
CATEGORIES:In Person,RA MA TV Live
ATTACH;FMTTYPE=image/jpeg:https://ramayogainstitute.com/wp-content/uploads/2021/08/mandev-cal-icon-2.jpg
END:VEVENT
BEGIN:VEVENT
DTSTART;TZID=America/Los_Angeles:20220112T170000
DTEND;TZID=America/Los_Angeles:20220112T190000
DTSTAMP:20260425T041518
CREATED:20220106T174609Z
LAST-MODIFIED:20220108T232316Z
UID:1682287-1642006800-1642014000@ramayogainstitute.com
SUMMARY:11th Day of the Moon with Harijiwan
DESCRIPTION:Harijiwan has been teaching Kundalini yoga since 1975. Known for his unique Gong playing\, his classes are funny\, profound\, poetic and offer students the opportunity to receive rarified instruction and enjoy vast change. \nLearn More \nTune In
URL:https://ramayogainstitute.com/event/11th-day-of-the-moon-harijiwan-1-12-22/
LOCATION:Online
CATEGORIES:In Person,Pay Per View Workshops
ATTACH;FMTTYPE=image/jpeg:https://ramayogainstitute.com/wp-content/uploads/2021/08/harijiwan-cal-icon.jpg
END:VEVENT
BEGIN:VEVENT
DTSTART;TZID=America/Los_Angeles:20220113T090000
DTEND;TZID=America/Los_Angeles:20220113T103000
DTSTAMP:20260425T041518
CREATED:20210809T171040Z
LAST-MODIFIED:20220819T192713Z
UID:1676932-1642064400-1642069800@ramayogainstitute.com
SUMMARY:Prosperity Patterns with Mandev
DESCRIPTION:In the vast science of Kundalini Yoga and Meditation\, there are energetic laws and meditations given specifically to increase a person’s level of prosperity. \nIn this series\, you will…\nLearn the ancient yogic secrets of prosperity.\nRe-construct your auric field to hold the level of wealth and happiness that you desire. \nExplore and experience the realms of prosperity in specialized meditations.\nLearn how to maneuver and arrange the energetic and elemental currents to your favor. \nReceive tools that you can apply to any situation to make your life more prosperous. \n“Cut a square diagonally\, it makes two triangles. Cut bad luck with endurance\, it will turn\ninto prosperity. Any misfortune will become a source of prosperity\, elevation\, and ecstasy. It’s simple geometry.” — Yogi Bhajan \nMandev Khalsa is an award-winning filmmaker and creator of My Moon Map™\, an IOS mobile app to track your moods and behavior pattern using the ancient yogic science of the moon centers. For years\, Mandev has deeply researched esoteric energetic structures in women’s teachings to discover energy and power. Her App and upcoming film\, “The Moon Centers”\, reveal the unique relationship women have to the moon and how to they can unlock and access these infinite lunar powers. \nLearn More & Tune In
URL:https://ramayogainstitute.com/event/kundalini-mandev-12-10-21-2022-01-13/
LOCATION:Online
CATEGORIES:In Person,RA MA TV Live
ATTACH;FMTTYPE=image/jpeg:https://ramayogainstitute.com/wp-content/uploads/2021/08/mandev-cal-icon-2.jpg
END:VEVENT
BEGIN:VEVENT
DTSTART;TZID=America/Los_Angeles:20220114T090000
DTEND;TZID=America/Los_Angeles:20220114T103000
DTSTAMP:20260425T041518
CREATED:20210809T171040Z
LAST-MODIFIED:20220819T192713Z
UID:1676933-1642150800-1642156200@ramayogainstitute.com
SUMMARY:Prosperity Patterns with Mandev
DESCRIPTION:In the vast science of Kundalini Yoga and Meditation\, there are energetic laws and meditations given specifically to increase a person’s level of prosperity. \nIn this series\, you will…\nLearn the ancient yogic secrets of prosperity.\nRe-construct your auric field to hold the level of wealth and happiness that you desire. \nExplore and experience the realms of prosperity in specialized meditations.\nLearn how to maneuver and arrange the energetic and elemental currents to your favor. \nReceive tools that you can apply to any situation to make your life more prosperous. \n“Cut a square diagonally\, it makes two triangles. Cut bad luck with endurance\, it will turn\ninto prosperity. Any misfortune will become a source of prosperity\, elevation\, and ecstasy. It’s simple geometry.” — Yogi Bhajan \nMandev Khalsa is an award-winning filmmaker and creator of My Moon Map™\, an IOS mobile app to track your moods and behavior pattern using the ancient yogic science of the moon centers. For years\, Mandev has deeply researched esoteric energetic structures in women’s teachings to discover energy and power. Her App and upcoming film\, “The Moon Centers”\, reveal the unique relationship women have to the moon and how to they can unlock and access these infinite lunar powers. \nLearn More & Tune In
URL:https://ramayogainstitute.com/event/kundalini-mandev-12-10-21-2022-01-14/
LOCATION:Online
CATEGORIES:In Person,RA MA TV Live
ATTACH;FMTTYPE=image/jpeg:https://ramayogainstitute.com/wp-content/uploads/2021/08/mandev-cal-icon-2.jpg
END:VEVENT
END:VCALENDAR