BEGIN:VCALENDAR
VERSION:2.0
PRODID:-//RA MA LIFE - ECPv6.15.15//NONSGML v1.0//EN
CALSCALE:GREGORIAN
METHOD:PUBLISH
X-ORIGINAL-URL:https://ramayogainstitute.com
X-WR-CALDESC:Events for RA MA LIFE
REFRESH-INTERVAL;VALUE=DURATION:PT1H
X-Robots-Tag:noindex
X-PUBLISHED-TTL:PT1H
BEGIN:VTIMEZONE
TZID:America/Los_Angeles
BEGIN:DAYLIGHT
TZOFFSETFROM:-0800
TZOFFSETTO:-0700
TZNAME:PDT
DTSTART:20200308T100000
END:DAYLIGHT
BEGIN:STANDARD
TZOFFSETFROM:-0700
TZOFFSETTO:-0800
TZNAME:PST
DTSTART:20201101T090000
END:STANDARD
BEGIN:DAYLIGHT
TZOFFSETFROM:-0800
TZOFFSETTO:-0700
TZNAME:PDT
DTSTART:20210314T100000
END:DAYLIGHT
BEGIN:STANDARD
TZOFFSETFROM:-0700
TZOFFSETTO:-0800
TZNAME:PST
DTSTART:20211107T090000
END:STANDARD
BEGIN:DAYLIGHT
TZOFFSETFROM:-0800
TZOFFSETTO:-0700
TZNAME:PDT
DTSTART:20220313T100000
END:DAYLIGHT
BEGIN:STANDARD
TZOFFSETFROM:-0700
TZOFFSETTO:-0800
TZNAME:PST
DTSTART:20221106T090000
END:STANDARD
END:VTIMEZONE
BEGIN:VEVENT
DTSTART;VALUE=DATE:20210722
DTEND;VALUE=DATE:20210726
DTSTAMP:20260425T084137
CREATED:20210722T202642Z
LAST-MODIFIED:20210722T202701Z
UID:1634259-1626912000-1627257599@ramayogainstitute.com
SUMMARY:Kundalini Training: Teaching Fundamentals
DESCRIPTION:Learn More
URL:https://ramayogainstitute.com/event/kundalini-training-teaching-fundamentals/
LOCATION:Online on RA MA TV
CATEGORIES:Courses & Events
ATTACH;FMTTYPE=image/jpeg:https://ramayogainstitute.com/wp-content/uploads/2021/07/kundalini-training-cal-icon.jpg
END:VEVENT
BEGIN:VEVENT
DTSTART;TZID=America/Los_Angeles:20210723T104500
DTEND;TZID=America/Los_Angeles:20210723T123000
DTSTAMP:20260425T084137
CREATED:20210721T215236Z
LAST-MODIFIED:20210721T215236Z
UID:1633904-1627037100-1627043400@ramayogainstitute.com
SUMMARY:Aquarius and the Water Blessings\, Full Moon with Guru Jagat
DESCRIPTION:Learn More \nJoin Online \nJoin In Person
URL:https://ramayogainstitute.com/event/aquarius-and-the-water-blessings-full-moon-with-guru-jagat/
ATTACH;FMTTYPE=image/jpeg:https://ramayogainstitute.com/wp-content/uploads/2021/07/guru-jagat-cal-icon.jpg
END:VEVENT
BEGIN:VEVENT
DTSTART;TZID=America/Los_Angeles:20210723T183000
DTEND;TZID=America/Los_Angeles:20210723T203000
DTSTAMP:20260425T084137
CREATED:20210721T220233Z
LAST-MODIFIED:20210721T220233Z
UID:1633910-1627065000-1627072200@ramayogainstitute.com
SUMMARY:Full Moon in Aquarius Kundalini Yoga\, Meditation & Gong with Harijiwan
DESCRIPTION:Learn More \nJoin Online \nJoin In Person
URL:https://ramayogainstitute.com/event/full-moon-in-aquarius-kundalini-yoga-meditation-gong-with-harijiwan/
ATTACH;FMTTYPE=image/jpeg:https://ramayogainstitute.com/wp-content/uploads/2021/07/Harijiwan-cal-icon.jpg
END:VEVENT
END:VCALENDAR