BEGIN:VCALENDAR
VERSION:2.0
PRODID:-//RA MA LIFE - ECPv6.15.15//NONSGML v1.0//EN
CALSCALE:GREGORIAN
METHOD:PUBLISH
X-WR-CALNAME:RA MA LIFE
X-ORIGINAL-URL:https://ramayogainstitute.com
X-WR-CALDESC:Events for RA MA LIFE
REFRESH-INTERVAL;VALUE=DURATION:PT1H
X-Robots-Tag:noindex
X-PUBLISHED-TTL:PT1H
BEGIN:VTIMEZONE
TZID:America/Los_Angeles
BEGIN:DAYLIGHT
TZOFFSETFROM:-0800
TZOFFSETTO:-0700
TZNAME:PDT
DTSTART:20220313T100000
END:DAYLIGHT
BEGIN:STANDARD
TZOFFSETFROM:-0700
TZOFFSETTO:-0800
TZNAME:PST
DTSTART:20221106T090000
END:STANDARD
BEGIN:DAYLIGHT
TZOFFSETFROM:-0800
TZOFFSETTO:-0700
TZNAME:PDT
DTSTART:20230312T100000
END:DAYLIGHT
BEGIN:STANDARD
TZOFFSETFROM:-0700
TZOFFSETTO:-0800
TZNAME:PST
DTSTART:20231105T090000
END:STANDARD
BEGIN:DAYLIGHT
TZOFFSETFROM:-0800
TZOFFSETTO:-0700
TZNAME:PDT
DTSTART:20240310T100000
END:DAYLIGHT
BEGIN:STANDARD
TZOFFSETFROM:-0700
TZOFFSETTO:-0800
TZNAME:PST
DTSTART:20241103T090000
END:STANDARD
END:VTIMEZONE
BEGIN:VEVENT
DTSTART;TZID=America/Los_Angeles:20230818T193000
DTEND;TZID=America/Los_Angeles:20230818T213000
DTSTAMP:20260425T114235
CREATED:20230730T000016Z
LAST-MODIFIED:20230817T071151Z
UID:1816809-1692387000-1692394200@ramayogainstitute.com
SUMMARY:Siri Jyothi | Devi Puram with Shiva Rea
DESCRIPTION:SIGN UP\nTUNE IN\nSiri Jyothi | Devi Puram with Shiva Rea\nSiri Jyoti is an empowerment ritual designed by Guruji\, which means wealth of light. It is a group ritual performed to the Sri Chakra opening the immense benefits of performing Chakra puja to us. Doing this enables you to enjoy life\, sing\, and dance through it. \nIn Guruji’s words: “We have to move from I as an individual to we as a collective. \nWe have to join as a team and work towards a common goal. One common goal can be empowering each one of us and the team. To achieve this goal\, we can create a simple team building fun event near our own homes. \nBy shedding unnecessary alienation from each other\, we glow emitting rainbow shades of light and love. I have created a simplified ritual from an ancient wisdom called Srividya\, which has stood the test of time. It is a good gift we can offer to ourselves. It takes 1 hr to draw a Srichakra\, 1 hr to decorate it\, one hr to do ritual and 1 hr to celebrate. Can be learned in a day!” \nFriday\, August 18\, 2023\n7:30pm PDT\nIn-Person at RA MA Los Angeles & Virtually on RA MA TV\n$33 \nShiva Rea serves the art of yoga around the world inspired by her Sat Guru Mata Amritanandamayi and thirty years of pilgrimage and studies in India. As founder of Prana Vinyasa and the Samudra Global School for Living Yoga\, Shiva honors the roots of yoga\, Ayurveda\, and tantra in creative\, life-transforming courses and trainings. Her studies in Tantra\, Ayurveda\, Krishnamacharya lineage\, Kalaripayattu\, Odissi and somatic movement infuse an approach to living yoga and embodying the flow.  As a global teacher and movement anthropologist with her M.A\,. from UCLA’s Interdisciplinary Department of World Arts and Cultures\, Shiva empowers people from all walks of life to experience the flow of breath. She has done fieldwork and offered yoga in over 50 countries from urban centers to ancient sites\, large-scale festivals to indigenous communities. Her book\, “Tending the Heart Fire – Living in Flow with the Pulse of Life” is about the history and embodiment of our energetic heart and living vinyasa.You can find her live and online offerings at www.shivarea.love \n 
URL:https://ramayogainstitute.com/event/siri-jyothi-devi-puram-with-shiva-rea/
LOCATION:Online
CATEGORIES:In Person,Pay Per View Workshops
ATTACH;FMTTYPE=image/jpeg:https://ramayogainstitute.com/wp-content/uploads/2023/07/RAMAResidency_Shiva_Rea_Header6.jpg
END:VEVENT
END:VCALENDAR