BEGIN:VCALENDAR
VERSION:2.0
PRODID:-//RA MA LIFE - ECPv6.15.15//NONSGML v1.0//EN
CALSCALE:GREGORIAN
METHOD:PUBLISH
X-WR-CALNAME:RA MA LIFE
X-ORIGINAL-URL:https://ramayogainstitute.com
X-WR-CALDESC:Events for RA MA LIFE
REFRESH-INTERVAL;VALUE=DURATION:PT1H
X-Robots-Tag:noindex
X-PUBLISHED-TTL:PT1H
BEGIN:VTIMEZONE
TZID:America/Los_Angeles
BEGIN:DAYLIGHT
TZOFFSETFROM:-0800
TZOFFSETTO:-0700
TZNAME:PDT
DTSTART:20250309T100000
END:DAYLIGHT
BEGIN:STANDARD
TZOFFSETFROM:-0700
TZOFFSETTO:-0800
TZNAME:PST
DTSTART:20251102T090000
END:STANDARD
BEGIN:DAYLIGHT
TZOFFSETFROM:-0800
TZOFFSETTO:-0700
TZNAME:PDT
DTSTART:20260308T100000
END:DAYLIGHT
BEGIN:STANDARD
TZOFFSETFROM:-0700
TZOFFSETTO:-0800
TZNAME:PST
DTSTART:20261101T090000
END:STANDARD
BEGIN:DAYLIGHT
TZOFFSETFROM:-0800
TZOFFSETTO:-0700
TZNAME:PDT
DTSTART:20270314T100000
END:DAYLIGHT
BEGIN:STANDARD
TZOFFSETFROM:-0700
TZOFFSETTO:-0800
TZNAME:PST
DTSTART:20271107T090000
END:STANDARD
END:VTIMEZONE
BEGIN:VEVENT
DTSTART;TZID=America/Los_Angeles:20260103T003000
DTEND;TZID=America/Los_Angeles:20260103T023000
DTSTAMP:20260420T223337
CREATED:20251125T164749Z
LAST-MODIFIED:20260102T145647Z
UID:2001235-1767400200-1767407400@ramayogainstitute.com
SUMMARY:THE BENEVOLENT GUIDE | Cancer Full Moon Kundalini with Teg Prakash
DESCRIPTION:
URL:https://ramayogainstitute.com/event/kundalini-yoga-meditation-7-2026-01-03/
LOCATION:Online on RA MA TV
CATEGORIES:In Person,Pay Per View Workshops,RA MA TV Live
ATTACH;FMTTYPE=image/jpeg:https://ramayogainstitute.com/wp-content/uploads/2025/08/teg_prakash_laugh_thumb.jpg
END:VEVENT
BEGIN:VEVENT
DTSTART;TZID=America/Los_Angeles:20260118T003000
DTEND;TZID=America/Los_Angeles:20260118T020000
DTSTAMP:20260420T223337
CREATED:20251125T164749Z
LAST-MODIFIED:20260102T154512Z
UID:2001240-1768696200-1768701600@ramayogainstitute.com
SUMMARY:COMMIT & CONQUER | New Moon in Capricorn with Atma Santokh
DESCRIPTION:
URL:https://ramayogainstitute.com/event/kundalini-yoga-meditation-7-2026-01-18/
LOCATION:Online on RA MA TV
CATEGORIES:In Person,Pay Per View Workshops,RA MA TV Live
ATTACH;FMTTYPE=image/png:https://ramayogainstitute.com/wp-content/uploads/2025/07/Atma_Santokh_Fitness_5-scaled.png
END:VEVENT
END:VCALENDAR