BEGIN:VCALENDAR
VERSION:2.0
PRODID:-//RA MA LIFE - ECPv6.15.15//NONSGML v1.0//EN
CALSCALE:GREGORIAN
METHOD:PUBLISH
X-WR-CALNAME:RA MA LIFE
X-ORIGINAL-URL:https://ramayogainstitute.com
X-WR-CALDESC:Events for RA MA LIFE
REFRESH-INTERVAL;VALUE=DURATION:PT1H
X-Robots-Tag:noindex
X-PUBLISHED-TTL:PT1H
BEGIN:VTIMEZONE
TZID:America/Los_Angeles
BEGIN:DAYLIGHT
TZOFFSETFROM:-0800
TZOFFSETTO:-0700
TZNAME:PDT
DTSTART:20240310T100000
END:DAYLIGHT
BEGIN:STANDARD
TZOFFSETFROM:-0700
TZOFFSETTO:-0800
TZNAME:PST
DTSTART:20241103T090000
END:STANDARD
BEGIN:DAYLIGHT
TZOFFSETFROM:-0800
TZOFFSETTO:-0700
TZNAME:PDT
DTSTART:20250309T100000
END:DAYLIGHT
BEGIN:STANDARD
TZOFFSETFROM:-0700
TZOFFSETTO:-0800
TZNAME:PST
DTSTART:20251102T090000
END:STANDARD
BEGIN:DAYLIGHT
TZOFFSETFROM:-0800
TZOFFSETTO:-0700
TZNAME:PDT
DTSTART:20260308T100000
END:DAYLIGHT
BEGIN:STANDARD
TZOFFSETFROM:-0700
TZOFFSETTO:-0800
TZNAME:PST
DTSTART:20261101T090000
END:STANDARD
END:VTIMEZONE
BEGIN:VEVENT
DTSTART;TZID=America/Los_Angeles:20250510T100000
DTEND;TZID=America/Los_Angeles:20250510T113000
DTSTAMP:20260421T124542
CREATED:20250507T132721Z
LAST-MODIFIED:20250507T134611Z
UID:1983442-1746871200-1746876600@ramayogainstitute.com
SUMMARY:Ancestral Dreams | A Meditative Concert with Shastro
DESCRIPTION:Meet Shastro — A Luminary of New Age Music\nWith over 18 albums\, Shastro is one of the most celebrated New Age artists of the past two decades. His works—like Zen Notes\, Tantric Heart\, and Reiki Offering—have earned top honors\, including Best Reiki Music at the COVR Awards and Best Healing Album at the Visionary Awards. A longtime disciple of Osho\, Shastro blends meditation and music\, drawing on influences like Aikido\, Zen Archery\, Sufi Whirling\, and Argentine Tango. His label\, Malimba Records\, shares healing music worldwide. \n“His music is so gentle\, sweet\, and filled with light… to hear it is to smile and take a deep breath.”\n—Steve Ryals\, Music Reviewer \n  \nSIGN UP
URL:https://ramayogainstitute.com/event/ancestral-dreams-a-meditative-concert-with-shastro/
LOCATION:Online on RA MA TV
CATEGORIES:In Person,Pay Per View Workshops,RA MA TV Live
ATTACH;FMTTYPE=image/jpeg:https://ramayogainstitute.com/wp-content/uploads/2023/03/shastro-2-e1745846355776.jpg
END:VEVENT
BEGIN:VEVENT
DTSTART;TZID=America/Los_Angeles:20250512T100000
DTEND;TZID=America/Los_Angeles:20250512T120000
DTSTAMP:20260421T124542
CREATED:20250507T135501Z
LAST-MODIFIED:20250507T140712Z
UID:1983447-1747044000-1747051200@ramayogainstitute.com
SUMMARY:Healing Moon: A Full Moon in Scorpio with Shabadpreet
DESCRIPTION:Healing Moon: A Full Moon in Scorpio Workshop with Shabadpreet\nMonday\, May 12\n7:00PM–9:00PM CEST\nIn Person at RA MA Mallorca\nVirtual on RA MA TV \nThis workshop is a deep immersion into the healing technologies of Kundalini Yoga—designed to activate the body’s innate intelligence and support the regeneration of your brain\, nervous system\, and energetic field. \nYou’ll be guided through a sequence of simple but powerful meditative exercises including breath regulation\, gaze focus\, hand positions\, and subtle movement. \nThese practices:\n• Reorganize neural patterns and restore balance to the brain\n• Activate the magnetic field for healing and energy flow\n• Improve digestion and emotional resilience through posture-based somatic work \nThe techniques taught in this session draw on core principles of yogic science: that energy is generated and directed from within\, and that healing occurs when internal systems are brought into coherence through focused attention and breath. \nThis is not about waiting for wellness to arrive from outside. It’s about giving your body the conditions to do what it’s built to do: heal\, balance\, and thrive. \n  \nSIGN UP
URL:https://ramayogainstitute.com/event/healing-moon-a-full-moon-in-scorpio-with-shabadpreet/
LOCATION:Online on RA MA TV
CATEGORIES:In Person,Pay Per View Workshops,RA MA TV Live
ATTACH;FMTTYPE=image/jpeg:https://ramayogainstitute.com/wp-content/uploads/2025/05/Shabadpreet_5_25_Square.jpg
END:VEVENT
BEGIN:VEVENT
DTSTART;TZID=America/Los_Angeles:20250527T100000
DTEND;TZID=America/Los_Angeles:20250527T120000
DTSTAMP:20260421T124542
CREATED:20250507T140411Z
LAST-MODIFIED:20250507T140608Z
UID:1983454-1748340000-1748347200@ramayogainstitute.com
SUMMARY:Auric Healing & The Rhythm of the Breath New Moon in Gemini with Shabadpreet
DESCRIPTION:Auric Healing & The Rhythm of the Breath\nA New Moon in Gemini Workshop with Shabadpreet\nTuesday\, May 27\n7:00PM–9:00PM CEST \nGemini governs the nervous system\, breath\, and mental patterning—making this lunation a potent moment to recalibrate the mind-body connection. In this workshop\, you’ll explore the yogic science of the aura—your electromagnetic field that protects vitality\, amplifies intuition\, and determines how you relate to the world. \nA special emphasis will be placed on the fifth rib: a somatic key point that interfaces with the diaphragm and respiratory rhythm. According to yogic anatomy\, this rib influences how prana flows through the body and how the breath switches between left and right nostrils—shaping your mental state and emotional regulation. Gentle awareness and subtle pressure to this region can unlock deeper coherence in the breath\, balance in the hemispheres of the brain\, and stabilization in the aura. \nYou’ll experience and learn a breath meditation designed to: \n• Regulate the breath through precise nostril flow\n• Stimulate parasympathetic calm via the fifth rib and diaphragm\n• Strengthen the arc line and fortify the auric field\n• Clear mental fog and emotional stagnation\n• Repattern the nervous system through sound\, breath\, and stillness \nActivate the energetic blueprint of your body—from the arc line to the aura to the lungs and ribs—and awaken the breath as a vehicle of healing\, clarity\, and self-sourced radiance. \nSIGN UP
URL:https://ramayogainstitute.com/event/auric-healing-the-rhythm-of-the-breath-new-moon-in-gemini-with-shabadpreet/
LOCATION:Online on RA MA TV
CATEGORIES:In Person,Pay Per View Workshops,RA MA TV Live
ATTACH;FMTTYPE=image/jpeg:https://ramayogainstitute.com/wp-content/uploads/2024/01/Shabadpreet-1-X-1-1.jpg
END:VEVENT
END:VCALENDAR