BEGIN:VCALENDAR
VERSION:2.0
PRODID:-//RA MA LIFE - ECPv6.15.15//NONSGML v1.0//EN
CALSCALE:GREGORIAN
METHOD:PUBLISH
X-WR-CALNAME:RA MA LIFE
X-ORIGINAL-URL:https://ramayogainstitute.com
X-WR-CALDESC:Events for RA MA LIFE
REFRESH-INTERVAL;VALUE=DURATION:PT1H
X-Robots-Tag:noindex
X-PUBLISHED-TTL:PT1H
BEGIN:VTIMEZONE
TZID:America/Los_Angeles
BEGIN:DAYLIGHT
TZOFFSETFROM:-0800
TZOFFSETTO:-0700
TZNAME:PDT
DTSTART:20230312T100000
END:DAYLIGHT
BEGIN:STANDARD
TZOFFSETFROM:-0700
TZOFFSETTO:-0800
TZNAME:PST
DTSTART:20231105T090000
END:STANDARD
BEGIN:DAYLIGHT
TZOFFSETFROM:-0800
TZOFFSETTO:-0700
TZNAME:PDT
DTSTART:20240310T100000
END:DAYLIGHT
BEGIN:STANDARD
TZOFFSETFROM:-0700
TZOFFSETTO:-0800
TZNAME:PST
DTSTART:20241103T090000
END:STANDARD
BEGIN:DAYLIGHT
TZOFFSETFROM:-0800
TZOFFSETTO:-0700
TZNAME:PDT
DTSTART:20250309T100000
END:DAYLIGHT
BEGIN:STANDARD
TZOFFSETFROM:-0700
TZOFFSETTO:-0800
TZNAME:PST
DTSTART:20251102T090000
END:STANDARD
END:VTIMEZONE
BEGIN:VEVENT
DTSTART;TZID=America/Los_Angeles:20240901T070000
DTEND;TZID=America/Los_Angeles:20240901T090000
DTSTAMP:20260422T034820
CREATED:20240824T042305Z
LAST-MODIFIED:20240828T040536Z
UID:1943060-1725174000-1725181200@ramayogainstitute.com
SUMMARY:Magnetizing Mirror Clarity | Magnetizing Mirror Clarity Series
DESCRIPTION:SIGN UP\nTUNE IN\n\nMagnetizing Mirror Clarity Series\n5-Part Series with Harijiwan & Mandev \nMagnetizing Mirror Clarity\nKundalini Yoga\, Meditation & Gong Workshop with Harijiwan & Mandev\nSunday\, September 1\, 2024\n10:00am – 12:00pm Noon EDT\n$75 In Advance\, $80 Day Of\nRA MA New York\nRA MA TV \nJoin Harijiwan & Mandev at RA MA New York to experience a rare and deeply esoteric realm. \nThese five sessions are a specially designed meditative arrangement of energy. Each session will guide you step by step into a new magnetic vibratory reality— culminating with the final workshop on Sunday\, September 1st. \nThis class is part of the following series : \nWednesday\, August 28\, 2024 \n11:00am – 12:30pm EDT\nThe Art of Meditative Self-Hypnosis\nKundalini Yoga & Deep Meditation with Mandev\n$30 or RA MA ClassPass\nRA MA New York\nRA MA TV Live \n7:00pm – 9:00pm EDT\nGuided Self-Trance Journey\nKundalini Yoga\, Meditation & Gong Workshop\nwith Harijiwan & Mandev\n$75 In Advance\, $80 Day Of\nRA MA New York\nRA MA TV \n———————– \nThursday\, August 29\, 2024 \n11:00am – 12:30pm EDT\nSelf-Hypnosis to Create Your Reality\nKundalini Yoga & Deep Meditation with Mandev\nRA MA New York\nRA MA TV Live \n7:00pm – 9:00pm EDT\nMystical Energy Realms\nKundalini Yoga\, Meditation & Gong Workshop\nwith Harijiwan & Mandev\n$75 In Advance\, $80 Day Of\nRA MA New York\nRA MA TV \n———————– \nTBC Full Residency Pass $250\nWorkshops $75 In Advance\, $80 Day Of\nClasses $30 Drop-In or ClassPass \n\n\nHarijiwan has been teaching Kundalini Yoga since 1975. He is the founder of the GRAMMY®-Award-Winning band\, White Sun. With over 44 years of experience in the science of Kundalini Yoga\, Harijiwan incorporates a vast knowledge of various methodologies and training into his practice. Today\, and throughout his years as a teacher and healer\, Harijiwan remains committed to expanding his knowledge and experience to provide his students with the most progressive\, effective\, self-empowering approaches that increase overall joy and wholeness within the context of everyday experiences.
URL:https://ramayogainstitute.com/event/magnetizing-mirror-clarity-series-2024-09-01/
LOCATION:RA MA Intitute New York and online
CATEGORIES:In Person,Pay Per View Workshops
ATTACH;FMTTYPE=image/jpeg:https://ramayogainstitute.com/wp-content/uploads/2024/08/Crystalize_Harijiwan-Mandev-NYC.jpg
END:VEVENT
BEGIN:VEVENT
DTSTART;TZID=America/Los_Angeles:20240905T031000
DTEND;TZID=America/Los_Angeles:20240905T203000
DTSTAMP:20260422T034820
CREATED:20240903T192252Z
LAST-MODIFIED:20240904T043524Z
UID:1944636-1725505800-1725568200@ramayogainstitute.com
SUMMARY:Harijiwan's Birthday Celebration
DESCRIPTION:SIGN UP\nTUNE IN\nHarijiwan’s Birthday Celebration\nThursday\, September 5\, 2024\n3:15am-8:30pm PDT\nRA MA Los Angeles | RA MA New York\nRA MA TV \n3:15am-6:30am PDT & EDT\nSpecial Sadhana\n3:15am Japji\n3:30am Yoga\n4:00am-6:30am 2.5 Hours of Long Ek Ong Kars\nPDT with Mandev\nEDT with Pritam Siri\nIn-Person at RA MA Los Angeles\nIn-Person at RA MA New York\nVirtually on RA MA TV Community Content Channel \n5:00pm – 7:00pm PDT\nKundalini Yoga\, Meditation\, & Gong Workshop with Harijiwan\nRA MA Los Angeles\nRA MA TV\n$60 in advance / $65 day-of \n7:00pm – 8:30pm PDT\nKundalini Yoga & Deep Meditation\nwith Harijiwan & Mandev\nRA MA Los Angeles\nRA MA TV\nRA MA TV Live\n$29 virtual drop-in\n*In person dinner\, cake\, & celebration to follow
URL:https://ramayogainstitute.com/event/harijiwans-birthday-celebration/
LOCATION:Online
CATEGORIES:Courses & Events,In Person,Pay Per View Workshops,RA MA TV Live
ATTACH;FMTTYPE=image/jpeg:https://ramayogainstitute.com/wp-content/uploads/2023/09/HarijiwanBday_Header.jpg
END:VEVENT
BEGIN:VEVENT
DTSTART;TZID=America/Los_Angeles:20240905T170000
DTEND;TZID=America/Los_Angeles:20240905T190000
DTSTAMP:20260422T034820
CREATED:20240905T062728Z
LAST-MODIFIED:20240905T063420Z
UID:1944968-1725555600-1725562800@ramayogainstitute.com
SUMMARY:The Path of Gold with Harijiwan
DESCRIPTION:SIGN UP\nTUNE IN\n\nHarijiwan’s Birthday Celebration \nThe Path of Gold\nKundalini Yoga\, Meditation\, & Gong Workshop with Harijiwan\nThursday\, September 5\, 2024\n5:00pm – 7:00pm PDT\nRA MA Los Angeles\nRA MA TV\n$60 in advance | $65 day-of \n\n 
URL:https://ramayogainstitute.com/event/the-path-of-gold-with-harijiwan/
LOCATION:Online
CATEGORIES:In Person,Pay Per View Workshops
ATTACH;FMTTYPE=image/jpeg:https://ramayogainstitute.com/wp-content/uploads/2024/08/HarijiwanBirthday_Header.jpg
END:VEVENT
BEGIN:VEVENT
DTSTART;TZID=America/Los_Angeles:20240905T190000
DTEND;TZID=America/Los_Angeles:20240905T203000
DTSTAMP:20260422T034820
CREATED:20240826T181400Z
LAST-MODIFIED:20240905T064043Z
UID:1943386-1725562800-1725568200@ramayogainstitute.com
SUMMARY:Infinite Love with Harijiwan & Mandev
DESCRIPTION:SIGN UP\nTUNE IN\nIn the hours before sunrise and sunset\, the angle of the Sun creates a powerful energetic window. This is known as the amrit vela.  \nFor thousands of years\, yogis\, adepts and mystics have used this magical energy to accelerate their meditative and spiritual progress.  \nDeep Meditation classes will feature…  \n\nLight yoga designed to open up your body mind system\nChakra aligning\, prana infusing\, aura magnetizing\, cosmic energy downloading\nDeep meditation— step into the esoteric realms of Kundalini Yoga
URL:https://ramayogainstitute.com/event/deep-meditation-with-mandev-18/
LOCATION:Online
CATEGORIES:In Person,Pay Per View Workshops,RA MA TV Live
ATTACH;FMTTYPE=image/jpeg:https://ramayogainstitute.com/wp-content/uploads/2023/02/Harijiwan-Mandev-2.jpg
END:VEVENT
BEGIN:VEVENT
DTSTART;TZID=America/Los_Angeles:20240913T180000
DTEND;TZID=America/Los_Angeles:20240913T200000
DTSTAMP:20260422T034820
CREATED:20240910T082327Z
LAST-MODIFIED:20240913T014932Z
UID:1945928-1726250400-1726257600@ramayogainstitute.com
SUMMARY:Venusian Codes with Gurujas
DESCRIPTION:SIGN UP\nTUNE IN\n\n\nVenusian Codes: A Friday the 13th Workshop with Gurujas\nFriday\, September 13\, 2024\n6:00pm-8:00pm PDT\nIn Person at RA MA Los Angeles\nVirtually on RA MA TV\n$60 In Advance/ $65 Day Of \nFriday holds the energy of the planet and goddess Venus and the number 13 is a hidden number of the omnipotent Divine Feminine. These energies come together to offer a very auspicious opening to receive the blessing of the all-creative force that is constantly organizing life itself and your destiny. \nCome practice to receive this blessing and this high\, high energy. \nAbout Gurujas \nGurujas is a kundalini yoga teacher and a singer\, songwriter\, and musician. She has gained a worldwide reputation as the lead singer of White Sun\, a Grammy-award winning band\, and a Billboard #1 artist. Gurujas’ kundalini practice began in 2005\, when she met her teacher\, Harijiwan\, who is also the founder of White Sun. \nAs a kundalini yoga teacher\, she is known as being intensely devoted to the accuracy of the teachings\, as well as incorporating contemporary science and practical every-day applications. As a singer\, she is known for her distinctive vocals\, her ethereal live performances\, and her ability to heal through song. She spends her time creating music\, teaching kundalini yoga\, working with clients\, and raising her two young daughters.
URL:https://ramayogainstitute.com/event/venusian-codes-with-gurujas/
LOCATION:Online
CATEGORIES:In Person,Pay Per View Workshops
ATTACH;FMTTYPE=image/jpeg:https://ramayogainstitute.com/wp-content/uploads/2024/09/RAMA_Venusian_Gurujas_Header.jpg
END:VEVENT
BEGIN:VEVENT
DTSTART;TZID=America/Los_Angeles:20240917T040000
DTEND;TZID=America/Los_Angeles:20240917T210000
DTSTAMP:20260422T034820
CREATED:20240913T020504Z
LAST-MODIFIED:20240913T020504Z
UID:1946341-1726545600-1726606800@ramayogainstitute.com
SUMMARY:Full Moon Lunar Eclipse in Pisces
DESCRIPTION:SIGN UP\nTUNE IN\nFull Moon Lunar Eclipse in Pisces\nTuesday September 17\, 2024\n4:00am – 9:00pm PDT\nRA MA Los Angeles | RA MA New York | RA MA Mallorca\nRA MA TV4:00am – 6:30am EDT\nSpecial Sadhana\nBahota Karam\nProsperity Mantra Recitations\nwith Pritam Siri\nRA MA New York\nCommunity Content \n4:00am – 6:30am PDT\nWhite Sun Sadhana\nwith RA MA Crew\nRA MA Los Angeles\nCommunity Content \n7:00am – 8:00am PDT\nAWAKEN\nwith Teg prakash\nRA MA Los Angeles\nRA MA TV Live \n8:00am – 8:30am PDT\nLooking Up\nLunar Eclipse Full Moon in Pisces\nwith Teg Prakash\nRA MA Los Angeles\nCommunity Content \n9:00am – 10:30am PDT\nInner Vitality: Moving Through Shadows\nKundalini Yoga & Meditation\nwith Charandev\nRA MA Los Angeles\nRA MA TV Live \n11:00am-12:00pm PDT\nUnlock the Eclipse Magic\nKundalini Yoga & Meditation\nwith Malyvahn\nRA MA Los Angeles\nRA MA TV Live \n4:00pm – 6:00pm PDT\nCREATIVITY & EXALTATION\nFULL MOON IN PISCES Workshop\nwith Pritam Siri\nRA MA New York\nRA MA TV\n$50 in Advance | $55 Day of \n5:30pm-6:45pm PDT\nFull Moon Lunar Eclipse\nwith Harmanjot\nRA MA Los Angeles\nRA MA TV Live \n7:00pm-9:00pm PDT\nEclipse Energy Projection\nKundalini Yoga Meditation & Gong Workshop with Harijiwan and Mandev\nRA MA Los Angeles\nRA MA TV\n$60 in Advance | $65 Day of\n____ \n+++ WEDNESDAY\, SEPTEMBER 18 \n9:30am – 12:00pm PDT\n6:30pm – 9:00pm CEST\nKundalini Yoga & Healing Sound Bath\nwith Nam Satya & Anna Caldwell\nRA MA Mallorca\nRA MA TV\n$50/$55
URL:https://ramayogainstitute.com/event/full-moon-lunar-eclipse-in-pisces/
LOCATION:RA MA Los Angeles\, RA MA New York & Online
CATEGORIES:Courses & Events,In Person,Pay Per View Workshops,RA MA TV Live
ATTACH;FMTTYPE=image/jpeg:https://ramayogainstitute.com/wp-content/uploads/2024/09/LunarEclipse_FullMoon_Header.jpg
END:VEVENT
BEGIN:VEVENT
DTSTART;TZID=America/Los_Angeles:20240917T160000
DTEND;TZID=America/Los_Angeles:20240917T180000
DTSTAMP:20260422T034820
CREATED:20240913T021544Z
LAST-MODIFIED:20240913T021544Z
UID:1946351-1726588800-1726596000@ramayogainstitute.com
SUMMARY:Creativity & Exaltation with Pritam Siri
DESCRIPTION:SIGN UP\nTUNE IN\n\n\n\n\n\nCreativity & Exaltation with Pritam Siri\n\nThe Pisces Lunar Eclipse is here to illuminate our dreams. It reminds us to trust in the divine unfolding of life. \nSpend your eclipse in an evening of deep meditation\, kundalini breathwork\, kundalini yoga & gong sound bath. \nLet your intuition guide you as you navigate the endings and beginnings that this Eclipse will catalyze. \nTuesday\, September 17\, 2024\n7:00-9;00pm EDT\nRA MA New York\nRA MA TV\n$50 In Advance | $55 Day Of \n\n  \n\n 
URL:https://ramayogainstitute.com/event/creativity-exaltation-with-pritam-siri/
LOCATION:RA MA Intitute New York and online
CATEGORIES:In Person,Pay Per View Workshops
ATTACH;FMTTYPE=image/jpeg:https://ramayogainstitute.com/wp-content/uploads/2024/09/Creativity_PritamSiri_Header.jpg
END:VEVENT
BEGIN:VEVENT
DTSTART;TZID=America/Los_Angeles:20240921T150000
DTEND;TZID=America/Los_Angeles:20240921T170000
DTSTAMP:20260422T034820
CREATED:20240910T081153Z
LAST-MODIFIED:20240910T083334Z
UID:1945924-1726930800-1726938000@ramayogainstitute.com
SUMMARY:I AM THE POWER with Cara Elizabeth
DESCRIPTION:SIGN UP\nTUNE IN\nI AM THE POWER with Cara Elizabeth\nA Fall Equinox Eve Workshop to Claim Your POWER\nSaturday\, September 21\, 2024\n6:00pm-8:00pm EST\nRA MA New York\nRA MA TV\n$50 In Advance | $55 Day of \nJoin Cara Elizabeth for an immersive experience that taps into the primal energy of Tiger\, Horse and Falcon intertwined with the technology of your own body to awaken your most powerful self. In this two hour workshop\, we will explore innovative and experimental techniques designed to help you have power over your thoughts and emotions and intern the power to create your greatest life. \nYou’ll learn to channel the fierce strength and boundaries of of some of the most powerfully acclaimed animals\, using them as guides to align with your own inner power. This workshop is more than just a practice; it’s a journey to harness the unique energy of the fall equinox\, a time of balance and transformation\, to step fully into your authentic power. Together\, we’ll cultivate the courage and clarity to manifest a life that reflects our highest potential. \nEXPERIENCE: \nBody Tech ~ a movement system that uses body alignment to unlock energy\, self-worth\, and personal power. \nAnimal Manifesting ~ The practice of embodying the traits and energy of animals to align with their instincts\, power\, and presence\, helping you manifest your desires and connect with your true self. \nCollective Reading ~ Get the divine wisdom download of insights and guidance for this auspicious Autumn Equinox and beyond. \nHow to prepare:\nHave a journal and comfortable clothes for movement.
URL:https://ramayogainstitute.com/event/i-am-the-power-with-cara-elizabeth/
LOCATION:RA MA Intitute New York and online
CATEGORIES:In Person,Pay Per View Workshops
ATTACH;FMTTYPE=image/jpeg:https://ramayogainstitute.com/wp-content/uploads/2024/09/I_AM_THE_POWER_Header.jpg
END:VEVENT
BEGIN:VEVENT
DTSTART;TZID=America/Los_Angeles:20240922T040000
DTEND;TZID=America/Los_Angeles:20240922T210000
DTSTAMP:20260422T034820
CREATED:20240915T002801Z
LAST-MODIFIED:20240915T003108Z
UID:1946722-1726977600-1727038800@ramayogainstitute.com
SUMMARY:The Equinox
DESCRIPTION:SIGN UP\nTUNE IN\n\nThe Equinox 2024\nSunday\, September 22\, 2024\n4:00am – 4:00pm PDT\nRA MA Global Ticket\n$149 through Thursday\, September 19\n$199 After \n4:00am-6:30am PDT + EDT\nWhite Sun Sadhana\nRA MA Los Angeles\nRA MA New York\nRA MA TV \n9:00am-10:30am PDT\nEntering the Equinox\nwith Gurujas\nRA MA Los Angeles\nRA MA TV Live\nRA MA Global Ticket \n11:00am-12:30pm PDT\nThe Equinox with Mikal\nRA MA Los Angeles\nRA MA Global Ticket \n1:00pm-1:45pm PDT\nEquinox Astrology\nRA MA Los Angeles\nRA MA Global Ticket \n2:00pm-4:00pm PDT\nThe Equinox\nKundalini Yoga\, Meditation\, & Gong Workshop\nwith Harijiwan and Mandev\nRA MA Los Angeles\nRA MA TV $60 in advance/$65 day of\nRA MA Global Ticket
URL:https://ramayogainstitute.com/event/the-equinox-2/
LOCATION:RA MA Los Angeles\, RA MA New York & Online
CATEGORIES:Courses & Events,In Person,Pay Per View Workshops,RA MA TV Live
ATTACH;FMTTYPE=image/jpeg:https://ramayogainstitute.com/wp-content/uploads/2024/09/TheEquinox2024_Header2.jpg
END:VEVENT
BEGIN:VEVENT
DTSTART;TZID=America/Los_Angeles:20240922T080000
DTEND;TZID=America/Los_Angeles:20240922T100000
DTSTAMP:20260422T034820
CREATED:20240921T215005Z
LAST-MODIFIED:20240921T215127Z
UID:1949529-1726992000-1726999200@ramayogainstitute.com
SUMMARY:UNITY & ONENESS| Autumnal Equinox Kundalini Yoga & Meditation Workshop with Pritam Siri
DESCRIPTION:SIGN UP\nJOIN US\n\nThere are four days of the year that hold the greatest power for making quantum shifts in yourself\, your life\, and your destiny. This quarter\, it is the Autumn Equinox. a time when the solar and lunar frequencies come into equilibrium\, opening a portal of diagonal\, angular energy beaming from the Sun to the Earth. This force gives you a very specific energy to cut through blocks\, obstacles\, and limiting beliefs. \nJoin this workshop of Kundalini Yoga\, Deep Meditation & Gong Sound Relaxation to experience the opportune gift of this day. \n 
URL:https://ramayogainstitute.com/event/unity-oneness-autumnal-equinox-kundalini-yoga-meditation-workshop-with-pritam-siri/
LOCATION:RA MA New York & Online
CATEGORIES:In Person,Pay Per View Workshops
ATTACH;FMTTYPE=image/jpeg:https://ramayogainstitute.com/wp-content/uploads/2024/09/Creativity_PritamSiri_Header.jpg
END:VEVENT
BEGIN:VEVENT
DTSTART;TZID=America/Los_Angeles:20240922T110000
DTEND;TZID=America/Los_Angeles:20240922T123000
DTSTAMP:20260422T034820
CREATED:20240918T174903Z
LAST-MODIFIED:20240921T204219Z
UID:1947343-1727002800-1727008200@ramayogainstitute.com
SUMMARY:Gate of Balance| Kundalini Yoga & Meditation with Harmanjot
DESCRIPTION:TUNE IN\nHarmanjot began practicing\, studying and teaching Kundalini yoga in 2008 when she met her teacher Guru Jagat. She worked side by side with Guru Jagat until her passing in August 2021. During this time\, Harmanjot was instrumental to opening and growing the three RA MA Institutes (Los Angeles\, New York City\, Palma de Mallorca)\, and developing the creative programming that made RA MA the unique blend of sacred and secular it became known for. With Guru Jagat’s passing\, Harmanjot’s destiny has called her to continue the mission they worked so closely on together.\nHarmanjot has partnered with top brands to teach yoga and meditation. She is newly contracted with L’Oréal USA as an astrologer to their corporate team. For her client list\, which includes Academy Award winners\, Golden Globe nominees\, executives\, artists\, tastemakers and individuals of all walks of life\, Harmanjot offers private yoga\, meditation and various levels of astrology readings. Taking a page from her teacher’s book\, Harmanjot is soon to launch her wellness-lifestyle brand aimed at carrying the majestic teachings of Kundalini yoga with fidelity and modernism\, empowering the every-woman\, expanding magic in the world\, and living with irreverence.
URL:https://ramayogainstitute.com/event/gate-of-balance-kundalini-yoga-meditation-with-harmanjot/
LOCATION:Online
CATEGORIES:In Person,Pay Per View Workshops
ATTACH;FMTTYPE=image/jpeg:https://ramayogainstitute.com/wp-content/uploads/2023/10/RAMA_HallowsEve_Harmanjot_Header.jpg
END:VEVENT
BEGIN:VEVENT
DTSTART;TZID=America/Los_Angeles:20240922T130000
DTEND;TZID=America/Los_Angeles:20240922T134500
DTSTAMP:20260422T034820
CREATED:20240916T194015Z
LAST-MODIFIED:20240921T204432Z
UID:1946992-1727010000-1727012700@ramayogainstitute.com
SUMMARY:Equinox Astrology with Teg Prakash
DESCRIPTION:TUNE IN\nAll Levels are welcome
URL:https://ramayogainstitute.com/event/equinox-astrology-with-teg-prakash/
LOCATION:Online
CATEGORIES:In Person,Pay Per View Workshops
ATTACH;FMTTYPE=image/jpeg:https://ramayogainstitute.com/wp-content/uploads/2024/05/teg_prakash_breaking_blocks_thumb.jpg
END:VEVENT
END:VCALENDAR