BEGIN:VCALENDAR
VERSION:2.0
PRODID:-//RA MA LIFE - ECPv6.15.15//NONSGML v1.0//EN
CALSCALE:GREGORIAN
METHOD:PUBLISH
X-ORIGINAL-URL:https://ramayogainstitute.com
X-WR-CALDESC:Events for RA MA LIFE
REFRESH-INTERVAL;VALUE=DURATION:PT1H
X-Robots-Tag:noindex
X-PUBLISHED-TTL:PT1H
BEGIN:VTIMEZONE
TZID:America/Los_Angeles
BEGIN:DAYLIGHT
TZOFFSETFROM:-0800
TZOFFSETTO:-0700
TZNAME:PDT
DTSTART:20230312T100000
END:DAYLIGHT
BEGIN:STANDARD
TZOFFSETFROM:-0700
TZOFFSETTO:-0800
TZNAME:PST
DTSTART:20231105T090000
END:STANDARD
BEGIN:DAYLIGHT
TZOFFSETFROM:-0800
TZOFFSETTO:-0700
TZNAME:PDT
DTSTART:20240310T100000
END:DAYLIGHT
BEGIN:STANDARD
TZOFFSETFROM:-0700
TZOFFSETTO:-0800
TZNAME:PST
DTSTART:20241103T090000
END:STANDARD
BEGIN:DAYLIGHT
TZOFFSETFROM:-0800
TZOFFSETTO:-0700
TZNAME:PDT
DTSTART:20250309T100000
END:DAYLIGHT
BEGIN:STANDARD
TZOFFSETFROM:-0700
TZOFFSETTO:-0800
TZNAME:PST
DTSTART:20251102T090000
END:STANDARD
END:VTIMEZONE
BEGIN:VEVENT
DTSTART;TZID=America/Los_Angeles:20240214T060000
DTEND;TZID=America/Los_Angeles:20240214T210000
DTSTAMP:20260422T173422
CREATED:20240206T064214Z
LAST-MODIFIED:20240206T064830Z
UID:1893364-1707890400-1707944400@ramayogainstitute.com
SUMMARY:Valentine's Day at RA MA
DESCRIPTION:SIGN UP\nTUNE IN\nWednesday\, February 14\, 2024\n6:00am-7:30am PST\nPortal of Compassion\nwith Pritam Siri\nRA MA New York\nRA MA TV Live \n9:00am-10:30am PST\nFrequency of Love\nwith Mandev\nRA MA Los Angeles\nRA MA TV Live \n11:00am-12:00pm PST\nHeart Harmony\nwith Marta\nRA MA Los Angeles\nRA MA TV Live \n4:00-5:30pm PST / 7:00-8:30pm EST\nValentines Venus Kriyas\nwith Pritam Siri & Seva Jagat\nRA MA New York | $33 drop-in or RA MA Class Pass\nRA MA TV Live \n5:30-7:00pm PST\nTantra of Polarities\nwith Harmanjot\nRA MA Los Angeles\nRA MA TV LIVE \n7:00pm-9:00pm PST\nHigh-Velocity Love\nwith Gurujas\nRA MA Los Angeles\nRA MA TV\n$50 In Advance | $55 Day of \nAND…\nThursday\, February 15\n7:00pm-9:00pm PST\nThe Power of Love: A Workshop for the Heart\nwith Shabadpreet\, Jen Saltiel\, & Soniyah Singh\nRA MA Los Angeles\nRA MA TV\n$33\nIncluded for members of RA MA TV Live\nIncluded for RA MA Pass Holders
URL:https://ramayogainstitute.com/event/valentines-day-at-ra-ma/
LOCATION:RA MA Los Angeles\, RA MA New York & Online
CATEGORIES:Courses & Events,In Person,Pay Per View Workshops,RA MA TV Live
ATTACH;FMTTYPE=image/jpeg:https://ramayogainstitute.com/wp-content/uploads/2024/02/ValentineDay_Header2.jpg
END:VEVENT
BEGIN:VEVENT
DTSTART;TZID=America/Los_Angeles:20240217T130000
DTEND;TZID=America/Los_Angeles:20240217T143000
DTSTAMP:20260422T173422
CREATED:20240206T210110Z
LAST-MODIFIED:20240206T210110Z
UID:1893468-1708174800-1708180200@ramayogainstitute.com
SUMMARY:Moon Girls & Victory Boys | February 2024
DESCRIPTION:SIGN UP\n\n\nMoon Girls & Victory Boys with Mandev & Harimander\n\n\n\nChildren’s Class\nSaturday\, February 17\, 2024\n1:00pm-2:30pm PST\nIn Person Only at RA MA Los Angeles\n+ Virtual Replay Following the Event\n$20 \n\nMoon Girls & Victory Boys unite! \nJoin us for a joint Moon Girls & Victory Boys children’s class! \nAre you ready to learn about the magic of mantra? Mandev and Harimander will introduce the Moon Girls & Victory Boys to the Gurmukhi alphabet. Learn Kundalini Yoga teachings\, mantras\, play fun Gurmukhi games and discover the power of sound! \nMoon Girls\nMeet the Eyebrows Moon Center with Mandev\nYoung girls of all ages are welcome to join Mandev to learn about their 11 Moon Centers\, what they are\, how they connect to their emotions and how to track your pattern. In this class\, Moon Girls will activate the Eyebrows Moon Center! The Eyebrows Moon Center is all about your imagination\, your creativity\, and your intuition. \n\nEyebrows Moon Center – activate! Discover the treasures of the Eyebrows Moon Center!\nPlay Moon Center games with Mandev & the Moon Girls\nYou have 11 Moon Centers – think of them as your 11 magical super-girl-powers!\nEvery girl has a unique pattern — let’s map it out with Mandev & the Moon Girls\nPractice yogic postures – move your body\, move your energy\, move your spirit\n\nVictory Boys\nYogic Warrior Training with Harimander\nYoung boys of all ages will work with Harimander on yogic teachings. Learn all about Mantra — how did these off-planet sounds come to Earth? Find your special mantra and learn how to use your sound as a superpower! Practice yogic postures like Warrior Pose\, Frogs\, and more. Activate your inner warrior! \n\nMantras are off-planet sounds— discover the magic of mantra!\nDiscover the power of your voice— activate your sound superpower!\nLearn how to do Warrior Pose\, Frogs\, and more yogic postures\nExplore the Moon Centers— what they are and what this means for boys and girls\nGet to know your energy\, your strength\, your victory!
URL:https://ramayogainstitute.com/event/moon-girls-victory-boys-february-2024/
LOCATION:RA MA Institute Los Angeles\, 1729 21st St\, Santa Monica\, CA\, 90404\, United States
CATEGORIES:Courses & Events,In Person
ATTACH;FMTTYPE=image/jpeg:https://ramayogainstitute.com/wp-content/uploads/2024/02/RAMA_MoonGirls_VictoryBoys_Header2.jpg
END:VEVENT
BEGIN:VEVENT
DTSTART;TZID=America/Los_Angeles:20240224T040000
DTEND;TZID=America/Los_Angeles:20240224T210000
DTSTAMP:20260422T173422
CREATED:20240220T071138Z
LAST-MODIFIED:20240220T071630Z
UID:1896601-1708747200-1708808400@ramayogainstitute.com
SUMMARY:Full Moon in Virgo | February 2024
DESCRIPTION:SIGN UP\nTUNE IN\nSaturday\, February 24\, 2024\n4:00am – 9:00pm\n4:00am PST + EST\nSpecial Sadhana\nGuru Ram Das\nFull Moon Healing Meditation\nIn-person at RA MA Los Angeles (PST)\nVirtually on RA MA TV Community Content (PST) \n7:00am-8:15am PST\nRise & Harmonize\nIn-Person at RA MA Los Angeles\nVirtually on RA MA TV Live \n8:00am-9:30am PST\nFULL MOON IN VIRGO with Sher Kirtan\nRA MA New York\nRA MA TV Live\nJOIN IN PERSON\nJOIN VIRTUAL \n9:00am-11:00am PST\n18:00 – 20:00 CET\nThe Purity of Self\nA Full Moon in Virgo Workshop with Nam Satya\nRA MA Mallorca\nRA MA TV Live\nRA MA TV Workshop $50/$55 \n9:00am-10:30am PST\nFull Moon in Virgo Kundalini Yoga & Meditation with Shabadpreet\nIn-Person at RA MA Los Angeles\nVirtually on RA MA TV Live\nJOIN IN PERSON\nJOIN VIRTUAL \n11:00am-12:30pm PST\nFull Moon in Virgo Kundalini Yoga & Meditation with Mandev\nIn-Person at RA MA Los Angeles\nVirtually on RA MA TV Live\nJOIN IN PERSON\nJOIN VIRTUAL \n12:00pm-1:30pm PST\nLove\, Passion\, Communication\, Flow\nLovestream with Guru Jagat\nVirtually on RA MA TV \n3:00pm-5:00pm PST\n6:00p-8:00pm EST\nFROM CHAOS TO COHERENCE with Siri Rishi\nVirgo Full Moon Workshop\nRA MA New York\nRA MA TV Workshop\n$50 in Advance\, $55 Day of \n7:30pm – 9:00pm PST\nAmplified Yoga\nFULL MOON MANIFESTATION CELEBRATION: POWER & POTENCY\nDonovan McGrath with Live Music DJd by Ammar\n+ A Savasana Sound Bath NATALIE VALLE\nIn Person ONLY at RA MA Los Angeles\n$33 \n  \nJOIN FOR A FULL DAY IMMERSIVE EXPERIENCE ON THE VIRGO FULL MOON\nImmense Grace Presents\nMental Projection as Highest Projection\nwith MANDEV & SHABADPREET\n9:00am-6:00pm PST\nRA MA Los Angeles\nRA MA TV \n  \n  \n 
URL:https://ramayogainstitute.com/event/full-moon-in-virgo-february-2024/
LOCATION:RA MA Los Angeles\, RA MA New York & Online
CATEGORIES:Courses & Events,In Person,Pay Per View Workshops,RA MA TV Live
ATTACH;FMTTYPE=image/jpeg:https://ramayogainstitute.com/wp-content/uploads/2023/09/RAMA_Kundalini_FullMoon_Header.jpg
END:VEVENT
END:VCALENDAR