BEGIN:VCALENDAR
VERSION:2.0
PRODID:-//RA MA LIFE - ECPv6.15.15//NONSGML v1.0//EN
CALSCALE:GREGORIAN
METHOD:PUBLISH
X-WR-CALNAME:RA MA LIFE
X-ORIGINAL-URL:https://ramayogainstitute.com
X-WR-CALDESC:Events for RA MA LIFE
REFRESH-INTERVAL;VALUE=DURATION:PT1H
X-Robots-Tag:noindex
X-PUBLISHED-TTL:PT1H
BEGIN:VTIMEZONE
TZID:America/Los_Angeles
BEGIN:DAYLIGHT
TZOFFSETFROM:-0800
TZOFFSETTO:-0700
TZNAME:PDT
DTSTART:20220313T100000
END:DAYLIGHT
BEGIN:STANDARD
TZOFFSETFROM:-0700
TZOFFSETTO:-0800
TZNAME:PST
DTSTART:20221106T090000
END:STANDARD
BEGIN:DAYLIGHT
TZOFFSETFROM:-0800
TZOFFSETTO:-0700
TZNAME:PDT
DTSTART:20230312T100000
END:DAYLIGHT
BEGIN:STANDARD
TZOFFSETFROM:-0700
TZOFFSETTO:-0800
TZNAME:PST
DTSTART:20231105T090000
END:STANDARD
BEGIN:DAYLIGHT
TZOFFSETFROM:-0800
TZOFFSETTO:-0700
TZNAME:PDT
DTSTART:20240310T100000
END:DAYLIGHT
BEGIN:STANDARD
TZOFFSETFROM:-0700
TZOFFSETTO:-0800
TZNAME:PST
DTSTART:20241103T090000
END:STANDARD
BEGIN:DAYLIGHT
TZOFFSETFROM:-0800
TZOFFSETTO:-0700
TZNAME:PDT
DTSTART:20250309T100000
END:DAYLIGHT
BEGIN:STANDARD
TZOFFSETFROM:-0700
TZOFFSETTO:-0800
TZNAME:PST
DTSTART:20251102T090000
END:STANDARD
END:VTIMEZONE
BEGIN:VEVENT
DTSTART;TZID=America/Los_Angeles:20231209T090000
DTEND;TZID=America/Los_Angeles:20231209T180000
DTSTAMP:20260422T213741
CREATED:20231128T061121Z
LAST-MODIFIED:20231130T224516Z
UID:1875876-1702112400-1702144800@ramayogainstitute.com
SUMMARY:Activating the Gratitude Stream
DESCRIPTION:SIGN UP\nTUNE IN\nActivating the Gratitude Stream\nA Day-Long Immense Grace Immersion with Mandev & Shabadpreet\n\n\n\n\nSaturday\, December 9\, 2023\n9:00 AM – 6:00 PM PST\n+3 EST | +8 UTC | +9 CET | +15 BJT | +18 AEDT\nRA MA Los Angeles & RA MA TV\n$199 pre-registration\, $249 day-of \n\n  \nGET ON THE GRATITUDE STREAM | A Grateful Heart is a Magnet for Miracles \nDevelop an Attitude of Gratitude\nRefine Your Perception\nElevate Your Life Experience \nConsciously choosing your attitude means you are choosing your frequency. This influences what you attract and how you experience life. The yogi learns to have influence over their life experience by choosing and practicing an attitude of gratitude\, no matter the circumstances. \nThis is greatest yoga\, and how we take our practice into the each moment of everyday life. \nThere is no good and there is no bad\, everything is an opportunity. In this immersion\, discover how to activate your greatest power\, the neutral space of the heart chakra\, and live in a state where you are receptive to the miracles trying to make themselves known to you. \nThrough this yogic practice\, you will not only attract more to be grateful for\, but you will learn to enjoy whatever comes your way. Increase your trust\, ease\, joy\, and creativity. Increase your life force energy. Discover new realms of awareness and knowing through the freedom of clear perception. \nBe free to truly enjoy your life.\nAccess the infinite creativity of who you truly are.\nExperience and gain this gift in Activate the Gratitude Stream\, the next day-long Immense Grace Immersion. \n\n\n\n 
URL:https://ramayogainstitute.com/event/activating-the-gratitude-stream/
LOCATION:Online
CATEGORIES:Courses & Events,In Person,Pay Per View Workshops
ATTACH;FMTTYPE=image/jpeg:https://ramayogainstitute.com/wp-content/uploads/2023/11/ActivateGratitude_Mandev_Shabadpreet_Header2.jpg
END:VEVENT
BEGIN:VEVENT
DTSTART;TZID=America/Los_Angeles:20231210T160000
DTEND;TZID=America/Los_Angeles:20231210T173000
DTSTAMP:20260422T213741
CREATED:20231129T190046Z
LAST-MODIFIED:20231129T190046Z
UID:1876644-1702224000-1702229400@ramayogainstitute.com
SUMMARY:Kundalini Yoga & Meditation with Atma Santokh
DESCRIPTION:TUNE IN\nSpending time with Atma Santokh is an invitation into joyful integration of the vast perfection of Spirit into this faceted human vehicle\, arriving home in rich and rising expression Me. Experience challenging mudras\, deep mantra selections\, and transformative meditation experiences with practical\, engaging\, and down-to-earth verbiage to express the deep love he has for\, and practical application of\, the Kundalini Yoga teachings and techniques. \n@atmasantokh
URL:https://ramayogainstitute.com/event/kundalini-yoga-meditation-with-atma-santokh-13/2023-12-10/
LOCATION:Online
CATEGORIES:Courses & Events,RA MA TV Live
ATTACH;FMTTYPE=image/jpeg:https://ramayogainstitute.com/wp-content/uploads/2022/05/Screen-Shot-2022-05-21-at-11.30.54-AM.jpg
END:VEVENT
BEGIN:VEVENT
DTSTART;TZID=America/Los_Angeles:20231212T190000
DTEND;TZID=America/Los_Angeles:20231212T203000
DTSTAMP:20260422T213741
CREATED:20231130T230058Z
LAST-MODIFIED:20231204T204156Z
UID:1877070-1702407600-1702413000@ramayogainstitute.com
SUMMARY:New Moon Nidra: THE VOID with Kim Krans
DESCRIPTION:SIGN UP\nTUNE IN\nNew Moon Nidra: THE VOID with Kim Krans\nTuesday\, December 12\, 2023\n7:00pm – 8:30pm PST\nIn Person at RA MA Los Angeles\nVirtually on RA MA TV with Infinite Replay \n\nWhat is THE VOID? Why are mystics drawn to its potency & wisdom? \nAs we approach winter solstice\, the darkest and most distilled point of the year\, join Kim Krans to experience THE VOID through the practice of Yoga Nidra. \nExperience Sacred silence\, pristine mystery\, holy darkness. \n\n 
URL:https://ramayogainstitute.com/event/new-moon-nidra-the-void-with-kim-krans/
LOCATION:Online
CATEGORIES:In Person,Pay Per View Workshops
ATTACH;FMTTYPE=image/jpeg:https://ramayogainstitute.com/wp-content/uploads/2023/11/TheVoid_Nidra_Kim_Krans_Header.jpg
END:VEVENT
BEGIN:VEVENT
DTSTART;TZID=America/Los_Angeles:20231214T183000
DTEND;TZID=America/Los_Angeles:20231214T203000
DTSTAMP:20260422T213741
CREATED:20231204T005633Z
LAST-MODIFIED:20231204T204140Z
UID:1877971-1702578600-1702585800@ramayogainstitute.com
SUMMARY:Past Lives Remembrance with Shaman Durek
DESCRIPTION:SIGN UP\nTUNE IN\nPast Lives Remembrance with Shaman Durek\nThursday\, December 14\, 2023\n6:30 – 8:30pm PST\nIn Person at RA MA Los Angeles\n+ Available Virtually on RA MA TV with Infinite Replay \nEmbark on a transformative journey into past life remembrance. Delve into the profound exploration of your personal history. Unlock the secrets of the quantum gateway as you learn the art of seeing and understanding your past lives. \nThis in-depth course offers a comprehensive understanding of past life recall\, guiding you through techniques that tap into the quantum realm to unveil the rich tapestry of your soul’s journey across time. \nJoin Shaman Durek for an immersive experience that transcends conventional boundaries of time and space\, providing you with the tools to explore and comprehend the intricacies of your past and parallel lives. \nIn this workshop with Shaman Durek\, you will: \n\nTranscend the boundaries of time and space\nAccess power and wisdom from parallel timelines\nRelease patterns and blockages by understanding your past lives\nExperience healing\, integration\, and wholeness through recognizing your multi-dimensionality\nUnderstand your purpose through making peace with your past\n\n  \nAbout Shaman Durek \nShaman Durek is a 6th generation shaman\, and author of the best seller\, ‘Spirit Hacking: Shamanic Keys to Reclaim Your Personal Power\, Transform Yourself\, and Light Up the World.’ \nHe is a visionary for the ‘Now Age\,’ with a strong focus on the evolution of humanity\, while also simplifying our experience through common sense practices. Shaman Durek has studied extensively\, extracting the best from all the world philosophies\, religions\, spiritual teachings\, and theories. Through his no nonsense teachings\, he demystifies spirituality by making it attainable and understandable for not only the layman\, but also for the more spiritually advanced\, and everyone in between. \nHis teachings have impacted thousands\, ranging from diverse public figures like Nina Dobrev and Gwyneth Paltrow\, to tech giants like Dave Asprey of Bulletproof Coffee. Known as the first ‘spirit shaman’ to be featured in People Magazine\, Shaman Durek’s work has been recognized globally by major publications such as\, Vanity Fair\, The New York Times\, Elle\, Marie Claire\, The Los Angeles Times\, The Evening Standard\, You Magazine\, Good Morning America\, This Morning\, etc. \nHe has a recurring role on the nationwide CBS television show\, ‘The Doctors\,’ where he aids guests in overcoming challenges that are impacting the connection between their emotional/physical well-being. He has also been featured on prominent health and wellness podcasts–Bulletproof Radio\, Life Stylist\, Expanded\, and Goop Fellas. \nShaman Durek’s online ‘The Shaman School\,’ and widely popular ‘The Healing Temple‘\, and ‘Ancient Wisdom Today\,’ have been instrumental in benefiting participants tap into their personal power\, while unblocking negative patterns that prevent them from reaching their optimal human performance. \n@shamandurek
URL:https://ramayogainstitute.com/event/past-lives-remembrance-with-shaman-durek/
LOCATION:Online
CATEGORIES:In Person,Pay Per View Workshops
ATTACH;FMTTYPE=image/jpeg:https://ramayogainstitute.com/wp-content/uploads/2023/12/PastLives_Regression_ShamanDurek_Header.jpg
END:VEVENT
BEGIN:VEVENT
DTSTART;TZID=America/Los_Angeles:20231216T100000
DTEND;TZID=America/Los_Angeles:20231216T150000
DTSTAMP:20260422T213741
CREATED:20231216T053151Z
LAST-MODIFIED:20231216T053151Z
UID:1880618-1702720800-1702738800@ramayogainstitute.com
SUMMARY:Pre-Solstice Deep Meditation with Pritam Siri
DESCRIPTION:SIGN UP\nTUNE IN\nPre-Solstice Deep Meditation Immersion: Inner & Outer Peace with Pritam Siri\nSATURDAY\, DECEMBER 16\, 2023\n1:00pm – 6:00pm EST\nIn Person at RA MA New York\nVirtually on RA MA TV with Infinite Replay\n$99 In Advance\, $111 Day Of \nIt’s the most meditative time of the year — Join Pritam Siri for a five-hour immersive experience of renewal\, deep peace\, and multidimensional reset. \nDelve into your own precious heart center and initiate new levels of harmony within you and on this planet. \nReceive clarity on your most sincere desires and manifestations for the year ahead. \nIncludes: Kundalini Yoga\, Kundalini Breathwork\, Deep Meditation\, Post-Meditation Journaling\, Gong Sound Bath Integration. \n  \nAbout Pritam Siri\nPritam Siri is an artist and yogi based in New York City. She has dedicated her time to studying\, working\, and traveling with Guru Jagat from 2016 until her passing in 2021. She is an active student of Kundalini Yoga and Meditation as Taught by Yogi Bhajan and is committed to practicing and sharing kundalini yoga technology.\nHer classes are open and welcome to beginners and seasoned practitioners. \n@pritamsiri
URL:https://ramayogainstitute.com/event/pre-solstice-deep-meditation-with-pritam-siri/
LOCATION:RA MA Intitute New York and online
CATEGORIES:In Person,Pay Per View Workshops
ATTACH;FMTTYPE=image/jpeg:https://ramayogainstitute.com/wp-content/uploads/2023/12/RAMA_PritamSiri_Header.jpg
END:VEVENT
BEGIN:VEVENT
DTSTART;TZID=America/Los_Angeles:20231216T130000
DTEND;TZID=America/Los_Angeles:20231216T150000
DTSTAMP:20260422T213741
CREATED:20231215T040250Z
LAST-MODIFIED:20231215T043915Z
UID:1880319-1702731600-1702738800@ramayogainstitute.com
SUMMARY:The Song of Fortune: Vocal Lab
DESCRIPTION:SIGN UP\nTUNE IN\nThe Song of Fortune\nA Vocal Lab Workshop with Gurujas\nSaturday\, December 16\, 2023\n1:00pm-3:00pm PST \nRA MA TV\nRA MA Los Angeles\n$50 In Advance | $55 Day of \nSound\, frequency\, and vibration are the most important elements of creation. \nIt is sound that birthed creation into being\, including all life forms throughout time and space.\nIt is frequency that determines the quality of consciousness these life forms hold.\nIt is vibration that binds creation together or breaks it apart. \nIn the lower-vibrational age of Pisces\, the worlds of science and spirituality were considered separate. To those of higher consciousness however\, these two worlds are merged; music is math\, sound is science\, and vibration is life. The instrumentation we use to measure frequency shows us that sound broadcasts us into existence every nano-second. \nAs we sing the songs of fortune\, we can facilitate our own evolution and become conscious creators of our own existence\, rather than observers of a process outside of ourselves. It is in this way that the world becomes what it was always supposed to be: a civilization founded in love\, service\, and unity. \n  \n\n\nAbout Gurujas\n\n\n\n\nGurujas is a kundalini yoga teacher and a singer\, songwriter\, and musician. She has gained a worldwide reputation as the lead singer of White Sun\, a Grammy-award winning band\, and a Billboard #1 artist. Gurujas’ kundalini practice began in 2005\, when she met her teacher\, Harijiwan\, who is also the founder of White Sun. \nAs a kundalini yoga teacher\, she is known as being intensely devoted to the accuracy of the teachings\, as well as incorporating contemporary science and practical every-day applications. As a singer\, she is known for her distinctive vocals\, her ethereal live performances\, and her ability to heal through song. She spends her time creating music\, teaching kundalini yoga\, working with clients\, and raising her two young daughters.
URL:https://ramayogainstitute.com/event/the-song-of-fortune-vocal-lab/
LOCATION:Online
CATEGORIES:In Person,Pay Per View Workshops
ATTACH;FMTTYPE=image/jpeg:https://ramayogainstitute.com/wp-content/uploads/2023/12/VocalLab_Gurujas_Header2.jpg
END:VEVENT
BEGIN:VEVENT
DTSTART;TZID=America/Los_Angeles:20231221T160000
DTEND;TZID=America/Los_Angeles:20231221T180000
DTSTAMP:20260422T213741
CREATED:20231221T020804Z
LAST-MODIFIED:20231221T020804Z
UID:1881555-1703174400-1703181600@ramayogainstitute.com
SUMMARY:Winter Solstice Ceremony with Siri Rishi
DESCRIPTION:SIGN UP\nTUNE IN\nWinter Solstice Ceremony with Siri Rishi\nThursday\, December 21\, 2023\n7:00pm – 9:00pm EST\nVirtually on RA MA TV\n$50 early\, $55 day-of \nA powerful evening to align and restore on the Winter Solstice with Siri Rishi. \nSolstices are the peak points of the Earth’s elliptical orbit around the sun. On these days an opportunity to make a great shift in your life and consciousness becomes magnetically available. \nExperience an evening of restorative Kundalini Practice & Deep Meditation. \n 
URL:https://ramayogainstitute.com/event/winter-solstice-ceremony-with-siri-rishi/
LOCATION:Online on RA MA TV
CATEGORIES:In Person,Pay Per View Workshops
ATTACH;FMTTYPE=image/jpeg:https://ramayogainstitute.com/wp-content/uploads/2023/12/WinterSolstice_SiriRishi_Header.jpg
END:VEVENT
BEGIN:VEVENT
DTSTART;TZID=America/Los_Angeles:20231221T190000
DTEND;TZID=America/Los_Angeles:20231221T210000
DTSTAMP:20260422T213741
CREATED:20231221T012828Z
LAST-MODIFIED:20231221T012828Z
UID:1881557-1703185200-1703192400@ramayogainstitute.com
SUMMARY:Cup of Fire with Gurujas
DESCRIPTION:SIGN UP\nTUNE IN\n\nCup of Fire\nA Solstice Night Workshop with Gurujas\nThursday\, December 21\, 2023\n7:00pm-9:00pm PST\nIn-Person at RA MA Los Angeles\nVirtually on RA MA TV + PPV\n$50 In Advance | $55 Day of \n\n\n\nAbout Gurujas\n\n\n\n\nGurujas is a kundalini yoga teacher and a singer\, songwriter\, and musician. She has gained a worldwide reputation as the lead singer of White Sun\, a Grammy-award winning band\, and a Billboard #1 artist. Gurujas’ kundalini practice began in 2005\, when she met her teacher\, Harijiwan\, who is also the founder of White Sun. \nAs a kundalini yoga teacher\, she is known as being intensely devoted to the accuracy of the teachings\, as well as incorporating contemporary science and practical every-day applications. As a singer\, she is known for her distinctive vocals\, her ethereal live performances\, and her ability to heal through song. She spends her time creating music\, teaching kundalini yoga\, working with clients\, and raising her two young daughters.
URL:https://ramayogainstitute.com/event/cup-of-fire-with-gurujas/
LOCATION:Online
CATEGORIES:In Person,Pay Per View Workshops
ATTACH;FMTTYPE=image/jpeg:https://ramayogainstitute.com/wp-content/uploads/2023/12/WinterSolstice_Gurujas_Header.jpg
END:VEVENT
BEGIN:VEVENT
DTSTART;TZID=America/Los_Angeles:20231226T040000
DTEND;TZID=America/Los_Angeles:20231226T203000
DTSTAMP:20260422T213741
CREATED:20231221T220814Z
LAST-MODIFIED:20231221T220814Z
UID:1881824-1703563200-1703622600@ramayogainstitute.com
SUMMARY:Full Moon in Cancer | December 2023
DESCRIPTION:SIGN UP\nTUNE IN\nTuesday\, December 26\, 2023 \n4:00am-6:30am PST\n2.5 Hours of Bahota Karam\nIn-Person at RA MA Los Angeles\nVirtually on RA MA TV \n9:00am-10:30am PST\nKundalini Yoga + Meditation\nwith Atma Santokh\nIn-Person at RA MA Los Angeles\nVirtually on RA MA TV Live \n11:00am-12:00pm PST\nKundalini Yoga + the Cosmos with Teg Prakash\nIn-Person at RA MA Los Angeles\nVirtually on RA MA TV Live \n12:00pm-12:30pm PST\nLooking Up: Full Moon in Cancer Astrology\nwith Teg Prakash\nIn-Person at RA MA Los Angeles\nVirtually on RA MA TV Community Content Channel \n4:00pm-6:00pm PST\nFull Moon in Cancer\nWorkshop with Siri Rishi\nRA MA New York\nRA MA TV Live \n5:30pm-7:00pm PST\nFull Moon Kundalini Yoga & Meditation from\nThe Golden Archives with Guru Jagat\nRA MA TV Live \n7:00pm-8:30pm PST\nFull Moon: Inner Sound with Shabadpreet\nKundalini Yoga & Meditation\nwith Shabadpreet\nIn-Person at RA MA Los Angeles\nVirtually on RA MA TV Live
URL:https://ramayogainstitute.com/event/full-moon-in-cancer-december-2023/
LOCATION:RA MA Los Angeles\, RA MA New York & Online
CATEGORIES:Courses & Events,In Person,Pay Per View Workshops,RA MA TV Live
ATTACH;FMTTYPE=image/jpeg:https://ramayogainstitute.com/wp-content/uploads/2023/12/FullMoon_Cancer_Header.jpg
END:VEVENT
BEGIN:VEVENT
DTSTART;TZID=America/Los_Angeles:20231231T180000
DTEND;TZID=America/Los_Angeles:20240101T003000
DTSTAMP:20260422T213741
CREATED:20231221T060157Z
LAST-MODIFIED:20231229T055707Z
UID:1881607-1704045600-1704069000@ramayogainstitute.com
SUMMARY:New Year’s Eve 2024 Elevation Celebration
DESCRIPTION:SIGN UP\nTUNE IN\nRA MA Presents\nNew Year’s Eve 2024\nElevation Celebration\nwith Gurujas\, Shabadpreet\, Kim Krans\, & friends\n6:00pm-12:30am PST\nIn-Person Dinner to Follow \nRA MA Los Angeles\nRA MA New York\nRA MA TV \nLaunch into 2024 ready for ultimate expansion\, acceleration\, & limitless love.\nJoin us for an evening of deep practice\, 2024 celestial and esoteric insights\, high-vibe community\, and an elevated frequency to carry you forward wherever you want to go in 2024. \nWe can’t wait to celebrate with you. \n$99 until Thursday\, December 28/ $111 after
URL:https://ramayogainstitute.com/event/new-years-eve-2024-elevation-celebration/
LOCATION:Online
CATEGORIES:Courses & Events,In Person
ATTACH;FMTTYPE=image/jpeg:https://ramayogainstitute.com/wp-content/uploads/2023/12/NewYearsEve_2024_NEW_Header.jpg
END:VEVENT
END:VCALENDAR