BEGIN:VCALENDAR
VERSION:2.0
PRODID:-//RA MA LIFE - ECPv6.15.15//NONSGML v1.0//EN
CALSCALE:GREGORIAN
METHOD:PUBLISH
X-ORIGINAL-URL:https://ramayogainstitute.com
X-WR-CALDESC:Events for RA MA LIFE
REFRESH-INTERVAL;VALUE=DURATION:PT1H
X-Robots-Tag:noindex
X-PUBLISHED-TTL:PT1H
BEGIN:VTIMEZONE
TZID:America/Los_Angeles
BEGIN:DAYLIGHT
TZOFFSETFROM:-0800
TZOFFSETTO:-0700
TZNAME:PDT
DTSTART:20220313T100000
END:DAYLIGHT
BEGIN:STANDARD
TZOFFSETFROM:-0700
TZOFFSETTO:-0800
TZNAME:PST
DTSTART:20221106T090000
END:STANDARD
BEGIN:DAYLIGHT
TZOFFSETFROM:-0800
TZOFFSETTO:-0700
TZNAME:PDT
DTSTART:20230312T100000
END:DAYLIGHT
BEGIN:STANDARD
TZOFFSETFROM:-0700
TZOFFSETTO:-0800
TZNAME:PST
DTSTART:20231105T090000
END:STANDARD
BEGIN:DAYLIGHT
TZOFFSETFROM:-0800
TZOFFSETTO:-0700
TZNAME:PDT
DTSTART:20240310T100000
END:DAYLIGHT
BEGIN:STANDARD
TZOFFSETFROM:-0700
TZOFFSETTO:-0800
TZNAME:PST
DTSTART:20241103T090000
END:STANDARD
END:VTIMEZONE
BEGIN:VEVENT
DTSTART;TZID=America/Los_Angeles:20231102T190000
DTEND;TZID=America/Los_Angeles:20231102T203000
DTSTAMP:20260422T234444
CREATED:20231023T231827Z
LAST-MODIFIED:20231101T203300Z
UID:1863033-1698951600-1698957000@ramayogainstitute.com
SUMMARY:Kundalini Yoga & Kundalini with Charandev
DESCRIPTION:TUNE IN\nCharandev has taught kundalini yoga classes and led trainings for several years. He delivers the teachings in an energetic\, practical manner. He sees the kundalini technology as a high performance vehicle that arrives at the highest human experiences. \nCharandev is a longtime student of Harijiwan and has followed his teacher to Mexico\, India\, Nepal and Tibet to gain a real experience of the mystical kundalini energy.
URL:https://ramayogainstitute.com/event/kundalini-yoga-kundalini-with-alexis-disalvo/
LOCATION:Online
CATEGORIES:Courses & Events,RA MA TV Live
ATTACH;FMTTYPE=image/png:https://ramayogainstitute.com/wp-content/uploads/2021/03/charandev-featured-2.png
END:VEVENT
BEGIN:VEVENT
DTSTART;TZID=America/Los_Angeles:20231113T090000
DTEND;TZID=America/Los_Angeles:20231113T210000
DTSTAMP:20260422T234444
CREATED:20231107T230633Z
LAST-MODIFIED:20231107T232202Z
UID:1867277-1699866000-1699909200@ramayogainstitute.com
SUMMARY:New Moon in Scorpio
DESCRIPTION:SIGN UP\nTUNE IN\nNew Moon in Scorpio\n9:00am-10:30am PST\nNew Moon in Scorpio\nKundalini Yoga + Long Mul Mantra with Mandev\nRA MA Los Angeles | RA MA TV Live \n2:30-3:30pm PST\nRhythm of the Cosmos\nA new moon class to establish patterns of everlasting energy with Seva Jagat\nRA MA New York | RA MA TV Live \n4:00pm – 6:00pm PST\nNew Moon in Scorpio | The Art of Self Mastery\nA Kundalini Yoga & Meditation Workshop with Siri Rishi\nMonday\, November 13\, 2023\n$50 In Advance\, $55 Day Of\nRA MA New York | RA MA TV Live \n7:30pm-9:00pm PST\nNew Moon in Scorpio Sound Bath\nwith Ana Netanel\n$44 In Advance\, $55 Day Of\nRA MA Los Angeles | RA MA TV Live \n  \n 
URL:https://ramayogainstitute.com/event/new-moon-in-scorpio/
LOCATION:RA MA Los Angeles\, RA MA New York & Online
CATEGORIES:Courses & Events,In Person,Pay Per View Workshops,RA MA TV Live
ATTACH;FMTTYPE=image/jpeg:https://ramayogainstitute.com/wp-content/uploads/2023/07/NewMoon_Cancer_Header.jpg
END:VEVENT
BEGIN:VEVENT
DTSTART;TZID=America/Los_Angeles:20231118T090000
DTEND;TZID=America/Los_Angeles:20231118T180000
DTSTAMP:20260422T234444
CREATED:20231103T053902Z
LAST-MODIFIED:20231115T040112Z
UID:1866224-1700298000-1700330400@ramayogainstitute.com
SUMMARY:SUNIAI: The Art of Listening
DESCRIPTION:SIGN UP\nTUNE IN\nSUNIAI: The Art of Listening\nA Day-long Immense Grace Immersion with Harijiwan\, Mandev\, & Shabadpreet\n\n\n\n\nSaturday\, November 18\, 2023\n9:00 AM – 6:00 PM PST\n+3 EST | +8 UTC | +9 CET | +15 BJT | +18 AEDT\nRA MA Los Angeles & RA MA TV\n$199 pre-registration\, $249 day-of \n\n\n\n\nHear the unheard.\nSee the unseen.\nKnow the unknown. \nIf you just listen— to what you say\, what others say\, what you think\, the world around you— the more freedom you have.\nIn this new realm of awareness and clarity\, you can choose your thoughts\, how you communicate\, and how you want to live your life. Be free to be yourself. \nMeditate & discover who you truly are. Experience the peace of inner knowing with Harijiwan\, Mandev\, & Shabadpreet in the next day-long Immense Grace Immersion.
URL:https://ramayogainstitute.com/event/suniai-the-art-of-listening/
LOCATION:Online
CATEGORIES:Courses & Events,In Person,Pay Per View Workshops
ATTACH;FMTTYPE=image/jpeg:https://ramayogainstitute.com/wp-content/uploads/2023/11/L1370654_Mandev-Shabadpreet_Suniai.jpg
END:VEVENT
BEGIN:VEVENT
DTSTART;TZID=America/Los_Angeles:20231127T060000
DTEND;TZID=America/Los_Angeles:20231127T210000
DTSTAMP:20260422T234444
CREATED:20231122T202201Z
LAST-MODIFIED:20231122T202201Z
UID:1872993-1701064800-1701118800@ramayogainstitute.com
SUMMARY:Full Moon in Gemini | November 2023
DESCRIPTION:SIGN UP\nTUNE IN\nNew Moon in Gemini\n6:00am – 8:00am PST\nHigher Frequency Success\nA Full Moon in Gemini Workshop\nfor Increased Intuition\, Agility and Enjoyment\nwith Pritam Siri\nA guided experience of Kundalini Yoga\, Meditation\, Breathwork & gong sound relaxation\nIn-Person at RA MA New York\nVirtually on RA MA TV \n9:00am-10:30am PST \nFull Moon Kundalini Yoga + Long Mul Mantra\nwith Mandev\nRA MA Los Angeles\nRA MA TV Live \n11:00am-12:00pm PST \nKundalini Yoga & the Cosmos\nwith Teg Prakash\nRA MA Los Angeles\nRA MA TV Live \n12:15pm-12:45pm PST \nLooking Up: Full Moon in Gemini Astrology\nwith Teg Prakash\nRA MA Los Angeles\nComplimentary on the RA MA TV Community Content Channel \n2:30pm – 3:30pm PST\nCrystallize Your Vision\nKundalini Meditations for Intuition\nwith Seva Jagat\nIn-Person at RA MA New York\nVirtually on RA MA TV Live \n4:00pm – 5:30pm PST \nFull Moon with Siri Rishi\nIn-Person at RA MA New York\nVirtually on RA MA TV Live \n5:30pm-6:45pm PST\nInner Illumination\nFull Moon Kundalini Yoga & Meditation\nwith Anantjeet\nRA MA Los Angeles\nRA MA TV Live \n7:00pm-8:30pm PST \nA Personal North Star\nFull Moon Kundalini Yoga and Meditation\nwith Harmanjot\nRA MA Los Angeles\nRA MA TV Live
URL:https://ramayogainstitute.com/event/full-moon-in-gemini-november-2023/
LOCATION:RA MA Los Angeles\, RA MA New York & Online
CATEGORIES:Courses & Events,In Person,Pay Per View Workshops,RA MA TV Live
ATTACH;FMTTYPE=image/jpeg:https://ramayogainstitute.com/wp-content/uploads/2023/11/FullMooninGemini_Header.jpg
END:VEVENT
BEGIN:VEVENT
DTSTART;TZID=America/Los_Angeles:20231130T090000
DTEND;TZID=America/Los_Angeles:20231130T103000
DTSTAMP:20260422T234444
CREATED:20231130T002651Z
LAST-MODIFIED:20231130T002651Z
UID:1876747-1701334800-1701340200@ramayogainstitute.com
SUMMARY:Kundalini Yoga & Meditation with Jai Inder
DESCRIPTION:TUNE IN\nJai Inder teaches kundalini yoga classes that will connect you to your spirit. Kriyas\, pranayam and meditations as taught by Yogi Bhajan are all incorporated into classes that will calm your nervous system and help you access your best self. \n“This hocus pocus of an outside God\, finding God is over. We are here to find our God within ourselves.” \n“If it is not devotional\, it is not yoga\, it is just exercise. In every posture\, you have a chance to experience devotion. That’s what postures are real about. Worship the God in you and marvel at the beautiful engineering of your own body.” Yogi Bhajan
URL:https://ramayogainstitute.com/event/kundalini-yoga-meditation-with-jai-inder/
LOCATION:Online
CATEGORIES:Courses & Events,RA MA TV Live
ATTACH;FMTTYPE=image/jpeg:https://ramayogainstitute.com/wp-content/uploads/2021/05/Jai-Inder.jpg
END:VEVENT
END:VCALENDAR