BEGIN:VCALENDAR
VERSION:2.0
PRODID:-//RA MA LIFE - ECPv6.15.15//NONSGML v1.0//EN
CALSCALE:GREGORIAN
METHOD:PUBLISH
X-ORIGINAL-URL:https://ramayogainstitute.com
X-WR-CALDESC:Events for RA MA LIFE
REFRESH-INTERVAL;VALUE=DURATION:PT1H
X-Robots-Tag:noindex
X-PUBLISHED-TTL:PT1H
BEGIN:VTIMEZONE
TZID:America/Los_Angeles
BEGIN:DAYLIGHT
TZOFFSETFROM:-0800
TZOFFSETTO:-0700
TZNAME:PDT
DTSTART:20220313T100000
END:DAYLIGHT
BEGIN:STANDARD
TZOFFSETFROM:-0700
TZOFFSETTO:-0800
TZNAME:PST
DTSTART:20221106T090000
END:STANDARD
BEGIN:DAYLIGHT
TZOFFSETFROM:-0800
TZOFFSETTO:-0700
TZNAME:PDT
DTSTART:20230312T100000
END:DAYLIGHT
BEGIN:STANDARD
TZOFFSETFROM:-0700
TZOFFSETTO:-0800
TZNAME:PST
DTSTART:20231105T090000
END:STANDARD
BEGIN:DAYLIGHT
TZOFFSETFROM:-0800
TZOFFSETTO:-0700
TZNAME:PDT
DTSTART:20240310T100000
END:DAYLIGHT
BEGIN:STANDARD
TZOFFSETFROM:-0700
TZOFFSETTO:-0800
TZNAME:PST
DTSTART:20241103T090000
END:STANDARD
END:VTIMEZONE
BEGIN:VEVENT
DTSTART;TZID=America/Los_Angeles:20231014T060000
DTEND;TZID=America/Los_Angeles:20231014T183000
DTSTAMP:20260423T014104
CREATED:20231004T174307Z
LAST-MODIFIED:20231004T174307Z
UID:1858592-1697263200-1697308200@ramayogainstitute.com
SUMMARY:Solar Eclipse New Moon in Libra | October 2023
DESCRIPTION:SIGN UP\nTUNE IN\nSolar Eclipse New Moon in Libra\nSaturday\, October 14\, 2023 | 1:00pm-3:00pm PDT\n9:00am-6:30pm \n9:00am-11:00am PDT\nSolar Eclipse\nNew Moon in Libra\nKundalini Yoga & Mediation Workshop\nwith Gurujas\n$50/$55\nRA MA TV\nRA MA Los Angeles \n11am-12:30pm PDT\nHow to Vibrate the Cosmos\nEclipse Kundalini Yoga & Meditation\nwith Harmanjot\nRA MA TV Live\nRA MA Los Angeles \nFriday\, October 13\, 2023 | 6:00pm-8:00pm PDT\nSaturday\, October 14\, 2023 | 1:00pm-3:00pm PDT\nSunday\, October 15\, 2023 | 1:00pm-3:00pm PDT\nAmbassador of Love\nA 3-Day Intensive Shamanic Immersion\nwith Shaman Durek\nRA MA Los Angeles\nVirtually on RA MA TV with Infinite Replay\n$222 \n4:00pm-6:30pm PDT \n7:00pm – 9:30pm EDT\nSOLAR ECLIPSE SELF-HARMONIZATION\nA Meditation Workshop on the Solar Eclipse & New Moon in Libra\nWith Pritam Siri\n$50 In Advance\, $55 Day Of
URL:https://ramayogainstitute.com/event/solar-eclipse-new-moon-in-libra-october-2023/
LOCATION:RA MA Los Angeles\, RA MA New York & Online
CATEGORIES:Courses & Events,In Person,Pay Per View Workshops,RA MA TV Live
ATTACH;FMTTYPE=image/jpeg:https://ramayogainstitute.com/wp-content/uploads/2023/10/SolarEclipse_Kundalini_Header-1.jpg
END:VEVENT
BEGIN:VEVENT
DTSTART;TZID=America/Los_Angeles:20231021T150000
DTEND;TZID=America/Los_Angeles:20231021T170000
DTSTAMP:20260423T014104
CREATED:20231011T010236Z
LAST-MODIFIED:20231018T010736Z
UID:1860380-1697900400-1697907600@ramayogainstitute.com
SUMMARY:Breathwork | Connecting to our Angels\, Allies & Ancestors
DESCRIPTION:SIGN UP\nTUNE IN\nBreathwork | Connecting to our Angels\, Allies & Ancestors\nA Breathwork Circle with Neelou Malekpour\nSaturday\, October 21\, 2023\n6:00pm – 8:00pm EDT\n$50 In Advance\, $55 Day Of \nThis is a two-part workshop \n*Arrive with an empty stomach* \nDuring this time of year\, around All Hallows\, the veil between this world and others becomes much thinner and it becomes easier to connect to the love\, light\, and support provided by our ethereal guardians. This two-part workshop will support our connection to our Angels\, Allies\, and Ancestors reminding us that we are always in communion with a magical support system that can help us navigate our lives with greater ease and grace. \nFirst\, Neelou will guide you through some gentle movement followed by journal prompts to bring to the surface anything that no longer serves. Next\, she will guide you into a third-eye opening\, connecting to your personal energetic support system\, followed by a transformational breathwork journey. \nAbout the method Breathwork is an experience based in wholeness. It is a powerful healing modality utilizing the breath to heal old patterns\, dislodge stuck energy\, and balance the chakras. Practicing in a group setting has a powerful collective healing energy that facilitates deep release. Neelou’s style of breathwork incorporates a two-part breath and an exhale. It’s as simple as it is transformational and works to restore the healthy flow of Qi in our bodies. By breathing deeply you oxygenate the areas of your body that need extra attention\, releasing any blockages\, or stuckness\, in order to release the energy to flow freely. The physical and mental health benefits are truly transformational \nThe health benefits are truly transformational: \n• Boosts your circulation \n• Reduces stress \n• Creates feelings of openness \n• It connects you to feelings of love\, peace\, gratitude\, clarity\, communication\, and connection \n• Helps release mental and physical trauma \n• Assists in healing from grief \n• And alleviates anxiety and depression \n 
URL:https://ramayogainstitute.com/event/breathwork-connecting-to-our-angels-allies-ancestors/
LOCATION:RA MA Intitute New York and online
CATEGORIES:Courses & Events,In Person,Pay Per View Workshops
ATTACH;FMTTYPE=image/jpeg:https://ramayogainstitute.com/wp-content/uploads/2023/10/RAMA_Teacher_Breathwork_Neelou_Header.jpg
END:VEVENT
BEGIN:VEVENT
DTSTART;VALUE=DATE:20231027
DTEND;VALUE=DATE:20231101
DTSTAMP:20260423T014104
CREATED:20231012T080716Z
LAST-MODIFIED:20231012T080716Z
UID:1860653-1698364800-1698796799@ramayogainstitute.com
SUMMARY:Desirée Pais Residency at RA MA Los Angeles
DESCRIPTION:SIGN UP\nTUNE IN\nRA MA Presents: Desirée Pais at RA MA Los Angeles\nFriday\, October 27 – Tuesday\, October 31\nRA MA Los Angeles | RA MA TV \nJoin Desirée at RA MA Los Angeles & virtually streaming around the world on RA MA TV for a lineup of success-enhancing classes\, a live-music Eclipse workshop\, & an extra-magical All Hallows’ Eve. \nMove through these mystical fall portals with extra strength\, a deep connection to the magic realms\, and the acceleration of your realized power. \n 
URL:https://ramayogainstitute.com/event/desiree-pais-residency-at-ra-ma-los-angeles/
LOCATION:Online
CATEGORIES:Courses & Events,In Person,Pay Per View Workshops
ATTACH;FMTTYPE=image/jpeg:https://ramayogainstitute.com/wp-content/uploads/2023/10/RAMA_Teacher_Breathwork_DesireePais_Header.jpg
END:VEVENT
BEGIN:VEVENT
DTSTART;TZID=America/Los_Angeles:20231027T190000
DTEND;TZID=America/Los_Angeles:20231027T203000
DTSTAMP:20260423T014104
CREATED:20231012T081448Z
LAST-MODIFIED:20231026T162149Z
UID:1860647-1698433200-1698438600@ramayogainstitute.com
SUMMARY:Command And Flow | Subtle Body Success Secrets
DESCRIPTION:SIGN UP\nTUNE IN\nRA MA Presents \nCOMMAND AND FLOW | SUBTLE BODY SUCCESS SECRETS\nFriday\, October 27\nSunday\, October 29\, 2023\nMonday\, October 30\, 2023\n \nJoin Desiree Pais for a three-part series on the Science of Success. Creating prosperity is to know the Self and to learn how to use the beaming faculty of the Mind to command our reality. Each of us contains within us the ability to unlock success\, if we just learn how to contain\, command\, and create a continuous flow\, instead of breaking the flow when we can no longer contain the new levels of prosperity coming into our lives. \nEXPERIENCE THE ORIGINAL YOU: INITIATION INTO INTUITION\nFriday\, October 27\, 2023\n7:00 – 8:30pm\nRA MA TV LIVE\nRA MA LOS ANGELES\nVIRTUAL DROP-IN $22 \nPATTERN\, PERSONALITY\, PROJECTION: COMMAND AND FLOW\nSunday\, October 29\, 2023\n4:00pm-5:30pm\nRA MA TV LIVE\nRA MA LOS ANGELES\nVIRTUAL DROP-IN $22 \nINVOKE THE WEALTH OF THE UNIVERSE: THE SECRETS OF SUCCESS\nMonday\, October 30\, 2023\n7:00pm-8:30pm\nRA MA TV LIVE\nRA MA LOS ANGELES\nVIRTUAL DROP-IN $22 \n 
URL:https://ramayogainstitute.com/event/command-and-flow-subtle-body-success-secrets/
LOCATION:Online
CATEGORIES:Courses & Events,In Person,Pay Per View Workshops,RA MA TV Live
ATTACH;FMTTYPE=image/jpeg:https://ramayogainstitute.com/wp-content/uploads/2023/10/RAMA_Kundalini_DesireePais_Header.jpg
END:VEVENT
BEGIN:VEVENT
DTSTART;TZID=America/Los_Angeles:20231028T060000
DTEND;TZID=America/Los_Angeles:20231028T183000
DTSTAMP:20260423T014104
CREATED:20231019T024155Z
LAST-MODIFIED:20231019T024900Z
UID:1862091-1698472800-1698517800@ramayogainstitute.com
SUMMARY:Lunar Eclipse Full Moon in Taurus
DESCRIPTION:SIGN UP\nTUNE IN\nLunar Eclipse Full Moon in Taurus\n9:00am-11:00am PDT\nLunar Eclipse\nFull Moon in Taurus\nKundalini Yoga & Meditation Workshop with Gurujas\n$50 in Advance\, $55 Day of\nRA MA Los Angeles\nRA MA TV \n11:00am-12:30am PDT\nLunar Eclipse Full Moon in Taurus with Anantjeet\nRA MA Los Angeles\nRA MA TV Live \n12:45pm-1:15pm PDT\nLooking Up:\nLunar Eclipse Full Moon in Taurus Astrology\nwith Teg Prakash\nRA MA Los Angeles\nVirtually on the RA MA TV Community Content Channel \n5:00-7:00pm PDT\nThe Holy Trinity: Full Moon Eclipse Workshop\nWorkshop with Desirée & Dejah\n$50 in advance\, $55 day of\nRA MA Los Angeles\nRA MA TV \n7:00pm-9:30pm EDT\nLunar Eclipse & Taurus Full Moon\nProsperity Transformation\nWorkshop with Pritam Siri\n$50 in advance\, $55 day of\nRA MA New York\nRA MA TV
URL:https://ramayogainstitute.com/event/lunar-eclipse-full-moon-in-taurus/
LOCATION:RA MA Los Angeles\, RA MA New York & Online
CATEGORIES:Courses & Events,In Person,Pay Per View Workshops,RA MA TV Live
ATTACH;FMTTYPE=image/jpeg:https://ramayogainstitute.com/wp-content/uploads/2023/10/LunarEclipseTaurus_Header.jpg
END:VEVENT
BEGIN:VEVENT
DTSTART;TZID=America/Los_Angeles:20231028T170000
DTEND;TZID=America/Los_Angeles:20231028T190000
DTSTAMP:20260423T014104
CREATED:20231012T081734Z
LAST-MODIFIED:20231018T010805Z
UID:1860649-1698512400-1698519600@ramayogainstitute.com
SUMMARY:The Holy Trinity | Full Moon Eclipse Workshop
DESCRIPTION:SIGN UP\nTUNE IN\nRA MA Presents\nTHE HOLY TRINITY: FULL MOON ECLIPSE WORKSHOP\nSound\, Resound and Auric Brilliance\nSaturday\, October 28\, 2023\n5:00pm – 7:00pm \nA Special Workshop with Desirée Pais and Dejah Gomez \nJoin Desirée Pais and Dejah Gomez\, renowned vocalist and founder of Empress of Sound\, for a magical Full Moon Lunar Eclipse workshop. With Kundalini Yoga\, Deep Meditation\, and a powerful journey through sound + mantra with Dejah\, the power to vibrate the sound\, resound that sound through your Auric field unlocks an unparalleled healing in your projection. \nRA MA Los Angeles\nVirtually on RA MA TV\n$50 in advance\, $55 Day of
URL:https://ramayogainstitute.com/event/the-holy-trinity-full-moon-eclipse-workshop/
LOCATION:Online
CATEGORIES:Courses & Events,In Person,Pay Per View Workshops
ATTACH;FMTTYPE=image/jpeg:https://ramayogainstitute.com/wp-content/uploads/2023/10/RAMA_HolyTrinity_Header.jpg
END:VEVENT
BEGIN:VEVENT
DTSTART;TZID=America/Los_Angeles:20231029T160000
DTEND;TZID=America/Los_Angeles:20231029T173000
DTSTAMP:20260423T014104
CREATED:20231012T081448Z
LAST-MODIFIED:20231026T162325Z
UID:1860660-1698595200-1698600600@ramayogainstitute.com
SUMMARY:Command And Flow | Subtle Body Success Secrets
DESCRIPTION:SIGN UP\nTUNE IN\nRA MA Presents \nCOMMAND AND FLOW | SUBTLE BODY SUCCESS SECRETS\nFriday\, October 27\nSunday\, October 29\, 2023\nMonday\, October 30\, 2023\n \nJoin Desiree Pais for a three-part series on the Science of Success. Creating prosperity is to know the Self and to learn how to use the beaming faculty of the Mind to command our reality. Each of us contains within us the ability to unlock success\, if we just learn how to contain\, command\, and create a continuous flow\, instead of breaking the flow when we can no longer contain the new levels of prosperity coming into our lives. \nEXPERIENCE THE ORIGINAL YOU: INITIATION INTO INTUITION\nFriday\, October 27\, 2023\n7:00 – 8:30pm\nRA MA TV LIVE\nRA MA LOS ANGELES\nVIRTUAL DROP-IN $22 \nPATTERN\, PERSONALITY\, PROJECTION: COMMAND AND FLOW\nSunday\, October 29\, 2023\n4:00pm-5:30pm\nRA MA TV LIVE\nRA MA LOS ANGELES\nVIRTUAL DROP-IN $22 \nINVOKE THE WEALTH OF THE UNIVERSE: THE SECRETS OF SUCCESS\nMonday\, October 30\, 2023\n7:00pm-8:30pm\nRA MA TV LIVE\nRA MA LOS ANGELES\nVIRTUAL DROP-IN $22 \n 
URL:https://ramayogainstitute.com/event/command-and-flow-subtle-body-success-secrets-2023-10-29/
LOCATION:Online
CATEGORIES:Courses & Events,In Person,Pay Per View Workshops,RA MA TV Live
ATTACH;FMTTYPE=image/jpeg:https://ramayogainstitute.com/wp-content/uploads/2023/10/RAMA_Kundalini_DesireePais_Header.jpg
END:VEVENT
BEGIN:VEVENT
DTSTART;TZID=America/Los_Angeles:20231030T190000
DTEND;TZID=America/Los_Angeles:20231030T203000
DTSTAMP:20260423T014104
CREATED:20231012T081448Z
LAST-MODIFIED:20231026T162416Z
UID:1860661-1698692400-1698697800@ramayogainstitute.com
SUMMARY:Command And Flow | Subtle Body Success Secrets
DESCRIPTION:SIGN UP\nTUNE IN\nRA MA Presents \nCOMMAND AND FLOW | SUBTLE BODY SUCCESS SECRETS\nFriday\, October 27\nSunday\, October 29\, 2023\nMonday\, October 30\, 2023\n \nJoin Desiree Pais for a three-part series on the Science of Success. Creating prosperity is to know the Self and to learn how to use the beaming faculty of the Mind to command our reality. Each of us contains within us the ability to unlock success\, if we just learn how to contain\, command\, and create a continuous flow\, instead of breaking the flow when we can no longer contain the new levels of prosperity coming into our lives. \nEXPERIENCE THE ORIGINAL YOU: INITIATION INTO INTUITION\nFriday\, October 27\, 2023\n7:00 – 8:30pm\nRA MA TV LIVE\nRA MA LOS ANGELES\nVIRTUAL DROP-IN $22 \nPATTERN\, PERSONALITY\, PROJECTION: COMMAND AND FLOW\nSunday\, October 29\, 2023\n4:00pm-5:30pm\nRA MA TV LIVE\nRA MA LOS ANGELES\nVIRTUAL DROP-IN $22 \nINVOKE THE WEALTH OF THE UNIVERSE: THE SECRETS OF SUCCESS\nMonday\, October 30\, 2023\n7:00pm-8:30pm\nRA MA TV LIVE\nRA MA LOS ANGELES\nVIRTUAL DROP-IN $22 \n 
URL:https://ramayogainstitute.com/event/command-and-flow-subtle-body-success-secrets-2023-10-30/
LOCATION:Online
CATEGORIES:Courses & Events,In Person,Pay Per View Workshops,RA MA TV Live
ATTACH;FMTTYPE=image/jpeg:https://ramayogainstitute.com/wp-content/uploads/2023/10/RAMA_Kundalini_DesireePais_Header.jpg
END:VEVENT
BEGIN:VEVENT
DTSTART;TZID=America/Los_Angeles:20231031T090000
DTEND;TZID=America/Los_Angeles:20231031T210000
DTSTAMP:20260423T014104
CREATED:20231025T004255Z
LAST-MODIFIED:20231026T181005Z
UID:1863451-1698742800-1698786000@ramayogainstitute.com
SUMMARY:All Hallows' Eve
DESCRIPTION:SIGN UP\nTUNE IN\nAll Hallows’ Eve\nTuesday\, October 31\, 2023\nAll Hallows’ Eve marks the time of welcoming in the harvest and ushering in the powerful and potent “dark half of the year.” During this specific window\, ordinary laws of time and space are suspended and the veil between the earth and spirit world thins. \n9:00am-10:30am PDT\nAll the Unseen with Jot Gianpreet\nRA MA TV Live\nRA MA Los Angeles \n11:00am-12:00pm PDT\nThe Gift of Prosperity with Malyvahn\nRA MA TV Live\nRA MA Los Angeles \n12:15pm-1:15pm PDT\nLooking Up: All Hallows’ Eve Astrology\nwith Teg Prakash\nRA MA TV Global Ticket\nRA MA TV Live\nRA MA Los Angeles \n5:00pm-7:00pm PDT\nA Celestial All Hallows’ Eve\nKundalini Yoga & Deep Meditation into\nHigher Dimensional Consciousness\nwith Harmanjot\nRA MA TV\nRA MA New York\n$50 In Advance\, $55 Day of \n7:00pm-9:00pm PDT\nAll Hallows’ Eve Workshop\nwith Desirée\nRA MA TV\nRA MA Los Angeles\n$50 In Advance\, $55 Day of \n 
URL:https://ramayogainstitute.com/event/all-hallows-eve-2023/
LOCATION:RA MA Los Angeles\, RA MA New York & Online
CATEGORIES:Courses & Events,In Person,Pay Per View Workshops,RA MA TV Live
ATTACH;FMTTYPE=image/jpeg:https://ramayogainstitute.com/wp-content/uploads/2023/10/RAMA_HallowsEve_Header2.jpg
END:VEVENT
BEGIN:VEVENT
DTSTART;TZID=America/Los_Angeles:20231031T190000
DTEND;TZID=America/Los_Angeles:20231031T210000
DTSTAMP:20260423T014104
CREATED:20231012T080918Z
LAST-MODIFIED:20231018T010830Z
UID:1860651-1698778800-1698786000@ramayogainstitute.com
SUMMARY:Beneath The Veil | Unlocking The Field Of Destiny
DESCRIPTION:SIGN UP\nTUNE IN\n\nBeneath The Veil: Unlocking the Field of Destiny\nAn All Hallows’ Eve Workshop  with Desirée Pais\nTuesday\, October 31\, 2023\n7:00pm-9:00pm PDT \nJoin Desirée Pais for a special All Hallow’s Eve workshop\, a time when the veils between the seen and the unseen are the thinnest. There are two tracks in life: fate or destiny. Fate is when we move through the subconscious programming and life happens to us. Destiny is when we clear the subconscious landscape so we can plant the seeds of our dreams. \nRA MA Los Angeles\nRA MA TV\n$50 in advance\, $55 day
URL:https://ramayogainstitute.com/event/beneath-the-veil-unlocking-the-field-of-destiny/
LOCATION:Online
CATEGORIES:Courses & Events,In Person,Pay Per View Workshops
ATTACH;FMTTYPE=image/jpeg:https://ramayogainstitute.com/wp-content/uploads/2023/10/RAMA_Kundalini_DesireePais_Header2.jpg
END:VEVENT
END:VCALENDAR