BEGIN:VCALENDAR
VERSION:2.0
PRODID:-//RA MA LIFE - ECPv6.15.15//NONSGML v1.0//EN
CALSCALE:GREGORIAN
METHOD:PUBLISH
X-ORIGINAL-URL:https://ramayogainstitute.com
X-WR-CALDESC:Events for RA MA LIFE
REFRESH-INTERVAL;VALUE=DURATION:PT1H
X-Robots-Tag:noindex
X-PUBLISHED-TTL:PT1H
BEGIN:VTIMEZONE
TZID:America/Los_Angeles
BEGIN:DAYLIGHT
TZOFFSETFROM:-0800
TZOFFSETTO:-0700
TZNAME:PDT
DTSTART:20220313T100000
END:DAYLIGHT
BEGIN:STANDARD
TZOFFSETFROM:-0700
TZOFFSETTO:-0800
TZNAME:PST
DTSTART:20221106T090000
END:STANDARD
BEGIN:DAYLIGHT
TZOFFSETFROM:-0800
TZOFFSETTO:-0700
TZNAME:PDT
DTSTART:20230312T100000
END:DAYLIGHT
BEGIN:STANDARD
TZOFFSETFROM:-0700
TZOFFSETTO:-0800
TZNAME:PST
DTSTART:20231105T090000
END:STANDARD
BEGIN:DAYLIGHT
TZOFFSETFROM:-0800
TZOFFSETTO:-0700
TZNAME:PDT
DTSTART:20240310T100000
END:DAYLIGHT
BEGIN:STANDARD
TZOFFSETFROM:-0700
TZOFFSETTO:-0800
TZNAME:PST
DTSTART:20241103T090000
END:STANDARD
END:VTIMEZONE
BEGIN:VEVENT
DTSTART;TZID=America/Los_Angeles:20230801T090000
DTEND;TZID=America/Los_Angeles:20230801T170000
DTSTAMP:20260423T052226
CREATED:20230509T035506Z
LAST-MODIFIED:20230729T035312Z
UID:1806523-1690880400-1690909200@ramayogainstitute.com
SUMMARY:Remembering & Celebrating Guru Jagat
DESCRIPTION:TUNE IN \nIn commemoration of the 2-year anniversary of Guru Jagat’s passing\, enjoy an all-day marathon of Guru Jagat classes streaming on the RA MA TV Golden Archives.\n*Included with RA MA TV Live or RA MA TV Membership \nGuru Jagat was a celebrated and iconoclastic thought leader who forged a new path of modern wellness. She embodied “creation culture” as an author\, fashion designer\, teacher\, musician\, chef\, and entrepreneur. She founded RA MA in 2013 and left a lasting legacy amongst her students\, family and friends. Read Guru Jagat’s obituary here and celebrate the tribute of her life.
URL:https://ramayogainstitute.com/event/a-golden-archive-class-with-guru-jagat-2023-08-01/
LOCATION:Online on RA MA TV
CATEGORIES:Courses & Events,RA MA TV Live
ATTACH;FMTTYPE=image/jpeg:https://ramayogainstitute.com/wp-content/uploads/2023/07/Guru_Jagat_Kundalini_Yoga_Header4.jpg
END:VEVENT
BEGIN:VEVENT
DTSTART;TZID=America/Los_Angeles:20230813T110000
DTEND;TZID=America/Los_Angeles:20230813T120000
DTSTAMP:20260423T052226
CREATED:20230812T085909Z
LAST-MODIFIED:20230812T090209Z
UID:1819407-1691924400-1691928000@ramayogainstitute.com
SUMMARY:The Jap-Ji Course | Live Q&A Call
DESCRIPTION:SIGN UP\nLearn more about the upcoming Kundalini Training exploring Jap-ji happening Thursday\, August 17 – Monday\, August 21\, 2023
URL:https://ramayogainstitute.com/event/the-jap-ji-course-live-qa-call/
LOCATION:Online on Zoom
CATEGORIES:Community Content,Courses & Events,RA MA TV Live
ATTACH;FMTTYPE=image/jpeg:https://ramayogainstitute.com/wp-content/uploads/2023/07/Japji_KundaliniTraining_Header-1.jpg
END:VEVENT
END:VCALENDAR