BEGIN:VCALENDAR
VERSION:2.0
PRODID:-//RA MA LIFE - ECPv6.15.15//NONSGML v1.0//EN
CALSCALE:GREGORIAN
METHOD:PUBLISH
X-ORIGINAL-URL:https://ramayogainstitute.com
X-WR-CALDESC:Events for RA MA LIFE
REFRESH-INTERVAL;VALUE=DURATION:PT1H
X-Robots-Tag:noindex
X-PUBLISHED-TTL:PT1H
BEGIN:VTIMEZONE
TZID:America/Los_Angeles
BEGIN:DAYLIGHT
TZOFFSETFROM:-0800
TZOFFSETTO:-0700
TZNAME:PDT
DTSTART:20220313T100000
END:DAYLIGHT
BEGIN:STANDARD
TZOFFSETFROM:-0700
TZOFFSETTO:-0800
TZNAME:PST
DTSTART:20221106T090000
END:STANDARD
BEGIN:DAYLIGHT
TZOFFSETFROM:-0800
TZOFFSETTO:-0700
TZNAME:PDT
DTSTART:20230312T100000
END:DAYLIGHT
BEGIN:STANDARD
TZOFFSETFROM:-0700
TZOFFSETTO:-0800
TZNAME:PST
DTSTART:20231105T090000
END:STANDARD
BEGIN:DAYLIGHT
TZOFFSETFROM:-0800
TZOFFSETTO:-0700
TZNAME:PDT
DTSTART:20240310T100000
END:DAYLIGHT
BEGIN:STANDARD
TZOFFSETFROM:-0700
TZOFFSETTO:-0800
TZNAME:PST
DTSTART:20241103T090000
END:STANDARD
END:VTIMEZONE
BEGIN:VEVENT
DTSTART;TZID=America/Los_Angeles:20230701T080000
DTEND;TZID=America/Los_Angeles:20230701T093000
DTSTAMP:20260422T172416
CREATED:20230701T010552Z
LAST-MODIFIED:20230701T012211Z
UID:1810299-1688198400-1688203800@ramayogainstitute.com
SUMMARY:Awaken Your Inner Radiance with Kelle Jacob (Taj Shanti Kaur)
DESCRIPTION:TUNE IN LIVE\nOR\nIN PERSON @ RA MA NY\nAre you ready to shed the layers that no longer serve you and embrace a life filled with abundance\, joy\, and radiant energy? Join us for an immersive four-part Kundalini workshop designed to help you release karmic blocks\, negative energies\, fears\, and self-doubt. \nThrough the transformative power of Kundalini Kriyas\, we will embark on a journey of letting go and creating space for the things you truly desire. Harnessing the energy of the full moon and the vibrant approach of summer\, now is the perfect time to embark on this powerful and empowering journey of personal transformation. \nJuly 1st\nBreaking Free: Dissolving Karmic Chains \nJuly 8th\nPurify and Liberate: Clearing Negative Energies \nJuly 15th\nEmbrace Your Inner Strength: Releasing Fears and Self-Doubt \nJuly 22nd\nRadiate and Attract: Becoming a Magnet for Your Desires \nIntroducing Kelle Jacob\, a catalyst for profound personal transformation\, guiding seekers on a path of power\, wisdom\, and growth through Kundalini yoga and meditation. With a multidisciplinary background in neuroscience\, integrative nutrition\, and ancient technologies\, Kelle merges ancient wisdom with modern science to ignite the dormant potential within individuals. Together\, Kelle and their students explore the intricate landscapes of the human spirit\, unlocking creativity\, vitality\, and purpose. Whether one is an executive\, a high-performing professional\, or simply seeking inner alignment\, Kelle surpasses expectations and leads individuals to new heights of success and self-mastery. Join Kelle on this extraordinary journey to unlock true potential and embrace the boundless power within\, manifesting a life of limitless possibilities together.
URL:https://ramayogainstitute.com/event/awaken-your-inner-radiance-kelle-jacob/2023-07-01/
LOCATION:RA MA New York & Online
CATEGORIES:In Person,RA MA TV Live
ATTACH;FMTTYPE=image/jpeg:https://ramayogainstitute.com/wp-content/uploads/2023/06/Kelle-Jacobs-Kundalini-Yoga-Meditation-Teacher.jpg
END:VEVENT
BEGIN:VEVENT
DTSTART;TZID=America/Los_Angeles:20230702T170000
DTEND;TZID=America/Los_Angeles:20230702T190000
DTSTAMP:20260422T172416
CREATED:20230618T235718Z
LAST-MODIFIED:20230629T032244Z
UID:1807885-1688317200-1688324400@ramayogainstitute.com
SUMMARY:Kirtan with Madhava Das
DESCRIPTION:SIGN UP\nTUNE IN\nKirtan with Madhava Das\nA Pre-Bhakti Fest Event presented by Bhakti Yoga Shala & RA MA Los Angeles\nJoin for the Kirtan of the summer with world class Kirtan leader Madhava Das for an uplifting\, heart-opening\, and deep devotional experience of KIRTAN- the praising of the Divine through chanting. It is a rare gift to have Madhava in Los Angeles. \nSunday\, July 2\, 2023\n5:00pm-7:00pm PDT\nDoors open at 4:30pm PDT
URL:https://ramayogainstitute.com/event/kirtan-with-madhava/
LOCATION:Online
CATEGORIES:In Person,Pay Per View Workshops
ATTACH;FMTTYPE=image/jpeg:https://ramayogainstitute.com/wp-content/uploads/2023/06/Live_Kirtan_Madhava_Header.jpg
END:VEVENT
BEGIN:VEVENT
DTSTART;TZID=America/Los_Angeles:20230703T090000
DTEND;TZID=America/Los_Angeles:20230703T213000
DTSTAMP:20260422T172416
CREATED:20230627T203910Z
LAST-MODIFIED:20230627T204751Z
UID:1809657-1688374800-1688419800@ramayogainstitute.com
SUMMARY:Super Moon Full Moon in Capricorn
DESCRIPTION:SIGN UP\nTUNE IN\nSuper Moon Full Moon in Capricorn\nMonday\, July 3\, 2023\nRA MA Los Angeles\nVirtually on RA MA TV
URL:https://ramayogainstitute.com/event/super-moon-full-moon-in-capricorn/
LOCATION:Online
CATEGORIES:In Person,Pay Per View Workshops,RA MA TV Live
ATTACH;FMTTYPE=image/jpeg:https://ramayogainstitute.com/wp-content/uploads/2019/04/FullMoon_Kundalini_Header.jpg
END:VEVENT
BEGIN:VEVENT
DTSTART;TZID=America/Los_Angeles:20230703T170000
DTEND;TZID=America/Los_Angeles:20230703T190000
DTSTAMP:20260422T172416
CREATED:20230626T001948Z
LAST-MODIFIED:20230630T232021Z
UID:1809355-1688403600-1688410800@ramayogainstitute.com
SUMMARY:Super Moon Super Mind with Harijiwan
DESCRIPTION:SIGN UP\nTUNE IN\nFull Moon with Harijiwan\nKundalini Yoga\, Meditation\, & Gong Workshop\nMonday\, July 3\, 2023\n5:00pm – 7:00pm PDT \nRA MA Los Angeles\nVirtually on RA MA TV \n$50 In Advance\, $55 Day Of \n  \nHarijiwan has been teaching Kundalini Yoga since 1975. He is the founder of the GRAMMY®-Award-Winning band\, White Sun. With over 44 years of experience in the science of Kundalini Yoga\, Harijiwan incorporates a vast knowledge of various methodologies and training into his practice. Today\, and throughout his years as a teacher and healer\, Harijiwan remains committed to expanding his knowledge and experience to provide his students with the most progressive\, effective\, self-empowering approaches that increase overall joy and wholeness within the context of everyday experiences.
URL:https://ramayogainstitute.com/event/full-moon-with-harijiwan/
LOCATION:Online
CATEGORIES:In Person,Pay Per View Workshops
ATTACH;FMTTYPE=image/jpeg:https://ramayogainstitute.com/wp-content/uploads/2023/02/Harijiwan-Playing-Gong-Black-White-e1686425489298.jpg
END:VEVENT
BEGIN:VEVENT
DTSTART;VALUE=DATE:20230704
DTEND;VALUE=DATE:20230705
DTSTAMP:20260422T172416
CREATED:20230627T210752Z
LAST-MODIFIED:20230702T203810Z
UID:1809671-1688428800-1688515199@ramayogainstitute.com
SUMMARY:Independence Day
DESCRIPTION:SIGN UP\nTUNE IN\nSpend Independence Day at RA MA with the RA MA Community in New York\, Los Angeles & on RA MA TV.\nTuesday\, July 4\, 2023\nRA MA Los Angeles + RA MA New York\nVirtually on RA MA TV
URL:https://ramayogainstitute.com/event/independence-day/
LOCATION:Online
CATEGORIES:In Person,Pay Per View Workshops
ATTACH;FMTTYPE=image/jpeg:https://ramayogainstitute.com/wp-content/uploads/2023/06/IndependanceDay_Header.jpg
END:VEVENT
BEGIN:VEVENT
DTSTART;TZID=America/Los_Angeles:20230704T103000
DTEND;TZID=America/Los_Angeles:20230704T120000
DTSTAMP:20260422T172416
CREATED:20230702T203011Z
LAST-MODIFIED:20230702T203012Z
UID:1810721-1688466600-1688472000@ramayogainstitute.com
SUMMARY:The Essence of Independence with Harijiwan
DESCRIPTION:SIGN UP \nA Special Independence Day Class with Harijiwan\n\nVirtually & In Person RA MA Los Angeles\n$22\, Included with RA MA TV Live Membership\n\nHarijiwan has been teaching Kundalini Yoga since 1975. He is the founder of the GRAMMY®-Award-Winning band\, White Sun. With over 44 years of experience in the science of Kundalini Yoga\, Harijiwan incorporates a vast knowledge of various methodologies and training into his practice. Today\, and throughout his years as a teacher and healer\, Harijiwan remains committed to expanding his knowledge and experience to provide his students with the most progressive\, effective\, self-empowering approaches that increase overall joy and wholeness within the context of everyday experiences.
URL:https://ramayogainstitute.com/event/the-essence-of-independence-with-harijiwan/
LOCATION:Online
CATEGORIES:In Person,Pay Per View Workshops,RA MA TV Live
ATTACH;FMTTYPE=image/jpeg:https://ramayogainstitute.com/wp-content/uploads/2023/06/Summer_Solstice_Kundalini_Harijiwan2.jpg
END:VEVENT
BEGIN:VEVENT
DTSTART;TZID=America/Los_Angeles:20230704T130000
DTEND;TZID=America/Los_Angeles:20230704T143000
DTSTAMP:20260422T172416
CREATED:20230509T035506Z
LAST-MODIFIED:20230702T202455Z
UID:1806519-1688475600-1688481000@ramayogainstitute.com
SUMMARY:GOLDEN ARCHIVE: To Your Freedom with Guru Jagat
DESCRIPTION:TUNE IN\nGuru Jagat was a celebrated and iconoclastic thought leader who forged a new path of modern wellness. She embodied “creation culture” as an author\, fashion designer\, teacher\, musician\, chef\, and entrepreneur. She founded RA MA in 2013 and left a lasting legacy amongst her students\, family and friends. Read Guru Jagat’s obituary here and celebrate the tribute of her life.
URL:https://ramayogainstitute.com/event/a-golden-archive-class-with-guru-jagat-2023-07-04/
LOCATION:Online on RA MA TV
CATEGORIES:RA MA TV Live
ATTACH;FMTTYPE=image/jpeg:https://ramayogainstitute.com/wp-content/uploads/2020/09/Feminism_guruJagat1.jpg
END:VEVENT
BEGIN:VEVENT
DTSTART;TZID=America/Los_Angeles:20230708T193000
DTEND;TZID=America/Los_Angeles:20230708T213000
DTSTAMP:20260422T172416
CREATED:20230607T205223Z
LAST-MODIFIED:20230707T234129Z
UID:1809698-1688844600-1688851800@ramayogainstitute.com
SUMMARY:Live Kirtan with Govind Das
DESCRIPTION:SIGN UP\nTUNE IN\nKirtan is an ancient bhakti yoga practice using chanting\, mantra\, and music as an expression of our devotion and heartfelt prayer. \nExperience this live Kirtan presented by Bhakti Yoga Shala\, led and directed by Govind Das\, who is spreading the practice of bhakti around the world. At the Shala\, teachings of the great saint Neem Karoli Baba are followed\, who celebrated all Gods as one. Anyone and everyone is welcome\, and we are happy to serve you on your spiritual journey. \n7:30pm – 9:30pm PDT | 10:30pm – 12:30pm EDT \nVirtually on RA MA TV with 48 hour replay\nIn Person @ RA MA Los Angeles \n 
URL:https://ramayogainstitute.com/event/live-kirtan-with-govind-das-and-jacqueline-2-2023-07-08/
LOCATION:Online
CATEGORIES:In Person,Pay Per View Workshops
ATTACH;FMTTYPE=image/jpeg:https://ramayogainstitute.com/wp-content/uploads/2019/04/Live-Kirtan-Banner-Govind-Das-e1686598179240.jpg
END:VEVENT
BEGIN:VEVENT
DTSTART;TZID=America/Los_Angeles:20230710T120000
DTEND;TZID=America/Los_Angeles:20230710T130000
DTSTAMP:20260422T172416
CREATED:20230708T003410Z
LAST-MODIFIED:20230708T003411Z
UID:1812204-1688990400-1688994000@ramayogainstitute.com
SUMMARY:India Yatra Live Q&A Call
DESCRIPTION:TUNE IN \nLEARN MORE\nMeditate\, practice\, and transform on the trip of a lifetime. Experience the Steps of Gowindwal and the Golden Temple in Amritsar. Visit the Dalai Lama Temple in “Little Lhasa\,” the magical hillside town of Dharamsala. Daily excursions\, local cuisine\, shopping\, this and more awaits you on RA MA Yatra India 2023 — a sacred pilgrimage through one of the world’s most energetic landscapes. \n11 Nights\, 12 Days of Sacred Adventure with Harijiwan\, Mandev\, & Shabadpreet\nFriday\, October 13 – Tuesday\, October 24\, 2023
URL:https://ramayogainstitute.com/event/india-yatra-live-qa-call/
LOCATION:Online on Zoom
CATEGORIES:Courses & Events
ATTACH;FMTTYPE=image/jpeg:https://ramayogainstitute.com/wp-content/uploads/2023/07/India_Meditation_2023_Header.jpg
END:VEVENT
BEGIN:VEVENT
DTSTART;TZID=America/Los_Angeles:20230713T070000
DTEND;TZID=America/Los_Angeles:20230713T083000
DTSTAMP:20260422T172416
CREATED:20230623T072942Z
LAST-MODIFIED:20230708T040058Z
UID:1808888-1689231600-1689237000@ramayogainstitute.com
SUMMARY:The Summer Cleanse
DESCRIPTION:SIGN UP\nTUNE IN\nThe Summer Cleanse with Mandev\nA Cleanse for Your Mind\, Body & Soul \nThe Summer Cleanse with Mandev is a gentle yet powerful way to reset and purify your entire bio-energetic system. The Summer Cleanse features the OWL Reset and Kundalini Yoga. \nThis cleanse is perfect for anyone brand new to cleansing. \nCleanse your physical\, mental & energetic bodies.\nHeal your digestion.\nClear your skin.\nReset your metabolism.\nRevitalize your nervous system.\nEnergize your prana.\nGain mental clarity.\nRenew the essence of you.\nAs human beings\, we have three mental bodies\, one physical body\, and six energetic bodies—these are your Ten Bodies. Over the course of 4-days\, Mandev will guide you through a gentle and systematic detox of your Ten Body System. \nA 4-Day Rejuvenating Cleanse with Mandev\nThursday\, July 13 – Sunday\, July 16\, 2023\n7:00 am – 8:30 am PDT\nIn Person at RA MA Los Angeles\n& Virtually on RA MA TV \n$250 early bird\, on or before Wednesday\, July 5\, 2023\n$300 after
URL:https://ramayogainstitute.com/event/summer-cleanse/2023-07-13/
LOCATION:Online
CATEGORIES:Courses & Events,In Person
ATTACH;FMTTYPE=image/jpeg:https://ramayogainstitute.com/wp-content/uploads/2023/06/TheSummerCleanse_Mandev_Header.jpg
END:VEVENT
BEGIN:VEVENT
DTSTART;TZID=America/Los_Angeles:20230714T180000
DTEND;TZID=America/Los_Angeles:20230714T200000
DTSTAMP:20260422T172416
CREATED:20230630T223204Z
LAST-MODIFIED:20230708T041900Z
UID:1810260-1689357600-1689364800@ramayogainstitute.com
SUMMARY:Yogi Amandeep at RA MA Los Angeles
DESCRIPTION:SIGN UP\nTUNE IN\nYogi Amandeep at RA MA Los Angeles\nWorkshop 1: Chakra Activation: Explore the 8 Seats of consciousness \nFriday\, July 14\, 2023\n6-8pm PDT \nWithin each human there are energy centers known as chakras. Infinite energy is dormant in these centers. Just like a flower begins closed in a bud\, our energy centers are closed and waiting to blossom. When activated\, these centers bloom with infinite energy. The activation heals the mind and body from: stress\, depression\, anxiety\, emotional trauma\, and other forms of dis-ease. \nSit with Yogi Amandeep and learn methods to bloom\, retune\, reprogram and balance your life! It’s time to bring yourself back into the vital flow of energy through the ancient practices of the Himalayan Sages. \nWorkshop 2: Zero Gravity – The Wisdom of Non-Duality \nSaturday\, July 15\, 2023\n1-3pm PDT \nHave you ever experienced true freedom from your mind?…From the constant chattering\, the overthinking\, the judgements of this is good or bad\, right or wrong…Does your mind bring up memories of past hurts or become anxious with future problems? \nIn the yogic world\, the mind is described as a monkey that is drunk\, bitten by 64\,000 scorpions and is possessed by a ghost. This monkey mind creates a thousand thoughts in the blink of an eye. Consciously and subconsciously these thoughts create a kaleidoscope of perception that veil the truth of our existence. \nWhat if you could drop all identification with the mind and thoughts…and become weightless? \nThe ancient Sages advise that life is not about solving your problems\, it’s about dropping them. It’s about dropping the thoughts that bind you to the drama and trauma of you stories. \nIn this workshop\, Yogi Amandeep invites you to come to the center\, where there is no movement\, where there is no gravity\, where there is only all-pervading consciousness. \nExperience the truth of Ek Ong Kar and the ancient wisdom of non-duality. \nThe day I awaken from the Dream I realize all is me. \n  \nAbout Yogi Amandeep\nYogi Amandeep Singh M.Sc\, MA. is a master in ancient Himalayan yogic science and it’s applications in modern world. He is a psychotherapist\, counsellor and a leading authority in comparative religious studies. He is currently angel adviser to a neurological research project on pain management\, as well as to the European Union (Interreg South Baltic Programme) for Well-being Tourism.
URL:https://ramayogainstitute.com/event/yogi-amandeep/2023-07-14/
LOCATION:Online
CATEGORIES:In Person,Pay Per View Workshops
ATTACH;FMTTYPE=image/jpeg:https://ramayogainstitute.com/wp-content/uploads/2023/06/Yogi-Amandeep_Header.jpg
END:VEVENT
BEGIN:VEVENT
DTSTART;TZID=America/Los_Angeles:20230717T170000
DTEND;TZID=America/Los_Angeles:20230717T190000
DTSTAMP:20260422T172416
CREATED:20230709T193921Z
LAST-MODIFIED:20230717T152659Z
UID:1812872-1689613200-1689620400@ramayogainstitute.com
SUMMARY:New Moon with Harijiwan
DESCRIPTION:SIGN UP\nTUNE IN\nNew Moon with Harijiwan\nKundalini Yoga\, Meditation\, & Gong Workshop\nMonday\, July 17\, 2023\n5:00pm – 7:00pm PDT \nRA MA Los Angeles\nVirtually on RA MA TV \n$50 In Advance\, $55 Day Of \n  \nHarijiwan has been teaching Kundalini Yoga since 1975. He is the founder of the GRAMMY®-Award-Winning band\, White Sun. With over 44 years of experience in the science of Kundalini Yoga\, Harijiwan incorporates a vast knowledge of various methodologies and training into his practice. Today\, and throughout his years as a teacher and healer\, Harijiwan remains committed to expanding his knowledge and experience to provide his students with the most progressive\, effective\, self-empowering approaches that increase overall joy and wholeness within the context of everyday experiences.
URL:https://ramayogainstitute.com/event/new-moon-with-harijiwan/
LOCATION:Online
CATEGORIES:In Person,Pay Per View Workshops
ATTACH;FMTTYPE=image/jpeg:https://ramayogainstitute.com/wp-content/uploads/2023/07/L1020126_Harijiwan-Gong-RA-MA-Los-Angeles-edit_16x9small.jpg
END:VEVENT
BEGIN:VEVENT
DTSTART;TZID=America/Los_Angeles:20230720T190000
DTEND;TZID=America/Los_Angeles:20230720T203000
DTSTAMP:20260422T172416
CREATED:20230406T215907Z
LAST-MODIFIED:20230721T014037Z
UID:1815011-1689879600-1689885000@ramayogainstitute.com
SUMMARY:Kundalini Yoga & Meditation with Jot Gianpreet
DESCRIPTION:TUNE IN
URL:https://ramayogainstitute.com/event/kundalini-yoga-meditation-with-alexis-di-salvo-2-2023-07-20/
LOCATION:Online
CATEGORIES:In Person,RA MA TV Live
ATTACH;FMTTYPE=image/jpeg:https://ramayogainstitute.com/wp-content/uploads/2023/06/RA-MA-Los-Angeles-Kundalini-Yoga-Meditation.jpg
END:VEVENT
BEGIN:VEVENT
DTSTART;TZID=America/Los_Angeles:20230724T170000
DTEND;TZID=America/Los_Angeles:20230724T180000
DTSTAMP:20260422T172416
CREATED:20230724T230339Z
LAST-MODIFIED:20230724T230339Z
UID:1815780-1690218000-1690221600@ramayogainstitute.com
SUMMARY:Long Mul Mantra Monday with Mandev and Special Guest Harijiwan
DESCRIPTION:TUNE IN 
URL:https://ramayogainstitute.com/event/long-mul-mantra-monday-with-mandev-and-special-guest-harijiwan/
LOCATION:Online on RA MA TV
CATEGORIES:RA MA TV Live
ATTACH;FMTTYPE=image/jpeg:https://ramayogainstitute.com/wp-content/uploads/2023/05/L1320521_Harijiwan-Mandev-RA-MA-TV-small.jpg
END:VEVENT
BEGIN:VEVENT
DTSTART;TZID=America/Los_Angeles:20230724T190000
DTEND;TZID=America/Los_Angeles:20230724T201500
DTSTAMP:20260422T172416
CREATED:20230106T004156Z
LAST-MODIFIED:20230725T005141Z
UID:1796384-1690225200-1690229700@ramayogainstitute.com
SUMMARY:Kundalini Yoga & Meditation with Jot Gianpreet
DESCRIPTION:TUNE IN\n 
URL:https://ramayogainstitute.com/event/beam-with-jen-2023-07-24/
LOCATION:Online
CATEGORIES:In Person,RA MA TV Live
ATTACH;FMTTYPE=image/jpeg:https://ramayogainstitute.com/wp-content/uploads/2023/06/RA-MA-Los-Angeles-Kundalini-Yoga-Meditation.jpg
END:VEVENT
BEGIN:VEVENT
DTSTART;TZID=America/Los_Angeles:20230726T190000
DTEND;TZID=America/Los_Angeles:20230726T210000
DTSTAMP:20260422T172416
CREATED:20230721T020935Z
LAST-MODIFIED:20230724T225038Z
UID:1815028-1690398000-1690405200@ramayogainstitute.com
SUMMARY:10th Day of Moon with Harijiwan
DESCRIPTION:SIGN UP\nTUNE IN\n10th Day of Moon with Harijiwan\nKundalini Yoga\, Meditation\, & Gong Workshop\nWednesday\, July 26\, 2023\n7:00pm – 9:00pm PDT \nRA MA Los Angeles\nVirtually on RA MA TV \n$50 In Advance\, $55 Day Of \n  \nHarijiwan has been teaching Kundalini Yoga since 1975. He is the founder of the GRAMMY®-Award-Winning band\, White Sun. With over 44 years of experience in the science of Kundalini Yoga\, Harijiwan incorporates a vast knowledge of various methodologies and training into his practice. Today\, and throughout his years as a teacher and healer\, Harijiwan remains committed to expanding his knowledge and experience to provide his students with the most progressive\, effective\, self-empowering approaches that increase overall joy and wholeness within the context of everyday experiences.
URL:https://ramayogainstitute.com/event/10th-day-of-moon/
LOCATION:Online
CATEGORIES:In Person,Pay Per View Workshops
ATTACH;FMTTYPE=image/jpeg:https://ramayogainstitute.com/wp-content/uploads/2022/12/L1050856_Harijiwan-RA-MA-TV.jpg
END:VEVENT
BEGIN:VEVENT
DTSTART;TZID=America/Los_Angeles:20230727T190000
DTEND;TZID=America/Los_Angeles:20230727T210000
DTSTAMP:20260422T172416
CREATED:20230721T021050Z
LAST-MODIFIED:20230724T230018Z
UID:1815030-1690484400-1690491600@ramayogainstitute.com
SUMMARY:11th Day of Moon with Harijiwan
DESCRIPTION:SIGN UP\nTUNE IN\n11th day of the Moon with Harijiwan\nKundalini Yoga\, Meditation\, & Gong Workshop\nThursday\, July 27\, 2023\n7:00pm – 9:00pm PDT \nRA MA Los Angeles\nVirtually on RA MA TV \n$50 In Advance\, $55 Day Of \n  \nHarijiwan has been teaching Kundalini Yoga since 1975. He is the founder of the GRAMMY®-Award-Winning band\, White Sun. With over 44 years of experience in the science of Kundalini Yoga\, Harijiwan incorporates a vast knowledge of various methodologies and training into his practice. Today\, and throughout his years as a teacher and healer\, Harijiwan remains committed to expanding his knowledge and experience to provide his students with the most progressive\, effective\, self-empowering approaches that increase overall joy and wholeness within the context of everyday experiences.
URL:https://ramayogainstitute.com/event/11th-day-of-moon-with-harijiwan/
LOCATION:Online
CATEGORIES:In Person,Pay Per View Workshops
ATTACH;FMTTYPE=image/png:https://ramayogainstitute.com/wp-content/uploads/2021/12/Harijiwan-1-e1689906860775.png
END:VEVENT
BEGIN:VEVENT
DTSTART;TZID=America/Los_Angeles:20230729T190000
DTEND;TZID=America/Los_Angeles:20230729T220000
DTSTAMP:20260422T172416
CREATED:20230721T031722Z
LAST-MODIFIED:20230721T031756Z
UID:1815046-1690657200-1690668000@ramayogainstitute.com
SUMMARY:Circle of Light with Riz Mizra
DESCRIPTION:SIGN UP\nIndividuals who want to explore their spiritual life to individuals who are experiencing extreme trauma and pain in their life come to the Circle of Light to receive wisdom\, support\, and clarity about their soul path\, their situation\, and most importantly their belief systems.\nThe Circle of Light with Psychic Medium Riz Mirza \nSaturday\, July 29\, 2023\n1729 21st St\, Santa Monica\, CA 90404\, USA\nCircle of Light at Ra Ma Los Angeles\n*In Person Only \n  \nPsychic Medium and Trance Channel Riz enters into a deep trance and retreats within as master Spirit Guides speak through his body with love\, wisdom and powerful piercing insight. His main message bearer\, Red Eagle an unforgettable loving presence\, answers your personal questions on any aspect of your life. \nIt helps our guests feel their creations\, and co-creations with others to a higher degree\, helps people feel not only more enlightened but helps them heal faster\, find more peace in their decisions and overall propels people into deeper healing work for themselves or pushes them into a higher plane of existence. \nThere will also be an energy healing activation to close the gathering. You will feel a profound feeling of peace about the future. Riz is known as one of the only full trance channel shamans known to publically channel personal individual messages including mediumship messages. He has also channeled a record 5 hours\, giving messages in trance. \nRiz Mirza has trance-channeled numerous Spirit Guides who healed people in over 2500 live weekly channeled gatherings called the Circle of Light\, with over 8\,000 hrs of recorded sessions. Channeling over 100 different Spirit Guides\, in front of a live audience. He’s considered a master trance channel. A one-of-a-kind event.
URL:https://ramayogainstitute.com/event/circle-of-light-with-riz-mizra-2/
LOCATION:RA MA Institute Los Angeles\, 1729 21st St\, Santa Monica\, CA\, 90404\, United States
CATEGORIES:In Person
ATTACH;FMTTYPE=image/jpeg:https://ramayogainstitute.com/wp-content/uploads/2023/07/CircleofLight_RizMizra.jpg
END:VEVENT
BEGIN:VEVENT
DTSTART;TZID=America/Los_Angeles:20230731T110000
DTEND;TZID=America/Los_Angeles:20230731T121500
DTSTAMP:20260422T172416
CREATED:20230729T033628Z
LAST-MODIFIED:20230802T033955Z
UID:1816593-1690801200-1690805700@ramayogainstitute.com
SUMMARY:Kundalini Yoga & Meditation
DESCRIPTION:TUNE IN\nVirtually on RA MA TV Live
URL:https://ramayogainstitute.com/event/kundalini-yoga-meditation-4/2023-07-31/
LOCATION:Online
CATEGORIES:In Person,RA MA TV Live
ATTACH;FMTTYPE=image/jpeg:https://ramayogainstitute.com/wp-content/uploads/2021/12/Students-Training-Los-Angeles.jpg
END:VEVENT
END:VCALENDAR