BEGIN:VCALENDAR
VERSION:2.0
PRODID:-//RA MA LIFE - ECPv6.15.15//NONSGML v1.0//EN
CALSCALE:GREGORIAN
METHOD:PUBLISH
X-WR-CALNAME:RA MA LIFE
X-ORIGINAL-URL:https://ramayogainstitute.com
X-WR-CALDESC:Events for RA MA LIFE
REFRESH-INTERVAL;VALUE=DURATION:PT1H
X-Robots-Tag:noindex
X-PUBLISHED-TTL:PT1H
BEGIN:VTIMEZONE
TZID:America/Los_Angeles
BEGIN:DAYLIGHT
TZOFFSETFROM:-0800
TZOFFSETTO:-0700
TZNAME:PDT
DTSTART:20220313T100000
END:DAYLIGHT
BEGIN:STANDARD
TZOFFSETFROM:-0700
TZOFFSETTO:-0800
TZNAME:PST
DTSTART:20221106T090000
END:STANDARD
BEGIN:DAYLIGHT
TZOFFSETFROM:-0800
TZOFFSETTO:-0700
TZNAME:PDT
DTSTART:20230312T100000
END:DAYLIGHT
BEGIN:STANDARD
TZOFFSETFROM:-0700
TZOFFSETTO:-0800
TZNAME:PST
DTSTART:20231105T090000
END:STANDARD
BEGIN:DAYLIGHT
TZOFFSETFROM:-0800
TZOFFSETTO:-0700
TZNAME:PDT
DTSTART:20240310T100000
END:DAYLIGHT
BEGIN:STANDARD
TZOFFSETFROM:-0700
TZOFFSETTO:-0800
TZNAME:PST
DTSTART:20241103T090000
END:STANDARD
END:VTIMEZONE
BEGIN:VEVENT
DTSTART;TZID=America/Los_Angeles:20230602T190000
DTEND;TZID=America/Los_Angeles:20230602T200000
DTSTAMP:20260423T090513
CREATED:20230512T144210Z
LAST-MODIFIED:20230517T230752Z
UID:1798641-1685732400-1685736000@ramayogainstitute.com
SUMMARY:Shamanic Dance Electric: Movement Meditation with Shaman Durek
DESCRIPTION:SIGN UP\nTUNE IN\n\nShamanic Dance Electric: Movement Meditation with Shaman Durek\nA movement meditation guided by Shaman Durek with live music by Natalia Alava \nIn Shamanic Dance Electric\, experience a whole new way to BE in your body. Enter the spirit world through embodied movement\, activate your powers\, and receive messages from the elders. Through this movement meditation with Shaman Durek\, access new creative energy sources within you and take them forward to empower you to live your most vibrant life. \nWednesday\, May 17\, 2023\n7:00-8:00pm PDT\nIn Person at RA MA Los Angeles\nVirtually on RA MA TV \n*Your purchase is non-transferable and non-refundable \n\nAbout Shaman Durek\nShaman Durek is a 6th generation shaman\, and author of the best seller\, ‘Spirit Hacking: Shamanic Keys to Reclaim Your Personal Power\, Transform Yourself\, and Light Up the World.’ \nHe is a visionary for the ‘Now Age\,’ with a strong focus on the evolution of humanity\, while also simplifying our experience through common sense practices. Shaman Durek has studied extensively\, extracting the best from all the world philosophies\, religions\, spiritual teachings\, and theories. Through his no nonsense teachings\, he demystifies spirituality by making it attainable and understandable for not only the layman\, but also for the more spiritually advanced\, and everyone in between. \nHis teachings have impacted thousands\, ranging from diverse public figures like Nina Dobrev and Gwyneth Paltrow\, to tech giants like Dave Asprey of Bulletproof Coffee. Known as the first ‘spirit shaman’ to be featured in People Magazine\, Shaman Durek’s work has been recognized globally by major publications such as\, Vanity Fair\, The New York Times\, Elle\, Marie Claire\, The Los Angeles Times\, The Evening Standard\, You Magazine\, Good Morning America\, This Morning\, etc. \nHe has a recurring role on the nationwide CBS television show\, ‘The Doctors\,’ where he aids guests in overcoming challenges that are impacting the connection between their emotional/physical well-being. He has also been featured on prominent health and wellness podcasts–Bulletproof Radio\, Life Stylist\, Expanded\, and Goop Fellas. \nShaman Durek’s online ‘The Shaman School\,’ and widely popular ‘The Healing Temple‘\, and ‘Ancient Wisdom Today\,’ have been instrumental in benefiting participants tap into their personal power\, while unblocking negative patterns that prevent them from reaching their optimal human performance.
URL:https://ramayogainstitute.com/event/shamanic-dance-electric-movement-meditation-with-shaman-durek/
LOCATION:Online
CATEGORIES:In Person,Pay Per View Workshops
ATTACH;FMTTYPE=image/jpeg:https://ramayogainstitute.com/wp-content/uploads/2023/05/ShamanDurek_Meditation_Dance_Header.jpg
END:VEVENT
BEGIN:VEVENT
DTSTART;TZID=America/Los_Angeles:20230603T080000
DTEND;TZID=America/Los_Angeles:20230603T100000
DTSTAMP:20260423T090513
CREATED:20230529T220711Z
LAST-MODIFIED:20230529T224139Z
UID:1802882-1685779200-1685786400@ramayogainstitute.com
SUMMARY:Gate of the Blue Pearl: Initiation into Intuition with Desirée Pais
DESCRIPTION:SIGN UP\nTUNE IN\n“The next golden age is an invitation for you to reveal the unlimited depths and heights of your sovereign\, creative power—rather than seek for the world to change for you. You are the change.”—Kaia Ra\, THE SOPHIA CODE \nJoin Desirée Pais of Benshen.co for a Full Moon in Sagittarius workshop\, Gate of the Blue Pearl: Initiation into Intuition. Located within the Pineal Gland\, the Blue Pearl is the seed where all manifestations and desires can begin to unfold. By awakening this part of the mind\, we can begin to cultivate the clarity and vitality necessary in order to create the sequences of our dreams. With powerful intuition\, we see what we want\, where we want to go\, and the direct path to get from where we are now to where we want to be. \nVirtually on RA MA TV + Infinite Replay\nIn Person at RA MA New York
URL:https://ramayogainstitute.com/event/gate-of-the-blue-pearl-initiation-into-intuition-with-desiree-pais/
LOCATION:RA MA New York & Online
CATEGORIES:In Person,Pay Per View Workshops
ATTACH;FMTTYPE=image/jpeg:https://ramayogainstitute.com/wp-content/uploads/2023/05/DESIREE-2-1-1.jpg
END:VEVENT
BEGIN:VEVENT
DTSTART;TZID=America/Los_Angeles:20230604T050000
DTEND;TZID=America/Los_Angeles:20230604T100000
DTSTAMP:20260423T090513
CREATED:20230519T005800Z
LAST-MODIFIED:20230519T012920Z
UID:1800133-1685854800-1685872800@ramayogainstitute.com
SUMMARY:The Angelic Realms
DESCRIPTION:SIGN UP\nTUNE IN\nTune Your Frequency to the Celestial Realms and Embrace Your Angelic Nature\nThe loving presence of your guardian angels surrounds you always\, ready to offer their guidance and support. Unlock the profound connection that awaits you\, bringing forth a life filled with love\, purpose\, and divine harmony. Rediscover your innate angelic nature and ignite a profound transformation within. \nSunday\, June 4\, 2023\n5:00am-10:00am PDT\n8:00am-1:00pm EDT\n2:00pm-7:00pm CEST\nVirtually on Zoom \n  \nFormer pianist Isabelle von Fallois was diagnosed with a life-threatening form of leukemia. After fighting for life and death for 4 years she had a profound encounter with Archangel Raphael that changed her life forever and helped her to heal. From this moment on she studied various forms of energy healing\, coaching and more to be able to support people on their path.\nIn the meantime she wrote several bestselling books (including the novel “Der Brief der Magdalena”) which were translated into different languages and recorded more than 50 meditations.\nShe is the founder of the ANGEL LIFE COACH® Training (7 modules à 5 days) including ISIS ANGEL HEALING®\, MAGDALENE HEALING® and the SACRED WOMEN SESSIONS©. Together with Urban Nomad Jewelry she created the SACRED WOMEN MALA COLLECTION.\nBesides she had her own radio show “Angel Messages” for more than 2 years and was featured in lots of magazines like OM Times Magazine\, Awareness Magazine\, NEWsAGE\, WOMAN\, GLAMOUR\, etc. and appeared on several DVDs with other famous people like Gregg Braden\, Bruce Lipton\, Lorna Byrne\, Eric Pearl\, Princess Martha Louise\, etc.\, in spiritual movies and on German television.\nIsabelle von Fallois’ mission is to travel through the world to help people to open their hearts to communicate with Angels and other light beings and to live a life filled with divine love and miracles to make the world a better place.\nwww.isabellevonfallois.com | www.AngelLifeCoachTraining.com \nMandev Khalsa is an award-winning filmmaker and creator of My Moon Map™. For years\, Mandev has deeply researched esoteric energetic structures in yogic teachings to discover energy and power. Mandev’s classes at RA MA Institute focus on removing blocks\, installing prosperity patterns\, weaving celestial sound codes\, karma clearing\, third eye-opening\, mind crystallizing\, heart opening\, soul downloading.\nMandev leads a complimentary virtual global women’s community: The Inner Moon Circle\, inviting women to discover new realms of their inner and outer world as their sensitivity and awareness of their cosmic nature as a woman expands. \n@mymoonmap.com | @mandevkhalsa | @mymoonmap \n  \nShabadpreet is the CEO of RA MA Institute for Applied Yogic Science and Technology with locations in Los Angeles\, California; Mallorca\, Spain; New York City\, and virtually on RA MA TV. With the passing of Guru Jagat\, Shabadpreet continues RA MA’s Mission as a crossroads of consciousness\, wellbeing\, and creation-culture. Known for her healing approach\, Shabadpreet can also be found teaching in our Kundalini Trainings and in our three Global Women’s Programs.\n@shabadpreet11
URL:https://ramayogainstitute.com/event/the-angelic-realms/
LOCATION:Online on Zoom
CATEGORIES:Pay Per View Workshops
ATTACH;FMTTYPE=image/jpeg:https://ramayogainstitute.com/wp-content/uploads/2023/05/AngelicRealms_Kundalini_Banner6.jpg
END:VEVENT
BEGIN:VEVENT
DTSTART;TZID=America/Los_Angeles:20230607T180000
DTEND;TZID=America/Los_Angeles:20230607T200000
DTSTAMP:20260423T090513
CREATED:20230605T184220Z
LAST-MODIFIED:20230607T063315Z
UID:1804412-1686160800-1686168000@ramayogainstitute.com
SUMMARY:Shamanic Air Clearing with Shaman Durek
DESCRIPTION:SIGN UP\nTUNE IN\nShamanic Air Clearing with Shaman Durek\nIn this workshop with Shaman Durek\, use Shamanic Air Clearing to connect with the element of air and utilize it to cleanse\, direct energy\, and change states. \nYou will learn: \n\nHow to direct air spirits to clean energy outside the body and inside the body.\nThe hand signals to activate air.\nHow to use the air to lift people from trauma and depression.\nHow to clear negative thoughts using air spirits.\nHow to take people in shamanic cycles using air spirits.\n\nIf you have a hand fan please bring it to class. A feather will also work. \nWednesday\, June 7\, 2023\n6:00pm – 8:00pm PDT \nIn Person at RA MA Los Angeles \nVirtually on RA MA TV + Infinite Replay \n\nAbout Shaman Durek\nShaman Durek is a 6th generation shaman\, and author of the best seller\, ‘Spirit Hacking: Shamanic Keys to Reclaim Your Personal Power\, Transform Yourself\, and Light Up the World.’ \nHe is a visionary for the ‘Now Age\,’ with a strong focus on the evolution of humanity\, while also simplifying our experience through common sense practices. Shaman Durek has studied extensively\, extracting the best from all the world philosophies\, religions\, spiritual teachings\, and theories. Through his no nonsense teachings\, he demystifies spirituality by making it attainable and understandable for not only the layman\, but also for the more spiritually advanced\, and everyone in between. \nHis teachings have impacted thousands\, ranging from diverse public figures like Nina Dobrev and Gwyneth Paltrow\, to tech giants like Dave Asprey of Bulletproof Coffee. Known as the first ‘spirit shaman’ to be featured in People Magazine\, Shaman Durek’s work has been recognized globally by major publications such as\, Vanity Fair\, The New York Times\, Elle\, Marie Claire\, The Los Angeles Times\, The Evening Standard\, You Magazine\, Good Morning America\, This Morning\, etc. \nHe has a recurring role on the nationwide CBS television show\, ‘The Doctors\,’ where he aids guests in overcoming challenges that are impacting the connection between their emotional/physical well-being. He has also been featured on prominent health and wellness podcasts–Bulletproof Radio\, Life Stylist\, Expanded\, and Goop Fellas. \nShaman Durek’s online ‘The Shaman School\,’ and widely popular ‘The Healing Temple‘\, and ‘Ancient Wisdom Today\,’ have been instrumental in benefiting participants tap into their personal power\, while unblocking negative patterns that prevent them from reaching their optimal human performance.
URL:https://ramayogainstitute.com/event/shamanic-clearing/
LOCATION:Online
CATEGORIES:In Person,Pay Per View Workshops
ATTACH;FMTTYPE=image/jpeg:https://ramayogainstitute.com/wp-content/uploads/2019/04/RAMA_Shamanic_Air_Cleaning_Header.jpg
END:VEVENT
BEGIN:VEVENT
DTSTART;TZID=America/Los_Angeles:20230610T080000
DTEND;TZID=America/Los_Angeles:20230610T090000
DTSTAMP:20260423T090513
CREATED:20230603T052217Z
LAST-MODIFIED:20230603T052219Z
UID:1803944-1686384000-1686387600@ramayogainstitute.com
SUMMARY:Warriors of the Divine: The Path to Royalty with Desirée Pais
DESCRIPTION:SIGN UP\nJoin Desiree Pais of Benshen.co for a 3-part series\, \nWARRIORS of the DIVINE: THE PATH to ROYALTY. Kundalini Yoga is a Raj Yog\, a Royal Yoga. Through practice\, through our commitment to our own excellence\, we embrace our royalty and step into our power. This three-part series is an exploration of personal power and the practices that allow us to clear our subconscious beliefs about ourselves so we can create a new self-concept of unshakable strength and radiance. \nI. BECOMING CRYSTAL CLEAR\nSaturday\, June 10 | 11:00 – 12:00pm EDT \nII. BRILLIANT AURA: A MAGNETIC FIELD OF RADIANCE\nSaturday\, June 17 | 11:00 – 12:00pm EDT \nIII. ACCESSING THE SOURCE OF STRENGTH IN YOU\nSaturday\, June 24 | 11:00 – 12:00pm EDT \n 
URL:https://ramayogainstitute.com/event/warriors-of-the-divine-the-path-to-royalty-with-desiree-pais/2023-06-10/
LOCATION:Online
CATEGORIES:In Person,Pay Per View Workshops,RA MA TV Live
ATTACH;FMTTYPE=image/jpeg:https://ramayogainstitute.com/wp-content/uploads/2023/06/DesireePais-Warriors-of-the-Divine-Kundalini-e1686280407257.jpg
END:VEVENT
BEGIN:VEVENT
DTSTART;TZID=America/Los_Angeles:20230610T090000
DTEND;TZID=America/Los_Angeles:20230610T180000
DTSTAMP:20260423T090513
CREATED:20230530T175245Z
LAST-MODIFIED:20230605T025746Z
UID:1803054-1686387600-1686420000@ramayogainstitute.com
SUMMARY:How to Win: Creating the Life You Want
DESCRIPTION:SIGN UP\nTUNE IN\nHOW TO WIN: CREATING THE LIFE YOU WANT\nExpect a day of energizing Kundalini Yoga\, mindstream shifting meditations\, awareness expanding yogic and teachings and philosophy to provide you with the velocity and altitude to create success in your life. \nA Day Long Immersion with Harijiwan\, Mandev\, & Shabadpreet \nSaturday\, June 10\, 2023 | 9:00am-6:00pm PDT \nIn Person at RA MA Los Angeles\nVirtually on RA MA TV with Infinite Replay \nPrice: $199 pre-registration\, $249 day-of
URL:https://ramayogainstitute.com/event/life-you-want/
LOCATION:Online
CATEGORIES:Courses & Events,In Person
ATTACH;FMTTYPE=image/jpeg:https://ramayogainstitute.com/wp-content/uploads/2023/05/ImmenseGrace_HowtoWin_Kundalini_Header.jpg
END:VEVENT
BEGIN:VEVENT
DTSTART;TZID=America/Los_Angeles:20230616T193000
DTEND;TZID=America/Los_Angeles:20230616T213000
DTSTAMP:20260423T090513
CREATED:20230607T205223Z
LAST-MODIFIED:20230704T195221Z
UID:1805194-1686943800-1686951000@ramayogainstitute.com
SUMMARY:Live Kirtan with Govind Das
DESCRIPTION:SIGN UP\nTUNE IN\nKirtan is an ancient bhakti yoga practice using chanting\, mantra\, and music as an expression of our devotion and heartfelt prayer. \nExperience this live Kirtan presented by Bhakti Yoga Shala\, led and directed by Govind Das\, who is spreading the practice of bhakti around the world. At the Shala\, teachings of the great saint Neem Karoli Baba are followed\, who celebrated all Gods as one. Anyone and everyone is welcome\, and we are happy to serve you on your spiritual journey. \n7:30pm – 9:30pm PDT | 10:30pm – 12:30pm EDT \nVirtually on RA MA TV with 48 hour replay\nIn Person @ RA MA Los Angeles \n 
URL:https://ramayogainstitute.com/event/live-kirtan-with-govind-das-and-jacqueline-2/2023-06-16/
LOCATION:Online
CATEGORIES:In Person,Pay Per View Workshops
ATTACH;FMTTYPE=image/jpeg:https://ramayogainstitute.com/wp-content/uploads/2019/04/Live-Kirtan-Banner-Govind-Das-e1686598179240.jpg
END:VEVENT
BEGIN:VEVENT
DTSTART;TZID=America/Los_Angeles:20230617T130000
DTEND;TZID=America/Los_Angeles:20230617T150000
DTSTAMP:20260423T090513
CREATED:20230609T201513Z
LAST-MODIFIED:20230615T012509Z
UID:1805900-1687006800-1687014000@ramayogainstitute.com
SUMMARY:The Nucleus of Sound with Harijiwan
DESCRIPTION:SIGN UP\nTUNE IN\nThe Nucleus of Sound: An Auspicious Pre-Solstice x New Moon Workshop with Harijiwan\n1:00pm – 3:00pm PDT\nVirtually on RA MA TV\nIn Person @ RA MA Los Angeles\n$50 In Advance\, $55 Day of \n  \nHarijiwan has been teaching Kundalini Yoga since 1975. He is the founder of the GRAMMY®-Award-Winning band\, White Sun. With over 44 years of experience in the science of Kundalini Yoga\, Harijiwan incorporates a vast knowledge of various methodologies and training into his practice. Today\, and throughout his years as a teacher and healer\, Harijiwan remains committed to expanding his knowledge and experience to provide his students with the most progressive\, effective\, self-empowering approaches that increase overall joy and wholeness within the context of everyday experiences. \n@harijiwan
URL:https://ramayogainstitute.com/event/nucleus-sound/
LOCATION:Online
CATEGORIES:In Person,Pay Per View Workshops
ATTACH;FMTTYPE=image/jpeg:https://ramayogainstitute.com/wp-content/uploads/2023/02/Harijiwan-Playing-Gong-Black-White-e1686425489298.jpg
END:VEVENT
BEGIN:VEVENT
DTSTART;TZID=America/Los_Angeles:20230617T190000
DTEND;TZID=America/Los_Angeles:20230617T203000
DTSTAMP:20260423T090513
CREATED:20230609T211942Z
LAST-MODIFIED:20230615T044259Z
UID:1805961-1687028400-1687033800@ramayogainstitute.com
SUMMARY:New Moon Nidra: The Subtle Art of Victory
DESCRIPTION:SIGN UP\nTUNE IN\nNew Moon Nidra: The Subtle Art of Victory with Artist Kim Krans\n7:00pm – 8:30pm PDT\nVirtually on RA MA TV\nIn Person @ RA MA Los Angeles\n$33 \nWelcome to the sacred realm of yoga nidra – the threshold between waking and dreaming. Nidra is the home of creativity unbound\, where answers and new visions reveal themselves in the dark. Through effortless awareness\, we reach the subtle center\, where the forces of creativity and healing await. \nJoin visionary artist Kim Krans as she leads us into the liminal realm this new moon\, June 18. \nPlease note: most of the practice will be experienced lying down. Please wear cozy clothes\, bring a favorite blanket or pillow\, notebook\, and pen. \n  \n 
URL:https://ramayogainstitute.com/event/subtle-art-of-victory/
LOCATION:Online
CATEGORIES:In Person,Pay Per View Workshops
ATTACH;FMTTYPE=image/jpeg:https://ramayogainstitute.com/wp-content/uploads/2023/05/NewMoon_KimKrans_Header.jpg
END:VEVENT
BEGIN:VEVENT
DTSTART;TZID=America/Los_Angeles:20230619T190000
DTEND;TZID=America/Los_Angeles:20230619T210000
DTSTAMP:20260423T090513
CREATED:20230616T042334Z
LAST-MODIFIED:20230619T232115Z
UID:1807286-1687201200-1687208400@ramayogainstitute.com
SUMMARY:Magnetic Projection with Harijiwan
DESCRIPTION:SIGN UP\nTUNE IN\nMagnetic Projection\nPre-Solstice Kundalini Yoga\, Meditation\, & Gong Workshop with Harijiwan\nMonday\, June 19\, 2023\n7:00pm – 9:00pm PDT \n$50 In Advance\, $55 Day Of \nVirtually on RA MA TV\nIn Person at RA MA Los Angeles
URL:https://ramayogainstitute.com/event/magnetic-projection/
LOCATION:Online
CATEGORIES:In Person,Pay Per View Workshops
ATTACH;FMTTYPE=image/jpeg:https://ramayogainstitute.com/wp-content/uploads/2023/02/Harijiwan-Playing-Gong-Black-White-e1686425489298.jpg
END:VEVENT
BEGIN:VEVENT
DTSTART;TZID=America/Los_Angeles:20230620T170000
DTEND;TZID=America/Los_Angeles:20230620T190000
DTSTAMP:20260423T090513
CREATED:20230616T043037Z
LAST-MODIFIED:20230619T232032Z
UID:1807290-1687280400-1687287600@ramayogainstitute.com
SUMMARY:Solstice Eve Workshop with Harijiwan
DESCRIPTION:SIGN UP\nTUNE IN\nSolstice Eve Workshop with Harijiwan\nKundalini Yoga\, Meditation\, & Gong Workshop\n+ Community Dinner to Follow\nTuesday\, June 20\, 2023\n5:00pm – 7:00pm PDT \n$50 In Advance\, $55 Day Of \nVirtually on RA MA TV\nIn Person at RA MA Los Angeles
URL:https://ramayogainstitute.com/event/solstice-eve/
LOCATION:Online
CATEGORIES:In Person,Pay Per View Workshops
ATTACH;FMTTYPE=image/jpeg:https://ramayogainstitute.com/wp-content/uploads/2023/04/Harijiwan-Blue-Gong.jpg
END:VEVENT
BEGIN:VEVENT
DTSTART;TZID=America/Los_Angeles:20230621T160000
DTEND;TZID=America/Los_Angeles:20230621T180000
DTSTAMP:20260423T090513
CREATED:20230611T210915Z
LAST-MODIFIED:20230621T074640Z
UID:1806548-1687363200-1687370400@ramayogainstitute.com
SUMMARY:Solstice Night Kundalini Yoga & Meditation Workshop with Pritam Siri
DESCRIPTION:SIGN UP\nTUNE IN (TV Live Members)\nTUNE IN (Drop Ins)\nPritam Siri is an artist and yogi based in New York City. She has dedicated her time to studying\, working\, and traveling with Guru Jagat from 2016 until her passing in 2021. She is an active student of Kundalini Yoga and Meditation as Taught by Yogi Bhajan and is committed to practicing and sharing kundalini yoga technology.\nHer classes are open and welcome to beginners and seasoned practitioners.
URL:https://ramayogainstitute.com/event/kundalini-yoga-meditation-with-pritam-siri-9-2023-06-21/
LOCATION:RA MA New York & Online
CATEGORIES:In Person,Pay Per View Workshops,RA MA TV Live
ATTACH;FMTTYPE=image/jpeg:https://ramayogainstitute.com/wp-content/uploads/2023/06/Pritam-Siri-Kundalini-Yoga_Header.jpg
END:VEVENT
BEGIN:VEVENT
DTSTART;TZID=America/Los_Angeles:20230629T190000
DTEND;TZID=America/Los_Angeles:20230629T210000
DTSTAMP:20260423T090513
CREATED:20230627T190142Z
LAST-MODIFIED:20230629T025150Z
UID:1809586-1688065200-1688072400@ramayogainstitute.com
SUMMARY:Golden Arc Reflection with Harijiwan
DESCRIPTION:SIGN UP\nTUNE IN\nA Post Solstice Radiant Body Integration Experience \nHarijiwan has been teaching Kundalini Yoga since 1975. He is the founder of the GRAMMY®-Award-Winning band\, White Sun. With over 44 years of experience in the science of Kundalini Yoga\, Harijiwan incorporates a vast knowledge of various methodologies and training into his practice. Today\, and throughout his years as a teacher and healer\, Harijiwan remains committed to expanding his knowledge and experience to provide his students with the most progressive\, effective\, self-empowering approaches that increase overall joy and wholeness within the context of everyday experiences.
URL:https://ramayogainstitute.com/event/golden-arc-reflection-with-harijiwan/
LOCATION:Online
CATEGORIES:In Person,Pay Per View Workshops
ATTACH;FMTTYPE=image/jpeg:https://ramayogainstitute.com/wp-content/uploads/2023/06/Radiant_Body_Harijiwan_Header.jpg
END:VEVENT
END:VCALENDAR