BEGIN:VCALENDAR
VERSION:2.0
PRODID:-//RA MA LIFE - ECPv6.15.15//NONSGML v1.0//EN
CALSCALE:GREGORIAN
METHOD:PUBLISH
X-WR-CALNAME:RA MA LIFE
X-ORIGINAL-URL:https://ramayogainstitute.com
X-WR-CALDESC:Events for RA MA LIFE
REFRESH-INTERVAL;VALUE=DURATION:PT1H
X-Robots-Tag:noindex
X-PUBLISHED-TTL:PT1H
BEGIN:VTIMEZONE
TZID:America/Los_Angeles
BEGIN:DAYLIGHT
TZOFFSETFROM:-0800
TZOFFSETTO:-0700
TZNAME:PDT
DTSTART:20220313T100000
END:DAYLIGHT
BEGIN:STANDARD
TZOFFSETFROM:-0700
TZOFFSETTO:-0800
TZNAME:PST
DTSTART:20221106T090000
END:STANDARD
BEGIN:DAYLIGHT
TZOFFSETFROM:-0800
TZOFFSETTO:-0700
TZNAME:PDT
DTSTART:20230312T100000
END:DAYLIGHT
BEGIN:STANDARD
TZOFFSETFROM:-0700
TZOFFSETTO:-0800
TZNAME:PST
DTSTART:20231105T090000
END:STANDARD
BEGIN:DAYLIGHT
TZOFFSETFROM:-0800
TZOFFSETTO:-0700
TZNAME:PDT
DTSTART:20240310T100000
END:DAYLIGHT
BEGIN:STANDARD
TZOFFSETFROM:-0700
TZOFFSETTO:-0800
TZNAME:PST
DTSTART:20241103T090000
END:STANDARD
END:VTIMEZONE
BEGIN:VEVENT
DTSTART;TZID=America/Los_Angeles:20230505T170000
DTEND;TZID=America/Los_Angeles:20230505T190000
DTSTAMP:20260423T104546
CREATED:20230428T135528Z
LAST-MODIFIED:20230501T222448Z
UID:1794885-1683306000-1683313200@ramayogainstitute.com
SUMMARY:Lunar Eclipse: Radiant Portal with Harijiwan
DESCRIPTION:SIGN UP\nTUNE IN\nA Kundalini Yoga\, Meditation\, & Gong Workshop with Harijiwan \nHarijiwan has been teaching Kundalini Yoga since 1975. He is the founder of the GRAMMY®-Award-Winning band\, White Sun. With over 44 years of experience in the science of Kundalini Yoga\, Harijiwan incorporates a vast knowledge of various methodologies and training into his practice. Today\, and throughout his years as a teacher and healer\, Harijiwan remains committed to expanding his knowledge and experience to provide his students with the most progressive\, effective\, self-empowering approaches that increase overall joy and wholeness within the context of everyday experiences.
URL:https://ramayogainstitute.com/event/lunar-eclipse-radiant-portal/
LOCATION:Online
CATEGORIES:In Person,Pay Per View Workshops
ATTACH;FMTTYPE=image/jpeg:https://ramayogainstitute.com/wp-content/uploads/2023/04/Harijiwan-Blue-Gong.jpg
END:VEVENT
BEGIN:VEVENT
DTSTART;TZID=America/Los_Angeles:20230506T170000
DTEND;TZID=America/Los_Angeles:20230506T180000
DTSTAMP:20260423T104546
CREATED:20230503T050011Z
LAST-MODIFIED:20230503T050425Z
UID:1795959-1683392400-1683396000@ramayogainstitute.com
SUMMARY:Rising Possibility Meditation with Shaman Durek
DESCRIPTION:SIGN UP\nTUNE IN\nMeditate & Access New Potential with Shaman Durek\nHow would it feel to you to experience a rise out of your current life circumstances into a higher state of joy and possibility? This meditation will open you to shift to a higher state where you can access new potential in your life. Come meditate with Shaman Durek for a quantum reset where you will discover your Self in a whole new way. \nAbout Shaman Durek\nShaman Durek is a 6th generation shaman\, and author of the best seller\, ‘Spirit Hacking: Shamanic Keys to Reclaim Your Personal Power\, Transform Yourself\, and Light Up the World.’ \nHe is a visionary for the ‘Now Age\,’ with a strong focus on the evolution of humanity\, while also simplifying our experience through common sense practices. Shaman Durek has studied extensively\, extracting the best from all the world philosophies\, religions\, spiritual teachings\, and theories. Through his no nonsense teachings\, he demystifies spirituality by making it attainable and understandable for not only the layman\, but also for the more spiritually advanced\, and everyone in between. \nHis teachings have impacted thousands\, ranging from diverse public figures like Nina Dobrev and Gwyneth Paltrow\, to tech giants like Dave Asprey of Bulletproof Coffee. Known as the first ‘spirit shaman’ to be featured in People Magazine\, Shaman Durek’s work has been recognized globally by major publications such as\, Vanity Fair\, The New York Times\, Elle\, Marie Claire\, The Los Angeles Times\, The Evening Standard\, You Magazine\, Good Morning America\, This Morning\, etc. \nHe has a recurring role on the nationwide CBS television show\, ‘The Doctors\,’ where he aids guests in overcoming challenges that are impacting the connection between their emotional/physical well-being. He has also been featured on prominent health and wellness podcasts–Bulletproof Radio\, Life Stylist\, Expanded\, and Goop Fellas. \nShaman Durek’s online ‘The Shaman School\,’ and widely popular ‘The Healing Temple‘\, and ‘Ancient Wisdom Today\,’ have been instrumental in benefiting participants tap into their personal power\, while unblocking negative patterns that prevent them from reaching their optimal human performance.
URL:https://ramayogainstitute.com/event/rising-possibility-meditation-with-shaman-durek/
LOCATION:Online
CATEGORIES:In Person,Pay Per View Workshops
ATTACH;FMTTYPE=image/jpeg:https://ramayogainstitute.com/wp-content/uploads/2023/05/Shaman-Durek.jpg
END:VEVENT
BEGIN:VEVENT
DTSTART;TZID=America/Los_Angeles:20230507T180000
DTEND;TZID=America/Los_Angeles:20230507T200000
DTSTAMP:20260423T104546
CREATED:20230428T134602Z
LAST-MODIFIED:20230502T194413Z
UID:1794881-1683482400-1683489600@ramayogainstitute.com
SUMMARY:The Golden Shield | Technology of the Radiant Body
DESCRIPTION:Join Here\nTune In\nJoin Desirée Pais\, founder of Benshen.co\, for a workshop on the The Golden Shield: The Radiant Body. With an understanding and activation of the Radiant Body\, the Tenth Body\, we can begin to attract all that we desire. Also known as The Golden Shield\, the Radiant Body also repels anything that is not meant for us\, which means we can draw to us what we want faster by repelling the things and experiences that are not truly meant for us. Kundalini Yoga + Meditation helps to unlock the radiance of the Tenth Body and with that radiance\, everything we desire can come and find us. \n 
URL:https://ramayogainstitute.com/event/the-golden-shield-technology-of-the-radiant-body-2/
LOCATION:Online
CATEGORIES:Courses & Events,In Person,Pay Per View Workshops
ATTACH;FMTTYPE=image/jpeg:https://ramayogainstitute.com/wp-content/uploads/2023/04/RAMA_TheGoldenShield_DesireePais.jpg
END:VEVENT
BEGIN:VEVENT
DTSTART;TZID=America/Los_Angeles:20230513T180000
DTEND;TZID=America/Los_Angeles:20230513T200000
DTSTAMP:20260423T104546
CREATED:20230509T175435Z
LAST-MODIFIED:20230511T223427Z
UID:1797634-1684000800-1684008000@ramayogainstitute.com
SUMMARY:Energy Sourcing Workshop with Shaman Durek
DESCRIPTION:SIGN UP\nTUNE IN\n \nEnergy Sourcing Workshop with Shaman Durek\nHow would it feel to you to experience a rise out of your current life circumstances into a higher state of joy and possibility? This meditation will open you to shift to a higher state where you can access new potential in your life. Come meditate with Shaman Durek for a quantum reset where you will discover your Self in a whole new way. \n \nAbout Shaman Durek\nShaman Durek is a 6th generation shaman\, and author of the best seller\, ‘Spirit Hacking: Shamanic Keys to Reclaim Your Personal Power\, Transform Yourself\, and Light Up the World.’ \nHe is a visionary for the ‘Now Age\,’ with a strong focus on the evolution of humanity\, while also simplifying our experience through common sense practices. Shaman Durek has studied extensively\, extracting the best from all the world philosophies\, religions\, spiritual teachings\, and theories. Through his no nonsense teachings\, he demystifies spirituality by making it attainable and understandable for not only the layman\, but also for the more spiritually advanced\, and everyone in between. \nHis teachings have impacted thousands\, ranging from diverse public figures like Nina Dobrev and Gwyneth Paltrow\, to tech giants like Dave Asprey of Bulletproof Coffee. Known as the first ‘spirit shaman’ to be featured in People Magazine\, Shaman Durek’s work has been recognized globally by major publications such as\, Vanity Fair\, The New York Times\, Elle\, Marie Claire\, The Los Angeles Times\, The Evening Standard\, You Magazine\, Good Morning America\, This Morning\, etc. \nHe has a recurring role on the nationwide CBS television show\, ‘The Doctors\,’ where he aids guests in overcoming challenges that are impacting the connection between their emotional/physical well-being. He has also been featured on prominent health and wellness podcasts–Bulletproof Radio\, Life Stylist\, Expanded\, and Goop Fellas. \nShaman Durek’s online ‘The Shaman School\,’ and widely popular ‘The Healing Temple‘\, and ‘Ancient Wisdom Today\,’ have been instrumental in benefiting participants tap into their personal power\, while unblocking negative patterns that prevent them from reaching their optimal human performance.
URL:https://ramayogainstitute.com/event/energy-sourcing-workshop-with-shaman-durek/
LOCATION:Online
CATEGORIES:In Person,Pay Per View Workshops
ATTACH;FMTTYPE=image/jpeg:https://ramayogainstitute.com/wp-content/uploads/2019/04/ShamanDurek_Kundalini_Header.jpg
END:VEVENT
BEGIN:VEVENT
DTSTART;TZID=America/Los_Angeles:20230519T193000
DTEND;TZID=America/Los_Angeles:20230519T210000
DTSTAMP:20260423T104546
CREATED:20230513T031223Z
LAST-MODIFIED:20230519T003552Z
UID:1798811-1684524600-1684530000@ramayogainstitute.com
SUMMARY:New Moon Nidra: Creative Visionary Portal
DESCRIPTION:SIGN UP\nTUNE IN\nNew Moon Nidra\nCreative Visionary Portal with Artist Kim Krans\n7:30pm – 9:00pm PDT\nVirtually on RA MA TV\nIn Person @ RA MA Los Angeles\n$33 \nWelcome to the sacred realm of yoga nidra – the threshold between waking and dreaming. Nidra is the home of creativity unbound\, where answers and new visions reveal themselves in the dark. Through effortless awareness we reach the subtle center\, where the forces of creativity and healing await. \nJoin visionary artist Kim Krans as she leads us into the liminal realm this new moon\, May 19. \nPlease note: most of the practice will be experienced lying down. Please wear cozy clothes\, bring a favorite blanket or pillow\, notebook\, and pen. \n 
URL:https://ramayogainstitute.com/event/new-moon-nidra/
LOCATION:Online
CATEGORIES:In Person,Pay Per View Workshops
ATTACH;FMTTYPE=image/jpeg:https://ramayogainstitute.com/wp-content/uploads/2023/05/NewMoon_KimKrans_Header.jpg
END:VEVENT
BEGIN:VEVENT
DTSTART;TZID=America/Los_Angeles:20230520T090000
DTEND;TZID=America/Los_Angeles:20230520T180000
DTSTAMP:20260423T104546
CREATED:20230511T051443Z
LAST-MODIFIED:20230511T054457Z
UID:1798447-1684573200-1684605600@ramayogainstitute.com
SUMMARY:Change your Frequency Change your Life
DESCRIPTION:SIGN UP\nTUNE IN\n\n\nARE YOU READY TO TUNE YOUR SIGNAL TO BECOME AND ATTRACT THAT WHICH YOU TRULY DESIRE? \n\n\n\n\nEnergy is the baseline for our entire reality. You are\, at the most basic level\, energy. All energy vibrates at a specific frequency\, and that frequency determines what you experience in your life. The rate at which you vibrate determines your physical health\, your capacity for wealth\, and your emotional state– your happiness. It is the way you experience yourself. It is the signal that you send out into the world to magnetically attract your highest caliber life experience. \nThis is why\, when you change your frequency\, you change your life. You can make changes to your life\, your habits\, even your thoughts\, but if you don’t address the root\, your frequency\, you’ll find yourself repeating the same patterns in different forms. \nStart with your frequency\, and change everything from the inside out. \nAs Yogis we understand that frequency is the nature of reality. Begin your year of Health\, Wealth\, and Happiness by tuning your energy to a frequency that is in alignment with all that you are desiring to be\, create\, and experience. \nSaturday\, May 20\, 2023\n9:00am – 6:00pm PDT \nIn Person at RA MA Los Angeles\nVirtually on RA MA TV with Infinite Replay \nPrice: $199 pre-registration\, $249 day-of
URL:https://ramayogainstitute.com/event/change-your-frequency-change-your-life/
LOCATION:Online
CATEGORIES:Courses & Events,In Person
ATTACH;FMTTYPE=image/jpeg:https://ramayogainstitute.com/wp-content/uploads/2023/05/ImmenseGrace_Kundalini_Harijiwan_MAndev_Shabad_Header.jpg
END:VEVENT
BEGIN:VEVENT
DTSTART;TZID=America/Los_Angeles:20230520T190000
DTEND;TZID=America/Los_Angeles:20230520T210000
DTSTAMP:20260423T104546
CREATED:20230515T062001Z
LAST-MODIFIED:20230519T224225Z
UID:1799154-1684609200-1684616400@ramayogainstitute.com
SUMMARY:Traveling into the Heart with Shaman Durek
DESCRIPTION:SIGN UP\nTUNE IN\nTraveling into the Heart with Shaman Durek\nIn this workshop with Shaman Durek\, you will explore the dimensions of the heart. Discover how you can use the powerful energy center to create and to heal yourself and others. \nIn this course\, you will:\nFind out the color gateways of the heart\nFind what is around the heart energetically and how to clear it\nFind and connect to your heart spirit\nPrice: $75 \nIn Person at RA MA Los Angeles\nVirtually on RA MA TV \n*Your purchase is non-transferrable and non-refundable. \nAbout Shaman Durek\nShaman Durek is a 6th generation shaman\, and author of the best seller\, ‘Spirit Hacking: Shamanic Keys to Reclaim Your Personal Power\, Transform Yourself\, and Light Up the World.’ \nHe is a visionary for the ‘Now Age\,’ with a strong focus on the evolution of humanity\, while also simplifying our experience through common sense practices. Shaman Durek has studied extensively\, extracting the best from all the world philosophies\, religions\, spiritual teachings\, and theories. Through his no nonsense teachings\, he demystifies spirituality by making it attainable and understandable for not only the layman\, but also for the more spiritually advanced\, and everyone in between. \nHis teachings have impacted thousands\, ranging from diverse public figures like Nina Dobrev and Gwyneth Paltrow\, to tech giants like Dave Asprey of Bulletproof Coffee. Known as the first ‘spirit shaman’ to be featured in People Magazine\, Shaman Durek’s work has been recognized globally by major publications such as\, Vanity Fair\, The New York Times\, Elle\, Marie Claire\, The Los Angeles Times\, The Evening Standard\, You Magazine\, Good Morning America\, This Morning\, etc. \nHe has a recurring role on the nationwide CBS television show\, ‘The Doctors\,’ where he aids guests in overcoming challenges that are impacting the connection between their emotional/physical well-being. He has also been featured on prominent health and wellness podcasts–Bulletproof Radio\, Life Stylist\, Expanded\, and Goop Fellas. \nShaman Durek’s online ‘The Shaman School\,’ and widely popular ‘The Healing Temple‘\, and ‘Ancient Wisdom Today\,’ have been instrumental in benefiting participants tap into their personal power\, while unblocking negative patterns that prevent them from reaching their optimal human performance.
URL:https://ramayogainstitute.com/event/traveling-into-the-heart-with-shaman-durek/
LOCATION:Online
CATEGORIES:In Person,Pay Per View Workshops
ATTACH;FMTTYPE=image/jpeg:https://ramayogainstitute.com/wp-content/uploads/2019/04/Shaman-Durek-Into-the-Heart.jpg
END:VEVENT
BEGIN:VEVENT
DTSTART;TZID=America/Los_Angeles:20230528T130000
DTEND;TZID=America/Los_Angeles:20230528T150000
DTSTAMP:20260423T104546
CREATED:20230520T164953Z
LAST-MODIFIED:20230526T035237Z
UID:1801340-1685278800-1685286000@ramayogainstitute.com
SUMMARY:10th Day Of The Moon with Harijiwan
DESCRIPTION:SIGN UP\nTUNE IN\nKundalini Yoga\, Meditation\, Breathwork\, and Mantra\nAppropriate for all levels of experience.\n\nWhen you align your practice with the lunar calendar\, it gives you a deeper experience of clarity and fulfillment.\n\nSunday May 28\, 2023\n1:00pm-3:00pm PDT\n\n$50/advance\, $55/day of\n\nIn-person at RA MA Los Angeles and virtually on RA MA TV Live.\n*in-person only* does not include virtual access.\n 
URL:https://ramayogainstitute.com/event/10th-day-of-the-moon-with-harijiwan-2/
LOCATION:Online
CATEGORIES:In Person,Pay Per View Workshops
ATTACH;FMTTYPE=image/jpeg:https://ramayogainstitute.com/wp-content/uploads/2023/04/Harijiwan-Blue-Gong.jpg
END:VEVENT
BEGIN:VEVENT
DTSTART;TZID=America/Los_Angeles:20230529T103000
DTEND;TZID=America/Los_Angeles:20230529T120000
DTSTAMP:20260423T104546
CREATED:20230523T160017Z
LAST-MODIFIED:20230526T040714Z
UID:1801826-1685356200-1685361600@ramayogainstitute.com
SUMMARY:Memorial Day with Harijiwan
DESCRIPTION:SIGN UP\nTUNE IN \n*TV Live Members Tune In Here \nMemorial Day Class with Harijiwan\n10:30am – 12:00pm\nVirtually on RA MA TV\nIn Person @ RA MA Los Angeles\n$22 Drop In\, *Included for TV Live Members\n\nHarijiwan has been teaching Kundalini Yoga since 1975. He is the founder of the GRAMMY®-Award-Winning band\, White Sun. With over 44 years of experience in the science of Kundalini Yoga\, Harijiwan incorporates a vast knowledge of various methodologies and training into his practice. Today\, and throughout his years as a teacher and healer\, Harijiwan remains committed to expanding his knowledge and experience to provide his students with the most progressive\, effective\, self-empowering approaches that increase overall joy and wholeness within the context of everyday experiences.\n\n@harijiwan\n 
URL:https://ramayogainstitute.com/event/memorial-day-harijiwan/
LOCATION:Online
CATEGORIES:In Person,Pay Per View Workshops,RA MA TV Live
ATTACH;FMTTYPE=image/jpeg:https://ramayogainstitute.com/wp-content/uploads/2022/10/Esoterics-of-Kundalini-II-with-Harijiwan-Mandev.jpg
END:VEVENT
END:VCALENDAR