BEGIN:VCALENDAR
VERSION:2.0
PRODID:-//RA MA LIFE - ECPv6.15.15//NONSGML v1.0//EN
CALSCALE:GREGORIAN
METHOD:PUBLISH
X-ORIGINAL-URL:https://ramayogainstitute.com
X-WR-CALDESC:Events for RA MA LIFE
REFRESH-INTERVAL;VALUE=DURATION:PT1H
X-Robots-Tag:noindex
X-PUBLISHED-TTL:PT1H
BEGIN:VTIMEZONE
TZID:America/Los_Angeles
BEGIN:DAYLIGHT
TZOFFSETFROM:-0800
TZOFFSETTO:-0700
TZNAME:PDT
DTSTART:20220313T100000
END:DAYLIGHT
BEGIN:STANDARD
TZOFFSETFROM:-0700
TZOFFSETTO:-0800
TZNAME:PST
DTSTART:20221106T090000
END:STANDARD
BEGIN:DAYLIGHT
TZOFFSETFROM:-0800
TZOFFSETTO:-0700
TZNAME:PDT
DTSTART:20230312T100000
END:DAYLIGHT
BEGIN:STANDARD
TZOFFSETFROM:-0700
TZOFFSETTO:-0800
TZNAME:PST
DTSTART:20231105T090000
END:STANDARD
BEGIN:DAYLIGHT
TZOFFSETFROM:-0800
TZOFFSETTO:-0700
TZNAME:PDT
DTSTART:20240310T100000
END:DAYLIGHT
BEGIN:STANDARD
TZOFFSETFROM:-0700
TZOFFSETTO:-0800
TZNAME:PST
DTSTART:20241103T090000
END:STANDARD
END:VTIMEZONE
BEGIN:VEVENT
DTSTART;TZID=America/Los_Angeles:20230218T090000
DTEND;TZID=America/Los_Angeles:20230218T180000
DTSTAMP:20260423T160804
CREATED:20230206T170821Z
LAST-MODIFIED:20230209T002024Z
UID:1771514-1676710800-1676743200@ramayogainstitute.com
SUMMARY:Immense Grace: Intuition
DESCRIPTION:SIGN UP\nIN PERSON\nIntuition is your higher guidance system that draws on the information of the universe operating optimally as a whole. Without intuition\, your perspective\, thoughts\, and decisions are based on information that is limited by what you can see and observe with your physical senses. \nIntuition is connected to the wisdom and magic of our interconnected Universe\, and feeds you guidance that leads you to the most fulfilling\, successful\, and purpose-filled life far beyond your logical conception. \nLive from RA MA Los Angeles & Virtually on RA MA TV.
URL:https://ramayogainstitute.com/event/intuition-2-18-2023/
LOCATION:Online
CATEGORIES:Courses & Events,In Person
ATTACH;FMTTYPE=image/jpeg:https://ramayogainstitute.com/wp-content/uploads/2023/02/rama-intuition-hero-banner-mandev.jpg
END:VEVENT
END:VCALENDAR