BEGIN:VCALENDAR
VERSION:2.0
PRODID:-//RA MA LIFE - ECPv6.15.15//NONSGML v1.0//EN
CALSCALE:GREGORIAN
METHOD:PUBLISH
X-WR-CALNAME:RA MA LIFE
X-ORIGINAL-URL:https://ramayogainstitute.com
X-WR-CALDESC:Events for RA MA LIFE
REFRESH-INTERVAL;VALUE=DURATION:PT1H
X-Robots-Tag:noindex
X-PUBLISHED-TTL:PT1H
BEGIN:VTIMEZONE
TZID:America/Los_Angeles
BEGIN:DAYLIGHT
TZOFFSETFROM:-0800
TZOFFSETTO:-0700
TZNAME:PDT
DTSTART:20210314T100000
END:DAYLIGHT
BEGIN:STANDARD
TZOFFSETFROM:-0700
TZOFFSETTO:-0800
TZNAME:PST
DTSTART:20211107T090000
END:STANDARD
BEGIN:DAYLIGHT
TZOFFSETFROM:-0800
TZOFFSETTO:-0700
TZNAME:PDT
DTSTART:20220313T100000
END:DAYLIGHT
BEGIN:STANDARD
TZOFFSETFROM:-0700
TZOFFSETTO:-0800
TZNAME:PST
DTSTART:20221106T090000
END:STANDARD
BEGIN:DAYLIGHT
TZOFFSETFROM:-0800
TZOFFSETTO:-0700
TZNAME:PDT
DTSTART:20230312T100000
END:DAYLIGHT
BEGIN:STANDARD
TZOFFSETFROM:-0700
TZOFFSETTO:-0800
TZNAME:PST
DTSTART:20231105T090000
END:STANDARD
BEGIN:DAYLIGHT
TZOFFSETFROM:-0800
TZOFFSETTO:-0700
TZNAME:PDT
DTSTART:20240310T100000
END:DAYLIGHT
BEGIN:STANDARD
TZOFFSETFROM:-0700
TZOFFSETTO:-0800
TZNAME:PST
DTSTART:20241103T090000
END:STANDARD
END:VTIMEZONE
BEGIN:VEVENT
DTSTART;TZID=America/Los_Angeles:20221231T190000
DTEND;TZID=America/Los_Angeles:20230101T003000
DTSTAMP:20260423T180517
CREATED:20221221T042815Z
LAST-MODIFIED:20221221T042816Z
UID:1759759-1672513200-1672533000@ramayogainstitute.com
SUMMARY:New Year's Eve 2023
DESCRIPTION:SIGN UP  \nBring in the New Year with high frequency energy.\nFeaturing Harijiwan\, Tej\, Gurujas\,  Mandev\, Shabadpreet\nwith White Sun and more special guests. \n 
URL:https://ramayogainstitute.com/event/new-years-eve-2023/
LOCATION:Online
CATEGORIES:Courses & Events,In Person
ATTACH;FMTTYPE=image/jpeg:https://ramayogainstitute.com/wp-content/uploads/2020/12/RAMA_NewYearsEve3.jpg
END:VEVENT
BEGIN:VEVENT
DTSTART;TZID=America/Los_Angeles:20230101T103000
DTEND;TZID=America/Los_Angeles:20230101T120000
DTSTAMP:20260423T180517
CREATED:20221224T211909Z
LAST-MODIFIED:20221224T211910Z
UID:1760457-1672569000-1672574400@ramayogainstitute.com
SUMMARY:New Years Day with Harijiwan
DESCRIPTION:TUNE IN on RA MA TV LIVE \nNot a TV Live member? Drop In Here. \nJoin Harijiwan for a special Kundalini Yoga & Meditation class on New Years Day. \nHarijiwan has been teaching Kundalini Yoga since 1975. He is the founder of the GRAMMY®-Award-Winning band\, White Sun. With over 44 years of experience in the science of Kundalini Yoga\, Harijiwan incorporates a vast knowledge of various methodologies and training into his practice. Today\, and throughout his years as a teacher and healer\, Harijiwan remains committed to expanding his knowledge and experience to provide his students with the most progressive\, effective\, self-empowering approaches that increase overall joy and wholeness within the context of everyday experiences.
URL:https://ramayogainstitute.com/event/new-years-day-with-harijiwan-2/
LOCATION:Online
CATEGORIES:In Person,Pay Per View Workshops,RA MA TV Live
ATTACH;FMTTYPE=image/jpeg:https://ramayogainstitute.com/wp-content/uploads/2022/09/Harijiwan-by-Santosh-Beach-Workshop-Thursday-April-21-2022-2_Chase-Edit.jpg
END:VEVENT
BEGIN:VEVENT
DTSTART;TZID=America/Los_Angeles:20230102T190000
DTEND;TZID=America/Los_Angeles:20230102T210000
DTSTAMP:20260423T180517
CREATED:20221231T203012Z
LAST-MODIFIED:20221231T203013Z
UID:1761774-1672686000-1672693200@ramayogainstitute.com
SUMMARY:11th Day of the Moon with Harijiwan
DESCRIPTION:SIGN UP \nWhen you align your practice with the lunar calendar\, it gives you a deeper experience of clarity and fulfillment. Practice with us in-person or virtually on these power days. \nKundalini Yoga\, Meditation\, & Gong Workshop \nVirtually on RA MA TV + Infinite Replay \n$50 In Advance\, $55 Day of \nHarijiwan has been teaching Kundalini Yoga since 1975. He is the founder of the GRAMMY®-Award-Winning band\, White Sun. With over 44 years of experience in the science of Kundalini Yoga\, Harijiwan incorporates a vast knowledge of various methodologies and training into his practice. Today\, and throughout his years as a teacher and healer\, Harijiwan remains committed to expanding his knowledge and experience to provide his students with the most progressive\, effective\, self-empowering approaches that increase overall joy and wholeness within the context of everyday experiences. \n 
URL:https://ramayogainstitute.com/event/11th-day-of-the-moon-with-harijiwan/
LOCATION:Online
CATEGORIES:In Person,Pay Per View Workshops
ATTACH;FMTTYPE=image/jpeg:https://ramayogainstitute.com/wp-content/uploads/2022/12/L1050856_Harijiwan-RA-MA-TV.jpg
END:VEVENT
BEGIN:VEVENT
DTSTART;TZID=America/Los_Angeles:20230105T170000
DTEND;TZID=America/Los_Angeles:20230105T180000
DTSTAMP:20260423T180517
CREATED:20230104T103055Z
LAST-MODIFIED:20230104T103056Z
UID:1762862-1672938000-1672941600@ramayogainstitute.com
SUMMARY:Q&A Kundalini Training: The Art & Science of Teaching
DESCRIPTION:RSVP \nJoin Harijiwan for a live complimentary Q&A Zoom call to learn more about the upcoming Kundalini Training. \nBring your questions or come to listen. \nKundalini Training: The Art & Science of Teaching\nIn-Person at RA MA New York and Virtually around the world taking place\nSunday\, January 15 – Thursday 19\, 2023
URL:https://ramayogainstitute.com/event/qa-kundalini-training-the-art-science-of-teaching/
LOCATION:Online on Zoom
CATEGORIES:Courses & Events
ATTACH;FMTTYPE=image/jpeg:https://ramayogainstitute.com/wp-content/uploads/2023/01/KT-Art-Science-of-Teaching.jpg
END:VEVENT
BEGIN:VEVENT
DTSTART;TZID=America/Los_Angeles:20230106T170000
DTEND;TZID=America/Los_Angeles:20230106T190000
DTSTAMP:20260423T180517
CREATED:20230104T101508Z
LAST-MODIFIED:20230104T225835Z
UID:1762847-1673024400-1673031600@ramayogainstitute.com
SUMMARY:Full Moon in Cancer with Harijiwan
DESCRIPTION:SIGN UP\nTUNE IN\nKundalini Yoga\, Meditation & Gong Workshop \nHarijiwan has been teaching Kundalini Yoga since 1975. He is the founder of the GRAMMY®-Award-Winning band\, White Sun. With over 44 years of experience in the science of Kundalini Yoga\, Harijiwan incorporates a vast knowledge of various methodologies and training into his practice. Today\, and throughout his years as a teacher and healer\, Harijiwan remains committed to expanding his knowledge and experience to provide his students with the most progressive\, effective\, self-empowering approaches that increase overall joy and wholeness within the context of everyday experiences.
URL:https://ramayogainstitute.com/event/full-moon-in-cancer-with-harijiwan/
LOCATION:Online
CATEGORIES:In Person,Pay Per View Workshops
ATTACH;FMTTYPE=image/jpeg:https://ramayogainstitute.com/wp-content/uploads/2022/12/L1050856_Harijiwan-RA-MA-TV.jpg
END:VEVENT
BEGIN:VEVENT
DTSTART;TZID=America/Los_Angeles:20230113T160000
DTEND;TZID=America/Los_Angeles:20230113T180000
DTSTAMP:20260423T180517
CREATED:20230106T012854Z
LAST-MODIFIED:20230113T054105Z
UID:1763815-1673625600-1673632800@ramayogainstitute.com
SUMMARY:RA MA New York Winter Residency: Opening Night with Harijiwan & Mandev
DESCRIPTION:SIGN UP\nTUNE IN\nVirtually on RA MA TV with Infinite Replay\nor In Person at RA MA New York \nHarijiwan has been teaching Kundalini Yoga since 1975. He is the founder of the GRAMMY®-Award-Winning band\, White Sun. With over 44 years of experience in the science of Kundalini Yoga\, Harijiwan incorporates a vast knowledge of various methodologies and training into his practice. Today\, and throughout his years as a teacher and healer\, Harijiwan remains committed to expanding his knowledge and experience to provide his students with the most progressive\, effective\, self-empowering approaches that increase overall joy and wholeness within the context of everyday experiences. \nMandev Khalsa is an award-winning filmmaker and creator of My Moon Map™. For years\, Mandev has deeply researched esoteric energetic structures in yogic teachings to discover energy and power. Mandev’s classes at RA MA Institute focus on removing blocks\, installing prosperity patterns\, weaving celestial sound codes\, karma clearing\, third eye-opening\, mind crystallizing\, heart opening\, soul downloading. \nMandev leads a complimentary virtual global women’s community: The Inner Moon Circle\, inviting women to discover new realms of their inner and outer world as their sensitivity and awareness of their cosmic nature as a woman expands.
URL:https://ramayogainstitute.com/event/kundalini-yoga-meditation-gong-with-harijiwan-mandev/
LOCATION:RA MA New York & Online
CATEGORIES:In Person,Pay Per View Workshops
ATTACH;FMTTYPE=image/jpeg:https://ramayogainstitute.com/wp-content/uploads/2023/01/NYOpeningNightHarijiwanMandev.jpg
END:VEVENT
BEGIN:VEVENT
DTSTART;TZID=America/Los_Angeles:20230114T060000
DTEND;TZID=America/Los_Angeles:20230114T150000
DTSTAMP:20260423T180517
CREATED:20230105T054926Z
LAST-MODIFIED:20230105T055224Z
UID:1763349-1673676000-1673708400@ramayogainstitute.com
SUMMARY:Immense Grace Presents: Relay Arts
DESCRIPTION:SIGN UP\nExperience Higher Love with Harijiwan\, Mandev\, & Shabadpreet \n\n\n\nLove is the most powerful force on the planet and successful relationships are what make human life so deeply meaningful. In the yogic science\, relationship is considered the highest yoga\, making it the most rapid path toward evolution\, growth\, transformation\, and deep fulfillment. \nTo experience successful relationships\, certain simple conditions have to be met. Learn and experience subtle yet profound yogic teachings to create\, maintain\, and nurture all of your relationships\, so that you can experience the profound\, magical\, and all-powerful force of higher love in your everyday life. \n\n\n\n 
URL:https://ramayogainstitute.com/event/immense-grace-presents-relay-arts/
LOCATION:RA MA New York & Online
CATEGORIES:Courses & Events,In Person
ATTACH;FMTTYPE=image/jpeg:https://ramayogainstitute.com/wp-content/uploads/2023/01/Immense-Grace-Relay-Arts-Higher-Love.jpg
END:VEVENT
BEGIN:VEVENT
DTSTART;TZID=America/Los_Angeles:20230115T060000
DTEND;TZID=America/Los_Angeles:20230115T150000
DTSTAMP:20260423T180517
CREATED:20230105T055624Z
LAST-MODIFIED:20230105T055626Z
UID:1763359-1673762400-1673794800@ramayogainstitute.com
SUMMARY:Kundalini Training: The Art & Science of Teaching
DESCRIPTION:SIGN UP\n\nwith Harijiwan\, Mandev\, & Shabadpreet \n\n\n\nAre you ready to become a Kundalini Yoga teacher?\nKundalini Yoga is a science. Teaching Kundalini Yoga is an art. \n\n\n\n\n\nIn this 5-day training\, you will learn both practical and advanced concepts on how to teach a Kundalini Yoga class or workshop. The Art & Science of Teaching is a lifelong\, constantly evolving exploration.\nIt begins with you.  \nJust as every painter\, every dancer\, every actor has their own artistic expression\, every teacher is unique.  Your life experiences\, your personality\, your mind\, and your understanding of the key concepts shape your depth as a teacher. 
URL:https://ramayogainstitute.com/event/kundalini-training-the-art-science-of-teaching/2023-01-15/
LOCATION:RA MA New York & Online
CATEGORIES:Courses & Events,In Person
ATTACH;FMTTYPE=image/jpeg:https://ramayogainstitute.com/wp-content/uploads/2023/01/KT-Art-Science-of-Teaching.jpg
END:VEVENT
BEGIN:VEVENT
DTSTART;TZID=America/Los_Angeles:20230121T080000
DTEND;TZID=America/Los_Angeles:20230121T100000
DTSTAMP:20260423T180517
CREATED:20230110T230141Z
LAST-MODIFIED:20230118T032139Z
UID:1765076-1674288000-1674295200@ramayogainstitute.com
SUMMARY:New Moon in Aquarius with Harijiwan
DESCRIPTION:SIGN UP\nTUNE IN \nA Kundalini Yoga\, Meditation & Gong Workshop \nHarijiwan has been teaching Kundalini Yoga since 1975. He is the founder of the GRAMMY®-Award-Winning band\, White Sun. With over 44 years of experience in the science of Kundalini Yoga\, Harijiwan incorporates a vast knowledge of various methodologies and training into his practice. Today\, and throughout his years as a teacher and healer\, Harijiwan remains committed to expanding his knowledge and experience to provide his students with the most progressive\, effective\, self-empowering approaches that increase overall joy and wholeness within the context of everyday experiences.
URL:https://ramayogainstitute.com/event/new-moon-in-aquarius-with-harijiwan/
LOCATION:RA MA New York & Online
CATEGORIES:In Person,Pay Per View Workshops
ATTACH;FMTTYPE=image/jpeg:https://ramayogainstitute.com/wp-content/uploads/2022/12/L1070341_Harijiwan-JPG.jpg
END:VEVENT
BEGIN:VEVENT
DTSTART;TZID=America/Los_Angeles:20230121T110000
DTEND;TZID=America/Los_Angeles:20230121T130000
DTSTAMP:20260423T180517
CREATED:20230116T234244Z
LAST-MODIFIED:20230118T031712Z
UID:1766376-1674298800-1674306000@ramayogainstitute.com
SUMMARY:The One Day Cleanse
DESCRIPTION:SIGN UP\nTUNE IN\nA Supermoon Reset that guides you through a day-long gentle yogic cleanse protocol & detoxifying workshop with Gurujas \nVirtually on RA MA TV & In Person @ RA MA Los Angeles\, 1729 21st St\, Santa Monica\, CA 90404 \nWhat to Expect:\nA guided day-long gentle cleanse protocol with an invigorating\, detoxifying workshop led by Gurujas. From rising until resting\, you will follow a simple protocol for nourishment\, leading your system to restore healing\, optimal functioning\,  and ten body radiance. \nFull list of ingredients and schedule for the cleanse day will be provided after checkout.  \n 
URL:https://ramayogainstitute.com/event/the-one-day-cleanse-gurujas/
LOCATION:Online
CATEGORIES:In Person,Pay Per View Workshops
ATTACH;FMTTYPE=image/jpeg:https://ramayogainstitute.com/wp-content/uploads/2023/01/Gurujas-One-Day-Cleanse-New-Moon.jpg
END:VEVENT
BEGIN:VEVENT
DTSTART;TZID=America/Los_Angeles:20230122T150000
DTEND;TZID=America/Los_Angeles:20230122T160000
DTSTAMP:20260423T180517
CREATED:20230110T231034Z
LAST-MODIFIED:20230110T232502Z
UID:1765078-1674399600-1674403200@ramayogainstitute.com
SUMMARY:Lunar New Year: The Black Water Rabbit with Anjie Cho
DESCRIPTION:SIGN UP \nExpand Your Qi in 2023: the Year of the Black Water Rabbit\n\nLunar New Year is Jan 22 this year\, the second new Moon after the winter solstice. Create and amplify your intentions for the Year of the Black Water Rabbit with feng shui.\n\nLearn about\n– Your Chinese Zodiac animal for the Year of the Black Water Rabbit\, including what to expect in 2023\, and your most powerful months and hours\n– Unlock and amplify your home’s mandala with the art of feng shui placement\n– Strategic intention setting using the feng shui bagua mandala\n– A guided meditation to visualize healing and prosperityABOUT ANJIE:\nAnjie is the owner of Anjie Cho Architect\, co-founder of the Mindful Design Feng Shui School\, and founder of Holistic Spaces which hosts a blog\, podcast and online store. Anjie is also a teacher of dharma arts and meditation in the Shambhala Buddhist lineage. She’s the feng shui expert at The Spruce\, a regular blog contributor to MindBodyGreen and has been featured in dozens of publications including: the New York Times\, Domino Magazine and BuzzFeed.
URL:https://ramayogainstitute.com/event/lunar-new-year-feng-shui-with-anjie-cho/
LOCATION:Online on Zoom
CATEGORIES:Pay Per View Workshops
ATTACH;FMTTYPE=image/jpeg:https://ramayogainstitute.com/wp-content/uploads/2022/11/Anjie-Cho.jpg
END:VEVENT
BEGIN:VEVENT
DTSTART;TZID=America/Los_Angeles:20230127T183000
DTEND;TZID=America/Los_Angeles:20230127T203000
DTSTAMP:20260423T180517
CREATED:20230120T003810Z
LAST-MODIFIED:20230120T004818Z
UID:1767834-1674844200-1674851400@ramayogainstitute.com
SUMMARY:Using Imagination to Cross into the Spiritual World
DESCRIPTION:SIGN UP\nA Shamanic Experience with Shaman Durek\nIn this session\, you will: \n\nUnderstand what Imagination is and how it operates in shamanic awareness\nLearn why kids are more perceptive than adults and how to recover that ability\nLearn the art of spirit seeing through your inner child.\nEngage spiritual beings through your theta awareness\nConnect to energy differently than what is taught in the western world\n\n 
URL:https://ramayogainstitute.com/event/using-imagination-to-cross-into-the-spiritual-world-with-shaman-durek/
LOCATION:Online
CATEGORIES:In Person,Pay Per View Workshops
ATTACH;FMTTYPE=image/jpeg:https://ramayogainstitute.com/wp-content/uploads/2023/01/Shaman-Durek-Imagination.jpg
END:VEVENT
BEGIN:VEVENT
DTSTART;TZID=America/Los_Angeles:20230128T180000
DTEND;TZID=America/Los_Angeles:20230128T200000
DTSTAMP:20260423T180517
CREATED:20230124T032221Z
LAST-MODIFIED:20230124T032225Z
UID:1768703-1674928800-1674936000@ramayogainstitute.com
SUMMARY:Live Kirtan with Govind Das & Jacqueline
DESCRIPTION:SIGN UP \nTUNE IN \nKirtan is an ancient bhakti yoga practice using chanting\, mantra\, and music as an expression of our devotion and heartfelt prayer. \nExperience this live Kirtan presented by Bhakti Yoga Shala\, led and directed by husband-wife team Govind Das and Jacqueline\, who aim to spread the practice of bhakti around the world. At the Shala\, teachings of the great saint Neem Karoli Baba are followed\, who celebrated all Gods as one. Anyone and everyone is welcome\, and we are happy to serve you on your spiritual journey.
URL:https://ramayogainstitute.com/event/live-kirtan-with-govind-das-jacqueline/
LOCATION:Online
CATEGORIES:In Person,Pay Per View Workshops
ATTACH;FMTTYPE=image/jpeg:https://ramayogainstitute.com/wp-content/uploads/2023/01/govind-das-jaqueline-4.jpg
END:VEVENT
BEGIN:VEVENT
DTSTART;TZID=America/Los_Angeles:20230130T170000
DTEND;TZID=America/Los_Angeles:20230130T190000
DTSTAMP:20260423T180517
CREATED:20230125T040638Z
LAST-MODIFIED:20230130T045024Z
UID:1769085-1675098000-1675105200@ramayogainstitute.com
SUMMARY:10th Day of the Moon with Harijiwan
DESCRIPTION:SIGN UP\nTUNE IN\nKundalini Yoga\, Meditation & Gong Workshop \nVirtually on RA MA TV + Infinite Replay \nHarijiwan has been teaching Kundalini Yoga since 1975. He is the founder of the GRAMMY®-Award-Winning band\, White Sun. With over 44 years of experience in the science of Kundalini Yoga\, Harijiwan incorporates a vast knowledge of various methodologies and training into his practice. Today\, and throughout his years as a teacher and healer\, Harijiwan remains committed to expanding his knowledge and experience to provide his students with the most progressive\, effective\, self-empowering approaches that increase overall joy and wholeness within the context of everyday experiences.
URL:https://ramayogainstitute.com/event/10th-day-of-the-moon-with-harijiwan-01-24-2023/
LOCATION:Online
CATEGORIES:In Person,Pay Per View Workshops
ATTACH;FMTTYPE=image/jpeg:https://ramayogainstitute.com/wp-content/uploads/2022/12/L1050856_Harijiwan-RA-MA-TV.jpg
END:VEVENT
BEGIN:VEVENT
DTSTART;TZID=America/Los_Angeles:20230131T170000
DTEND;TZID=America/Los_Angeles:20230131T190000
DTSTAMP:20260423T180517
CREATED:20230125T041049Z
LAST-MODIFIED:20230130T050635Z
UID:1769089-1675184400-1675191600@ramayogainstitute.com
SUMMARY:11th Day of the Moon with Harijiwan
DESCRIPTION:SIGN UP\nTUNE IN\nKundalini Yoga\, Meditation & Gong Workshop \nVirtually on RA MA TV + Infinite Replay \nHarijiwan has been teaching Kundalini Yoga since 1975. He is the founder of the GRAMMY®-Award-Winning band\, White Sun. With over 44 years of experience in the science of Kundalini Yoga\, Harijiwan incorporates a vast knowledge of various methodologies and training into his practice. Today\, and throughout his years as a teacher and healer\, Harijiwan remains committed to expanding his knowledge and experience to provide his students with the most progressive\, effective\, self-empowering approaches that increase overall joy and wholeness within the context of everyday experiences.
URL:https://ramayogainstitute.com/event/11th-day-of-the-moon-with-harijiwan-01-31-2023/
LOCATION:Online
CATEGORIES:In Person,Pay Per View Workshops
ATTACH;FMTTYPE=image/jpeg:https://ramayogainstitute.com/wp-content/uploads/2022/12/L1050856_Harijiwan-RA-MA-TV.jpg
END:VEVENT
END:VCALENDAR