BEGIN:VCALENDAR
VERSION:2.0
PRODID:-//RA MA LIFE - ECPv6.15.15//NONSGML v1.0//EN
CALSCALE:GREGORIAN
METHOD:PUBLISH
X-ORIGINAL-URL:https://ramayogainstitute.com
X-WR-CALDESC:Events for RA MA LIFE
REFRESH-INTERVAL;VALUE=DURATION:PT1H
X-Robots-Tag:noindex
X-PUBLISHED-TTL:PT1H
BEGIN:VTIMEZONE
TZID:America/Los_Angeles
BEGIN:DAYLIGHT
TZOFFSETFROM:-0800
TZOFFSETTO:-0700
TZNAME:PDT
DTSTART:20210314T100000
END:DAYLIGHT
BEGIN:STANDARD
TZOFFSETFROM:-0700
TZOFFSETTO:-0800
TZNAME:PST
DTSTART:20211107T090000
END:STANDARD
BEGIN:DAYLIGHT
TZOFFSETFROM:-0800
TZOFFSETTO:-0700
TZNAME:PDT
DTSTART:20220313T100000
END:DAYLIGHT
BEGIN:STANDARD
TZOFFSETFROM:-0700
TZOFFSETTO:-0800
TZNAME:PST
DTSTART:20221106T090000
END:STANDARD
BEGIN:DAYLIGHT
TZOFFSETFROM:-0800
TZOFFSETTO:-0700
TZNAME:PDT
DTSTART:20230312T100000
END:DAYLIGHT
BEGIN:STANDARD
TZOFFSETFROM:-0700
TZOFFSETTO:-0800
TZNAME:PST
DTSTART:20231105T090000
END:STANDARD
BEGIN:DAYLIGHT
TZOFFSETFROM:-0800
TZOFFSETTO:-0700
TZNAME:PDT
DTSTART:20240310T100000
END:DAYLIGHT
BEGIN:STANDARD
TZOFFSETFROM:-0700
TZOFFSETTO:-0800
TZNAME:PST
DTSTART:20241103T090000
END:STANDARD
END:VTIMEZONE
BEGIN:VEVENT
DTSTART;TZID=America/Los_Angeles:20221210T090000
DTEND;TZID=America/Los_Angeles:20221210T180000
DTSTAMP:20260423T213223
CREATED:20221126T010349Z
LAST-MODIFIED:20221126T010350Z
UID:1753922-1670662800-1670695200@ramayogainstitute.com
SUMMARY:Immense Grace Presents: Applied Prosperity
DESCRIPTION:SIGN UP  \nImmense Grace Presents: Applied Prosperity\nMagnetize\, Vibrate\, and HOLD the Frequency of Prosperity\nwith Harijiwan\, Mandev\, Shabadpreet\, & Gurujas \nIn-person at RA MA Los Angeles\nVirtually on RA MA TV \nPrice:\n$199 pre-sale on or before Tuesday\, December 6\, 2022\n$249 after \n*Your purchase is non-transferable and non-refundable.
URL:https://ramayogainstitute.com/event/immense-grace-presents-applied-prosperity/
LOCATION:Online
CATEGORIES:Courses & Events,In Person
ATTACH;FMTTYPE=image/jpeg:https://ramayogainstitute.com/wp-content/uploads/2022/11/CampGraceIdyllwild2022021JW.jpg
END:VEVENT
BEGIN:VEVENT
DTSTART;TZID=America/Los_Angeles:20221216T130000
DTEND;TZID=America/Los_Angeles:20221216T150000
DTSTAMP:20260423T213223
CREATED:20231211T230340Z
LAST-MODIFIED:20231211T230340Z
UID:1879445-1671195600-1671202800@ramayogainstitute.com
SUMMARY:Vocal Lab: The Song of Fortune
DESCRIPTION:SIGN UP\nTUNE IN\n\nThe Song of Fortune: A Vocal Lab Workshop with Gurujas\nGet a glimpse into the Vocal Lab course experience in this workshop with Gurujas.\nFull course details for 2024 coming soon! \nSaturday\, December 16\, 2023\n1:00pm – 3:00pm PST\nIn-Person at RA MA Los Angeles\nVirtually on RA MA TV\n$50 in advance\, $55 day-of \nSound\, frequency\, and vibration are the most important elements of creation. It is sound that birthed creation into being\, including all life forms throughout time and space. It is frequency that determines the quality of consciousness these life forms hold\, and it is vibration that binds creation together or breaks it apart. \nIn the lower-vibrational age of Pisces\, the worlds of science and spirituality were considered separate. To those of higher consciousness however\, these two worlds are merged; music is math\, sound is science\, and vibration is life. The instrumentation we use to measure frequency shows us that sound broadcasts us into existence every nano-second. \nAs we sing the songs of fortune\, we can facilitate our own evolution and become conscious creators of our own existence\, rather than observers of a process outside of ourselves. It is in this way that the world becomes what it was always supposed to be: a civilization founded in love\, service\, and unity. \nJoin Gurujas to dive into these sound currents and bring these frequencies through yourself and to the world. \n\n  \nAbout Gurujas \n\n\n\nGurujas is a kundalini yoga teacher and a singer\, songwriter\, and musician. She has gained a worldwide reputation as the lead singer of White Sun\, a Grammy-award winning band\, and a Billboard #1 artist. Gurujas’ kundalini practice began in 2005\, when she met her teacher\, Harijiwan\, who is also the founder of White Sun.\n\nAs a kundalini yoga teacher\, she is known as being intensely devoted to the accuracy of the teachings\, as well as incorporating contemporary science and practical every-day applications. As a singer\, she is known for her distinctive vocals\, her ethereal live performances\, and her ability to heal through song. She spends her time creating music\, teaching kundalini yoga\, working with clients\, and raising her two young daughters.\n\n@gurujaskhalsa | @whitesunmusic
URL:https://ramayogainstitute.com/event/vocal-lab-the-song-of-fortune/
LOCATION:Online
CATEGORIES:Courses & Events,In Person,Pay Per View Workshops
ATTACH;FMTTYPE=image/jpeg:https://ramayogainstitute.com/wp-content/uploads/2023/12/VocalLab_Gurujas_Header2.jpg
END:VEVENT
BEGIN:VEVENT
DTSTART;TZID=America/Los_Angeles:20221221T030000
DTEND;TZID=America/Los_Angeles:20221221T190000
DTSTAMP:20260423T213223
CREATED:20221213T211108Z
LAST-MODIFIED:20221213T211139Z
UID:1758081-1671591600-1671649200@ramayogainstitute.com
SUMMARY:Winter Solstice 2022
DESCRIPTION:SIGN UP \nA Day-Long Festival Experience with Harijiwan\, Gurujas\, Mandev\, Shabadpreet\, and Special Guests
URL:https://ramayogainstitute.com/event/winter-solstice-2022/
LOCATION:Online
CATEGORIES:Courses & Events,In Person
ATTACH;FMTTYPE=image/jpeg:https://ramayogainstitute.com/wp-content/uploads/2022/12/Winter-Solstice.jpg
END:VEVENT
BEGIN:VEVENT
DTSTART;TZID=America/Los_Angeles:20221231T190000
DTEND;TZID=America/Los_Angeles:20230101T003000
DTSTAMP:20260423T213223
CREATED:20221221T042815Z
LAST-MODIFIED:20221221T042816Z
UID:1759759-1672513200-1672533000@ramayogainstitute.com
SUMMARY:New Year's Eve 2023
DESCRIPTION:SIGN UP  \nBring in the New Year with high frequency energy.\nFeaturing Harijiwan\, Tej\, Gurujas\,  Mandev\, Shabadpreet\nwith White Sun and more special guests. \n 
URL:https://ramayogainstitute.com/event/new-years-eve-2023/
LOCATION:Online
CATEGORIES:Courses & Events,In Person
ATTACH;FMTTYPE=image/jpeg:https://ramayogainstitute.com/wp-content/uploads/2020/12/RAMA_NewYearsEve3.jpg
END:VEVENT
END:VCALENDAR