BEGIN:VCALENDAR
VERSION:2.0
PRODID:-//RA MA LIFE - ECPv6.15.15//NONSGML v1.0//EN
CALSCALE:GREGORIAN
METHOD:PUBLISH
X-WR-CALNAME:RA MA LIFE
X-ORIGINAL-URL:https://ramayogainstitute.com
X-WR-CALDESC:Events for RA MA LIFE
REFRESH-INTERVAL;VALUE=DURATION:PT1H
X-Robots-Tag:noindex
X-PUBLISHED-TTL:PT1H
BEGIN:VTIMEZONE
TZID:America/Los_Angeles
BEGIN:DAYLIGHT
TZOFFSETFROM:-0800
TZOFFSETTO:-0700
TZNAME:PDT
DTSTART:20210314T100000
END:DAYLIGHT
BEGIN:STANDARD
TZOFFSETFROM:-0700
TZOFFSETTO:-0800
TZNAME:PST
DTSTART:20211107T090000
END:STANDARD
BEGIN:DAYLIGHT
TZOFFSETFROM:-0800
TZOFFSETTO:-0700
TZNAME:PDT
DTSTART:20220313T100000
END:DAYLIGHT
BEGIN:STANDARD
TZOFFSETFROM:-0700
TZOFFSETTO:-0800
TZNAME:PST
DTSTART:20221106T090000
END:STANDARD
BEGIN:DAYLIGHT
TZOFFSETFROM:-0800
TZOFFSETTO:-0700
TZNAME:PDT
DTSTART:20230312T100000
END:DAYLIGHT
BEGIN:STANDARD
TZOFFSETFROM:-0700
TZOFFSETTO:-0800
TZNAME:PST
DTSTART:20231105T090000
END:STANDARD
END:VTIMEZONE
BEGIN:VEVENT
DTSTART;TZID=America/Los_Angeles:20221004T170000
DTEND;TZID=America/Los_Angeles:20221004T190000
DTSTAMP:20260424T031438
CREATED:20221001T213820Z
LAST-MODIFIED:20221004T042058Z
UID:1742138-1664902800-1664910000@ramayogainstitute.com
SUMMARY:10th Day of the Moon with Harijiwan
DESCRIPTION:Kundalini Yoga\, Meditation & Gong Workshop with Harijiwan \nHarijiwan has been teaching Kundalini yoga since 1975. Known for his unique Gong playing\, his classes are funny\, profound\, poetic and offer students the opportunity to receive rarified instruction and enjoy vast change.  \nSIGN UP  \nTUNE IN
URL:https://ramayogainstitute.com/event/10th-day-of-the-moon-with-harijiwan-10-4-2022/
LOCATION:Online
CATEGORIES:In Person,Pay Per View Workshops
ATTACH;FMTTYPE=image/jpeg:https://ramayogainstitute.com/wp-content/uploads/2022/09/Harijiwan-by-Santosh-Beach-Workshop-Thursday-April-21-2022-2_Chase-Edit.jpg
END:VEVENT
BEGIN:VEVENT
DTSTART;TZID=America/Los_Angeles:20221005T170000
DTEND;TZID=America/Los_Angeles:20221005T190000
DTSTAMP:20260424T031438
CREATED:20221001T214058Z
LAST-MODIFIED:20221004T042111Z
UID:1742140-1664989200-1664996400@ramayogainstitute.com
SUMMARY:11th Day of the Moon with Harijiwan
DESCRIPTION:Kundalini Yoga\, Meditation & Gong Workshop with Harijiwan \nHarijiwan has been teaching Kundalini yoga since 1975. Known for his unique Gong playing\, his classes are funny\, profound\, poetic and offer students the opportunity to receive rarified instruction and enjoy vast change.  \nSIGN UP  \nTUNE IN
URL:https://ramayogainstitute.com/event/11th-day-of-the-moon-with-harijiwan-10-05-2022/
LOCATION:Online
CATEGORIES:In Person,Pay Per View Workshops
ATTACH;FMTTYPE=image/jpeg:https://ramayogainstitute.com/wp-content/uploads/2022/09/Harijiwan-by-Santosh-Beach-Workshop-Thursday-April-21-2022-2_Chase-Edit.jpg
END:VEVENT
BEGIN:VEVENT
DTSTART;TZID=America/Los_Angeles:20221006T170000
DTEND;TZID=America/Los_Angeles:20221006T190000
DTSTAMP:20260424T031438
CREATED:20221001T220309Z
LAST-MODIFIED:20221005T021938Z
UID:1742191-1665075600-1665082800@ramayogainstitute.com
SUMMARY:Yogi Bhajan Remembrance Day with Harijiwan
DESCRIPTION:Kundalini Yoga\, Meditation & Gong Workshop with Harijiwan \nHarijiwan has been teaching Kundalini yoga since 1975. Known for his unique Gong playing\, his classes are funny\, profound\, poetic and offer students the opportunity to receive rarified instruction and enjoy vast change.  \nSIGN UP  \nTUNE IN
URL:https://ramayogainstitute.com/event/yogi-bhajan-remembrance-day-with-harijiwan/
LOCATION:Online
CATEGORIES:In Person,Pay Per View Workshops
ATTACH;FMTTYPE=image/png:https://ramayogainstitute.com/wp-content/uploads/2021/12/Harijiwan-1-e1689906860775.png
END:VEVENT
BEGIN:VEVENT
DTSTART;TZID=America/Los_Angeles:20221007T130000
DTEND;TZID=America/Los_Angeles:20221007T140000
DTSTAMP:20260424T031438
CREATED:20221005T011148Z
LAST-MODIFIED:20221005T011932Z
UID:1742678-1665147600-1665151200@ramayogainstitute.com
SUMMARY:Kundalini Training: Mantra & Mudra QA
DESCRIPTION:A Q&A Opportunity with Harijiwan About the Upcoming Kundalini Training \nRSVP \n\n\n\nLEARN MORE ABOUT THE UPCOMING TRAINING
URL:https://ramayogainstitute.com/event/kundalini-training-mantra-mudra-qa/
LOCATION:Online on Zoom
CATEGORIES:Community Content,Courses & Events,RA MA TV Live
ATTACH;FMTTYPE=image/jpeg:https://ramayogainstitute.com/wp-content/uploads/2022/09/Harijiwan-Select.jpg
END:VEVENT
BEGIN:VEVENT
DTSTART;TZID=America/Los_Angeles:20221008T130000
DTEND;TZID=America/Los_Angeles:20221008T150000
DTSTAMP:20260424T031438
CREATED:20221001T224451Z
LAST-MODIFIED:20221008T143318Z
UID:1742207-1665234000-1665241200@ramayogainstitute.com
SUMMARY:The Frequencies of Stars with Cody Channel
DESCRIPTION:An introduction to working with the fixed stars in your astrological natal chart. \nThe constellations and their stars are home to our ancient future. In the Aquarian age we connect with Uranus the ruler of the stars to show us the portals to higher frequency. We leave the Piscean age that created fear through the stars and excavate what is true for ourselves by working with the stars personally and in groups of concentrated efforts! The stars may help you to find clues to your personal hidden magic and promote harmonious co creation with their frequency. This workshop includes an introduction to star based astrology and a guided journey into the stars! \nSIGN UP \nTUNE IN
URL:https://ramayogainstitute.com/event/the-frequencies-of-stars-cody-channel/
LOCATION:Online
CATEGORIES:In Person,Pay Per View Workshops
ATTACH;FMTTYPE=image/jpeg:https://ramayogainstitute.com/wp-content/uploads/2022/10/Cody-Channel.jpg
END:VEVENT
BEGIN:VEVENT
DTSTART;TZID=America/Los_Angeles:20221009T133000
DTEND;TZID=America/Los_Angeles:20221009T153000
DTSTAMP:20260424T031438
CREATED:20221001T220451Z
LAST-MODIFIED:20221006T024144Z
UID:1742193-1665322200-1665329400@ramayogainstitute.com
SUMMARY:Guru Ram Das' Birthday with Harijiwan
DESCRIPTION:Full Moon Kundalini Yoga\, Meditation & Gong Workshop \nHarijiwan has been teaching Kundalini yoga since 1975. Known for his unique Gong playing\, his classes are funny\, profound\, poetic and offer students the opportunity to receive rarified instruction and enjoy vast change.  \nSIGN UP  \nTUNE IN
URL:https://ramayogainstitute.com/event/guru-ram-das-birthday-with-harijiwan/
LOCATION:Online
CATEGORIES:In Person,Pay Per View Workshops
ATTACH;FMTTYPE=image/jpeg:https://ramayogainstitute.com/wp-content/uploads/2022/09/Harijiwan-Select.jpg
END:VEVENT
BEGIN:VEVENT
DTSTART;TZID=America/Los_Angeles:20221011T080000
DTEND;TZID=America/Los_Angeles:20221011T093000
DTSTAMP:20260424T031438
CREATED:20221006T193039Z
LAST-MODIFIED:20221011T000754Z
UID:1742892-1665475200-1665480600@ramayogainstitute.com
SUMMARY:Esoterics of Kundalini II with Mandev
DESCRIPTION:SIGN UP for the Full NY Residency with Harijiwan & Mandev \nTUNE IN (All Access Pass Holders) \nTUNE IN (RA MA TV Live Members)\n*Mandev’s sessions are complimentary for RA MA TV Live Members \nHidden Heart Tuesday\, October 11\, 2022 11:00 am EDT\nThe immense energy of the heart has been hidden for millennia. It carries with it\nthe power of 108 suns. Everything comes to a balance at the heart. One who walks\nthrough the world with an open heart experiences the prosperity of the heart. \nMystical Mind Wednesday\, October 12\, 2022 11:00 am EDT\nYour mind has an infinite capacity. The mind operates beyond time\, beyond space.\nYour mental projection is the highest projection. You can create &amp; transform your\npersonality to reflect your soul\, your cosmic identity. \nSacred Soul Thursday\, October 13\, 2022 11:00 am EDT\nExperiencing your soul is the most important experience. The word yoga means\nunion\, when you and your soul become one. Every posture\, every breath\, every\nmeditation\, every mantra is an avenue to experience your own soul. When you\naccept yourself you can accept the other\, when you love yourself you can fall in\nlove with another\, when you experience your soul you can experience reality with\ndepth &amp; clarity at the soul level. \nIn this three-part class series with Mandev you will experience the trinity of you:\nyour heart\, your mind and your soul. Each class is carefully designed to coordinate\nthese three aspects and position you to experience The Energetic Power of\nKundalini Yoga – a two-part meditative experience with Harijiwan & Mandev on\nFriday\, October 14\, 2022.
URL:https://ramayogainstitute.com/event/esoterics-of-kundalini-ii-with-mandev/2022-10-11/
LOCATION:RA MA New York & Online
CATEGORIES:Courses & Events,In Person,RA MA TV Live
ATTACH;FMTTYPE=image/jpeg:https://ramayogainstitute.com/wp-content/uploads/2022/10/Esoterics-of-Kundalini-II-with-Harijiwan-Mandev.jpg
END:VEVENT
BEGIN:VEVENT
DTSTART;TZID=America/Los_Angeles:20221014T133000
DTEND;TZID=America/Los_Angeles:20221014T150000
DTSTAMP:20260424T031438
CREATED:20221006T193039Z
LAST-MODIFIED:20221014T033557Z
UID:1742898-1665754200-1665759600@ramayogainstitute.com
SUMMARY:Esoterics of Kundalini II with Mandev
DESCRIPTION:SIGN UP for the Full NY Residency with Harijiwan & Mandev \nTUNE IN (All Access Pass Holders) \nTUNE IN (RA MA TV Live Members)\n*Mandev’s sessions are complimentary for RA MA TV Live Members \nHidden Heart Tuesday\, October 11\, 2022 11:00 am EDT\nThe immense energy of the heart has been hidden for millennia. It carries with it\nthe power of 108 suns. Everything comes to a balance at the heart. One who walks\nthrough the world with an open heart experiences the prosperity of the heart. \nMystical Mind Wednesday\, October 12\, 2022 11:00 am EDT\nYour mind has an infinite capacity. The mind operates beyond time\, beyond space.\nYour mental projection is the highest projection. You can create &amp; transform your\npersonality to reflect your soul\, your cosmic identity. \nSacred Soul Thursday\, October 13\, 2022 11:00 am EDT\nExperiencing your soul is the most important experience. The word yoga means\nunion\, when you and your soul become one. Every posture\, every breath\, every\nmeditation\, every mantra is an avenue to experience your own soul. When you\naccept yourself you can accept the other\, when you love yourself you can fall in\nlove with another\, when you experience your soul you can experience reality with\ndepth &amp; clarity at the soul level. \nIn this three-part class series with Mandev you will experience the trinity of you:\nyour heart\, your mind and your soul. Each class is carefully designed to coordinate\nthese three aspects and position you to experience The Energetic Power of\nKundalini Yoga – a two-part meditative experience with Harijiwan & Mandev on\nFriday\, October 14\, 2022.
URL:https://ramayogainstitute.com/event/esoterics-of-kundalini-ii-with-mandev-2022-10-14/
LOCATION:RA MA New York & Online
CATEGORIES:Courses & Events,In Person,Pay Per View Workshops,RA MA TV Live
ATTACH;FMTTYPE=image/jpeg:https://ramayogainstitute.com/wp-content/uploads/2022/10/Esoterics-of-Kundalini-II-with-Harijiwan-Mandev.jpg
END:VEVENT
BEGIN:VEVENT
DTSTART;TZID=America/Los_Angeles:20221014T150000
DTEND;TZID=America/Los_Angeles:20221014T170000
DTSTAMP:20260424T031438
CREATED:20221006T193406Z
LAST-MODIFIED:20221011T004646Z
UID:1742899-1665759600-1665766800@ramayogainstitute.com
SUMMARY:Esoterics of Kundalini II with Harijiwan
DESCRIPTION:DROP IN or TUNE IN for the Kundalini Yoga\, Meditation\, & Gong Workshop with Harijiwan \nSIGN UP or TUNE IN for the Full NY Residency with Harijiwan & Mandev
URL:https://ramayogainstitute.com/event/esoterics-of-kundalini-ii-with-harijiwan/
LOCATION:RA MA New York & Online
CATEGORIES:Courses & Events,In Person,Pay Per View Workshops
ATTACH;FMTTYPE=image/jpeg:https://ramayogainstitute.com/wp-content/uploads/2022/10/Esoterics-of-Kundalini-II-with-Harijiwan-Mandev.jpg
END:VEVENT
BEGIN:VEVENT
DTSTART;TZID=America/Los_Angeles:20221018T190000
DTEND;TZID=America/Los_Angeles:20221018T210000
DTSTAMP:20260424T031438
CREATED:20221014T033022Z
LAST-MODIFIED:20221018T034032Z
UID:1744392-1666119600-1666126800@ramayogainstitute.com
SUMMARY:Luminous Mind with Choje Lama Wangchuk & Gurujas
DESCRIPTION:SIGN UP \nTUNE IN \nChoje Lama Wangchuk will be with us live in Los Angeles for this rare\, timeless transmission of teachings. In conversation with Gurujas\, he will share from the tradition of Vajrayana Buddhism\, offering a unique perspective of how to work with the mind during the complexities and ever-changing modern age. \nChoje Lama Wangchuk Topden is appointed as the very Venerable Khenchen Thrangu Rinpoche’s body\, speech and mind representative and was recently given the title of Choje (Lord of Dharma) Lama by the 17th Gyalwang Karmapa due to the important role he has played and will continue to have in upholding the activities begun by Khenchen Thrangu Rinpoche. This was the first of this title bestowment\, signifying the great respect\, responsibility\, and honor he holds. \nThe Tibetan Buddhist lineage and Kundalini lineage are connected\, linked through the Tantric energy. Being in the presence of a holder of teachings such as this offers a a rarified\, transformative energetic opportunity.
URL:https://ramayogainstitute.com/event/luminous-mind-choje-lama-wangchuk-gurujas/
LOCATION:Online
CATEGORIES:In Person,Pay Per View Workshops
ATTACH;FMTTYPE=image/jpeg:https://ramayogainstitute.com/wp-content/uploads/2022/10/Choje-Lama-Wangchuk-Gurujas.jpg
END:VEVENT
BEGIN:VEVENT
DTSTART;VALUE=DATE:20221020
DTEND;VALUE=DATE:20221025
DTSTAMP:20260424T031438
CREATED:20210920T204542Z
LAST-MODIFIED:20210920T204542Z
UID:1654012-1666224000-1666655999@ramayogainstitute.com
SUMMARY:Camp Grace Europe: Awakening the Inner Oracle
DESCRIPTION:Enter into sacred council for 3 nights and 4 days at our women’s retreat with Shabadpreet and the women of Immense Grace. \nMore Information Coming Soon
URL:https://ramayogainstitute.com/event/camp-grace-europe-awakening-the-inner-oracle/
LOCATION:Iona\, Scotland
CATEGORIES:Courses & Events,In Person
ATTACH;FMTTYPE=image/jpeg:https://ramayogainstitute.com/wp-content/uploads/2021/09/scotland-cal-event.jpg
END:VEVENT
BEGIN:VEVENT
DTSTART;TZID=America/Los_Angeles:20221021T180000
DTEND;TZID=America/Los_Angeles:20221021T200000
DTSTAMP:20260424T031438
CREATED:20221014T034051Z
LAST-MODIFIED:20221021T000511Z
UID:1744508-1666375200-1666382400@ramayogainstitute.com
SUMMARY:Connection Divination: A Venus Kriya Workshop
DESCRIPTION:SIGN UP \nTUNE IN  \nVenus Kriyas are potent Kundalini Yoga practices that are done with a partner. The partners do not need to be romantic in nature\, though they can be. \nRobindra and Myrah will be sharing their divine divination dyad work during this potent Venus gate portal. \nYour natural ability to communicate lovingly and passionately is awakened in a big way during this time. Venus Kriyas are all about engaging\, harmonizing and strengthening the male and female polarity\, (this does not mean partners need to be of the opposite sex.) The Divine Feminine and Sacred Masculine are alchemized within all.
URL:https://ramayogainstitute.com/event/connection-divination-a-venus-kriya-workshop/
LOCATION:Online on RA MA TV
CATEGORIES:Pay Per View Workshops
ATTACH;FMTTYPE=image/jpeg:https://ramayogainstitute.com/wp-content/uploads/2022/10/Myrah-Penaloza-Robindra-Mohar.jpg
END:VEVENT
BEGIN:VEVENT
DTSTART;TZID=America/Los_Angeles:20221022T110000
DTEND;TZID=America/Los_Angeles:20221022T130000
DTSTAMP:20260424T031438
CREATED:20221011T223700Z
LAST-MODIFIED:20221107T141632Z
UID:1743931-1666436400-1666443600@ramayogainstitute.com
SUMMARY:VOCAL LAB: The Mystical Mechanics of Human Sound
DESCRIPTION:LEARN MORE & SIGN UP \nTUNE IN \nA Rare 4-Part Sound Course with Gurujas\n“It is so important for people to understand how powerful their own sound is and has the potential to be. Inside each of us is a mystic mechanism that can build or destroy worlds. It is our right to know as much as we can about how to use that tool.”  – Gurujas\nSaturday\, October 22\, 2022\nSaturday\, October 29\, 2022\nSaturday\, November 5\, 2022\n11:00am – 1:00pm PDT\n+\nSunday\, November 13\, 2022\n1:00pm – 3:00pm PDT
URL:https://ramayogainstitute.com/event/vocal-lab-the-mystical-mechanics-of-human-sound/2022-10-22/
LOCATION:Online
CATEGORIES:Courses & Events,In Person,Pay Per View Workshops
ATTACH;FMTTYPE=image/jpeg:https://ramayogainstitute.com/wp-content/uploads/2022/10/Gurujas-2.jpg
END:VEVENT
BEGIN:VEVENT
DTSTART;TZID=America/Los_Angeles:20221025T090000
DTEND;TZID=America/Los_Angeles:20221025T110000
DTSTAMP:20260424T031438
CREATED:20221020T001535Z
LAST-MODIFIED:20221025T055056Z
UID:1745566-1666688400-1666695600@ramayogainstitute.com
SUMMARY:Solar Eclipse & New Moon in Scorpio with Harijiwan
DESCRIPTION:SIGN UP  \nTUNE IN \nKundalini Yoga\, Meditation & Gong Workshop \nHarijiwan has been teaching Kundalini Yoga since 1975. He is the founder of the GRAMMY®-Award-Winning band\, White Sun. With over 44 years of experience in the science of Kundalini Yoga\, Harijiwan incorporates a vast knowledge of various methodologies and training into his practice. Today\, and throughout his years as a teacher and healer\, Harijiwan remains committed to expanding his knowledge and experience to provide his students with the most progressive\, effective\, self-empowering approaches that increase overall joy and wholeness within the context of everyday experiences.
URL:https://ramayogainstitute.com/event/solar-eclipse-new-moon-in-scorpio-with-harijiwan/
LOCATION:RA MA Mallorca & Online
CATEGORIES:In Person,Pay Per View Workshops
ATTACH;FMTTYPE=image/jpeg:https://ramayogainstitute.com/wp-content/uploads/2022/07/Harijiwan-website-banner-1-e1717030585192.jpg
END:VEVENT
BEGIN:VEVENT
DTSTART;TZID=America/Los_Angeles:20221025T180000
DTEND;TZID=America/Los_Angeles:20221025T200000
DTSTAMP:20260424T031438
CREATED:20211028T002901Z
LAST-MODIFIED:20221025T061947Z
UID:1743526-1666720800-1666728000@ramayogainstitute.com
SUMMARY:Fire of Destiny with Gurujas
DESCRIPTION:SIGN UP \nTUNE IN \nSolar Eclipse & New Moon in Scorpio Kundalini Workshop \nEmpower & supercharge your destiny.\nTime to turn up the heat on your unlimited potential. \nGurujas teaches that Kundalini Yoga is an experientially-based system–a science of joy\, fulfillment and love. She also believes that happiness is a vibrational frequency\, and can be an enduring state of being. Gurujas is the lead singer of the Grammy Award winning group White Sun.
URL:https://ramayogainstitute.com/event/kundalini-yoga-meditation-with-gurujas-11-2021-12-05-2022-01-09-2022-02-27-2022-04-19-2022-04-26-2022-10-25/
LOCATION:Online
CATEGORIES:In Person,Pay Per View Workshops
ATTACH;FMTTYPE=image/jpeg:https://ramayogainstitute.com/wp-content/uploads/2022/10/Gurujas-1.jpg
END:VEVENT
BEGIN:VEVENT
DTSTART;TZID=America/Los_Angeles:20221031T040000
DTEND;TZID=America/Los_Angeles:20221031T213000
DTSTAMP:20260424T031438
CREATED:20221027T200755Z
LAST-MODIFIED:20221027T200757Z
UID:1747261-1667188800-1667251800@ramayogainstitute.com
SUMMARY:All Hallow's Eve
DESCRIPTION:SIGN UP  \nAll Hallows’ Eve marks the time of welcoming in the harvest and ushering in the powerful and potent “dark half of the year.” During this specific window\, ordinary laws of time and space are suspended and the veil between the earth and spirit world thins. \nJoin Harijiwan\, Tej\, Remington Donovan\, Jose Apju Munoz\, the RA MA Crew and Special Guests on an auspicious day for accessing subtle energy\, other dimensions\, and receiving esoteric energies.
URL:https://ramayogainstitute.com/event/all-hallows-eve-2022/
LOCATION:Online
CATEGORIES:Courses & Events,In Person
ATTACH;FMTTYPE=image/jpeg:https://ramayogainstitute.com/wp-content/uploads/2022/10/All-Hallows-2022-.jpg
END:VEVENT
END:VCALENDAR