BEGIN:VCALENDAR
VERSION:2.0
PRODID:-//RA MA LIFE - ECPv6.15.15//NONSGML v1.0//EN
CALSCALE:GREGORIAN
METHOD:PUBLISH
X-WR-CALNAME:RA MA LIFE
X-ORIGINAL-URL:https://ramayogainstitute.com
X-WR-CALDESC:Events for RA MA LIFE
REFRESH-INTERVAL;VALUE=DURATION:PT1H
X-Robots-Tag:noindex
X-PUBLISHED-TTL:PT1H
BEGIN:VTIMEZONE
TZID:America/Los_Angeles
BEGIN:DAYLIGHT
TZOFFSETFROM:-0800
TZOFFSETTO:-0700
TZNAME:PDT
DTSTART:20210314T100000
END:DAYLIGHT
BEGIN:STANDARD
TZOFFSETFROM:-0700
TZOFFSETTO:-0800
TZNAME:PST
DTSTART:20211107T090000
END:STANDARD
BEGIN:DAYLIGHT
TZOFFSETFROM:-0800
TZOFFSETTO:-0700
TZNAME:PDT
DTSTART:20220313T100000
END:DAYLIGHT
BEGIN:STANDARD
TZOFFSETFROM:-0700
TZOFFSETTO:-0800
TZNAME:PST
DTSTART:20221106T090000
END:STANDARD
BEGIN:DAYLIGHT
TZOFFSETFROM:-0800
TZOFFSETTO:-0700
TZNAME:PDT
DTSTART:20230312T100000
END:DAYLIGHT
BEGIN:STANDARD
TZOFFSETFROM:-0700
TZOFFSETTO:-0800
TZNAME:PST
DTSTART:20231105T090000
END:STANDARD
END:VTIMEZONE
BEGIN:VEVENT
DTSTART;TZID=America/Los_Angeles:20220903T150000
DTEND;TZID=America/Los_Angeles:20220903T170000
DTSTAMP:20260424T051229
CREATED:20220828T003243Z
LAST-MODIFIED:20220903T001755Z
UID:1735456-1662217200-1662224400@ramayogainstitute.com
SUMMARY:Creative Power Activation with Giangeet Kaur of Satamber
DESCRIPTION:SIGN UP \nTUNE IN \n$22 pre-registration\, $33 day of \n– Learn about the polarity energy on the planet and how to get on the current that provides fulfillment and joy\n– Open your energy channels through which our inner creativity flows\n– Activate the power of the heart and infuse your creativity with the power of love \nIt is through our creativity that we deliver our destiny.\nYou are on this planet to contribute. To make an impact and merge your essence to the vibration of love. In this workshop we will activate our creative power and amplify this through the heart center. We will experience our power to create heaven on earth. \nAbout Giangeet\nGiangeet Kaur is a Kundalini Yoga practitioner and certified teacher practicing for more than 10 years.Kundalini Yoga is a complete system that offers yogic knowledge to improve all aspects of our lives. She teaches this ancient science in a way that is simple\, relatable and easy to understand. \nGiangeet is an expert on the science of the Tantric Necklace. An immensely powerful yogic tool\, unmatched by anything else on the planet\, Giangeet loves creating these sacred pieces through her company\, Satamber. Giangeet founded Satamber in 2016 as a way to bring this technology to everyone on the planet. Her lifestyle embodies “to walk lightly on the earth\, to walk firmly in the spirit” and all her classes are fun\, happy and powerfully invoke the strength of the spirit.
URL:https://ramayogainstitute.com/event/creative-power-activation-with-giangeet-kaur-of-satamber/
LOCATION:RA MA New York & Online
CATEGORIES:In Person,Pay Per View Workshops
ATTACH;FMTTYPE=image/jpeg:https://ramayogainstitute.com/wp-content/uploads/2021/10/Giangeet.jpg
END:VEVENT
BEGIN:VEVENT
DTSTART;TZID=America/Los_Angeles:20220905T110000
DTEND;TZID=America/Los_Angeles:20220905T123000
DTSTAMP:20260424T051229
CREATED:20220831T051900Z
LAST-MODIFIED:20220903T015325Z
UID:1736128-1662375600-1662381000@ramayogainstitute.com
SUMMARY:Radiance of 108 Suns: Special Birthday Class with Harijiwan
DESCRIPTION:SIGN UP \nTUNE IN \nSpecial Birthday Class with Harijiwan\n10th Day of the Moon & Labor Day\nKundalini Yoga\, Meditation & Gong
URL:https://ramayogainstitute.com/event/radiance-of-108-suns-special-birthday-with-harijiwan/
CATEGORIES:In Person,Pay Per View Workshops
ATTACH;FMTTYPE=image/jpeg:https://ramayogainstitute.com/wp-content/uploads/2022/08/HarijiwanBday_Banner3.jpg
END:VEVENT
BEGIN:VEVENT
DTSTART;TZID=America/Los_Angeles:20220906T170000
DTEND;TZID=America/Los_Angeles:20220906T190000
DTSTAMP:20260424T051229
CREATED:20220901T041415Z
LAST-MODIFIED:20220905T010347Z
UID:1736354-1662483600-1662490800@ramayogainstitute.com
SUMMARY:Luminous Mind: 11th Day of the Moon Workshop with Harijiwan
DESCRIPTION:Kundalini Yoga\, Meditation & Gong \nSIGN UP \nTUNE IN 
URL:https://ramayogainstitute.com/event/luminous-mind-11th-day-of-the-moon-workshop-with-harijiwan/
LOCATION:Online
CATEGORIES:In Person,Pay Per View Workshops
ATTACH;FMTTYPE=image/jpeg:https://ramayogainstitute.com/wp-content/uploads/2021/08/harijiwan-cal-icon.jpg
END:VEVENT
BEGIN:VEVENT
DTSTART;TZID=America/Los_Angeles:20220910T130000
DTEND;TZID=America/Los_Angeles:20220910T150000
DTSTAMP:20260424T051229
CREATED:20220905T012220Z
LAST-MODIFIED:20220909T232555Z
UID:1736797-1662814800-1662822000@ramayogainstitute.com
SUMMARY:Full Moon in Pisces Workshop with Harijiwan
DESCRIPTION:SIGN UP  \nTUNE IN  \nKundalini Yoga\, Meditation & Gong Workshop \nHarijiwan has been teaching Kundalini Yoga since 1975. He is the founder of the GRAMMY®-Award-Winning band\, White Sun. With over 44 years of experience in the science of Kundalini Yoga\, Harijiwan incorporates a vast knowledge of various methodologies and training into his practice. Today\, and throughout his years as a teacher and healer\, Harijiwan remains committed to expanding his knowledge and experience to provide his students with the most progressive\, effective\, self-empowering approaches that increase overall joy and wholeness within the context of everyday experiences. \n@harijiwan
URL:https://ramayogainstitute.com/event/full-moon-in-pisces-workshop-with-harijiwan/
LOCATION:Online
CATEGORIES:In Person,Pay Per View Workshops
ATTACH;FMTTYPE=image/jpeg:https://ramayogainstitute.com/wp-content/uploads/2021/09/Harijiwan-Khalsa.jpg
END:VEVENT
BEGIN:VEVENT
DTSTART;TZID=America/Los_Angeles:20220912T130000
DTEND;TZID=America/Los_Angeles:20220912T140000
DTSTAMP:20260424T051229
CREATED:20220909T055319Z
LAST-MODIFIED:20220909T055320Z
UID:1737569-1662987600-1662991200@ramayogainstitute.com
SUMMARY:Kundalini Training: The Meditative Mind Q&A Call
DESCRIPTION:JOIN THE Q&A CALL \n  \nJoin Harijiwan for a live complimentary Q&A Zoom call to learn more about the upcoming Kundalini Training. \nKundalini Training: The Meditative Mind\nWednesday\, September 14\, 2022- Sunday September 18\, 2022 \nBring your questions or come to listen.
URL:https://ramayogainstitute.com/event/kundalini-training-the-meditative-mind-qa-call/
LOCATION:Online on Zoom
CATEGORIES:Community Content,Courses & Events,RA MA TV Live
ATTACH;FMTTYPE=image/jpeg:https://ramayogainstitute.com/wp-content/uploads/2022/09/Snowy-Mountain-Icy-Water.jpg
END:VEVENT
BEGIN:VEVENT
DTSTART;TZID=America/Los_Angeles:20220914T090000
DTEND;TZID=America/Los_Angeles:20220914T180000
DTSTAMP:20260424T051229
CREATED:20220909T014412Z
LAST-MODIFIED:20220909T055431Z
UID:1737443-1663146000-1663178400@ramayogainstitute.com
SUMMARY:Kundalini Training: The Meditative Mind
DESCRIPTION:LEARN MORE & SIGN UP \nwith Harijiwan\, Tej\, Gurujas\, Mandev & Shabadpreet \n\n\n\n\nIn-Person at RA MA Los Angeles + Live Streaming on RA MA TV \n\n\n\nThe mind exists in service to your soul.\nIn the yogic scriptures\, the soul is accompanied on its journey from the Infinite through the creation of the mind. \nYou have three minds.\nThe Negative Mind protects you.\nThe Positive Mind searches for possibilities and fulfillment.\nThe Neutral Mind reflects\, it is the space of the Meditative Mind. \nEach yogi sets out on a quest to experience the Meditative Mind.\nEvery person has a distance they need to cross to fulfill their destiny. \nHappiness\, success\, and perpetual prosperity comes to the yogis who master the Meditative Mind. \n\n\n\n\n\n\nThis five-day Kundalini Training will give you an experiential understanding of a stillness\, a crystalline clarity\, alive in your own Meditative Mind’s infinite horizon. Gain new energy\, a constellation of sophisticated subtle patterns\, freedom from illusion\, momentum on your soul’s timeless progression. \n\n\n\n\n 
URL:https://ramayogainstitute.com/event/kundalini-training-the-meditative-mind/2022-09-14/
LOCATION:Online
CATEGORIES:Courses & Events,In Person
ATTACH;FMTTYPE=image/jpeg:https://ramayogainstitute.com/wp-content/uploads/2022/09/Snowy-Mountain-Icy-Water.jpg
END:VEVENT
BEGIN:VEVENT
DTSTART;TZID=America/Los_Angeles:20220918T110000
DTEND;TZID=America/Los_Angeles:20220918T130000
DTSTAMP:20260424T051229
CREATED:20220909T020008Z
LAST-MODIFIED:20220917T033611Z
UID:1737529-1663498800-1663506000@ramayogainstitute.com
SUMMARY:Overcoming Perceived Limitations
DESCRIPTION:A Conversation with Mary Margaret Skelly\, Executive Coach & Emily Goodson\, Writer\, Speaker and Startup Advisor \nMary Margaret of Work Like a Human interviews public speaker and entrepreneur Emily about thriving through a physical setback PLUS a meditation to rewire the brain for success” \n$44 Virtually on RA MA TV or In Person\n@RA MA New York\, 125 Stanton St\, New York\, NY 10002\nComplimentary for RA MA TV Live Members \nSIGN UP \nTUNE IN \n 
URL:https://ramayogainstitute.com/event/overcoming-perceived-limitations/
LOCATION:Online
CATEGORIES:In Person,Pay Per View Workshops,RA MA TV Live
ATTACH;FMTTYPE=image/jpeg:https://ramayogainstitute.com/wp-content/uploads/2022/09/Overcoming-Perceived-Limitations-Thumbnail.jpg
END:VEVENT
BEGIN:VEVENT
DTSTART;TZID=America/Los_Angeles:20220924T140000
DTEND;TZID=America/Los_Angeles:20220924T170000
DTSTAMP:20260424T051229
CREATED:20220918T192558Z
LAST-MODIFIED:20220924T023401Z
UID:1739132-1664028000-1664038800@ramayogainstitute.com
SUMMARY:Walking the Sacredness of the Hermit with Shaman Durek
DESCRIPTION:Shaman Durek is back at RA MA Los Angeles for a powerful workshop:\nWalking the Sacredness of the Hermit to Deeper Understand How to Use Your Powers \nYou will learn the hermits’ ways.\nYou will learn how the hermit became the magi.\nYou will learn how to access and fine-train your gifts. You will also learn how to do healing by being the hermit. \nSIGN UP  \nTUNE IN
URL:https://ramayogainstitute.com/event/walking-the-sacredness-of-the-hermit-with-shaman-durek/
LOCATION:Online
CATEGORIES:In Person,Pay Per View Workshops
ATTACH;FMTTYPE=image/jpeg:https://ramayogainstitute.com/wp-content/uploads/2022/09/Shaman-Durek.jpg
END:VEVENT
BEGIN:VEVENT
DTSTART;TZID=America/Los_Angeles:20220924T183000
DTEND;TZID=America/Los_Angeles:20220924T203000
DTSTAMP:20260424T051229
CREATED:20220918T193401Z
LAST-MODIFIED:20220924T024406Z
UID:1739142-1664044200-1664051400@ramayogainstitute.com
SUMMARY:Quantum Harmonix by Torkom Ji
DESCRIPTION:SIGN UP \nTUNE IN \nQUANTUM HARMONIX by Torkom Ji is a unique sound-based meditative and healing technology. The powerful tones produced incorporate natural fluidity & movement\, and have been shown to have profound effects on the mind\, body\, and consciousness of an individual. \nQ.H. sounds are designed to lead one through an effortless and powerfully restorative meditation experience invoking relaxation\, and expanded creativity\, while improving sleep quality and productivity\, while decreasing stress. \nThe music is layered live and explores acoustical phenomena\, white/pink noise\, low-mid-high range frequencies; all folded into a tapestry of real time musical compositions. \nTorkom is a sound healer\, meditation guide\, and creator of Quantum Harmonix; a unique frequency healing modality. This listening experience is designed to deeply drop one into a relaxed and therapeutic state by incorporating a variety of techniques and tones that have been shown to effectively calm the body and mind. The total experience typically lasts 1 hour and requires no prior experience with meditation.
URL:https://ramayogainstitute.com/event/quantum-harmonix-by-torkom-ji-09-24-2022/
LOCATION:Online
CATEGORIES:In Person,Pay Per View Workshops
ATTACH;FMTTYPE=image/jpeg:https://ramayogainstitute.com/wp-content/uploads/2022/06/Torkom-Ji.jpg
END:VEVENT
BEGIN:VEVENT
DTSTART;TZID=America/Los_Angeles:20220925T130000
DTEND;TZID=America/Los_Angeles:20220925T150000
DTSTAMP:20260424T051229
CREATED:20220918T194611Z
LAST-MODIFIED:20220924T064014Z
UID:1739177-1664110800-1664118000@ramayogainstitute.com
SUMMARY:New Moon in Libra with Harijiwan
DESCRIPTION:SIGN UP  \nTUNE IN  \nKundalini Yoga\, Meditation & Gong Workshop with Harijiwan \nVirtually on RA MA TV + Infinite Replay \nHarijiwan has been teaching Kundalini yoga since 1975. Known for his unique Gong playing\, his classes are funny\, profound\, poetic and offer students the opportunity to receive rarified instruction and enjoy vast change. 
URL:https://ramayogainstitute.com/event/new-moon-in-libra-with-harijiwan/
LOCATION:Online
CATEGORIES:In Person,Pay Per View Workshops
ATTACH;FMTTYPE=image/jpeg:https://ramayogainstitute.com/wp-content/uploads/2022/09/Harijiwan-by-Santosh-Beach-Workshop-Thursday-April-21-2022-2_Chase-Edit.jpg
END:VEVENT
END:VCALENDAR