BEGIN:VCALENDAR
VERSION:2.0
PRODID:-//RA MA LIFE - ECPv6.15.15//NONSGML v1.0//EN
CALSCALE:GREGORIAN
METHOD:PUBLISH
X-ORIGINAL-URL:https://ramayogainstitute.com
X-WR-CALDESC:Events for RA MA LIFE
REFRESH-INTERVAL;VALUE=DURATION:PT1H
X-Robots-Tag:noindex
X-PUBLISHED-TTL:PT1H
BEGIN:VTIMEZONE
TZID:America/Los_Angeles
BEGIN:DAYLIGHT
TZOFFSETFROM:-0800
TZOFFSETTO:-0700
TZNAME:PDT
DTSTART:20210314T100000
END:DAYLIGHT
BEGIN:STANDARD
TZOFFSETFROM:-0700
TZOFFSETTO:-0800
TZNAME:PST
DTSTART:20211107T090000
END:STANDARD
BEGIN:DAYLIGHT
TZOFFSETFROM:-0800
TZOFFSETTO:-0700
TZNAME:PDT
DTSTART:20220313T100000
END:DAYLIGHT
BEGIN:STANDARD
TZOFFSETFROM:-0700
TZOFFSETTO:-0800
TZNAME:PST
DTSTART:20221106T090000
END:STANDARD
BEGIN:DAYLIGHT
TZOFFSETFROM:-0800
TZOFFSETTO:-0700
TZNAME:PDT
DTSTART:20230312T100000
END:DAYLIGHT
BEGIN:STANDARD
TZOFFSETFROM:-0700
TZOFFSETTO:-0800
TZNAME:PST
DTSTART:20231105T090000
END:STANDARD
END:VTIMEZONE
BEGIN:VEVENT
DTSTART;TZID=America/Los_Angeles:20220424T090000
DTEND;TZID=America/Los_Angeles:20220424T180000
DTSTAMP:20260424T144351
CREATED:20220415T162246Z
LAST-MODIFIED:20220415T162247Z
UID:1703486-1650790800-1650823200@ramayogainstitute.com
SUMMARY:Interstellar Star School: Connecting to the Interstellar Star Systems
DESCRIPTION:Go out of body and beyond the earthly realm into the INTERSTELLAR cosmic grid. Interface and align with the planets and planetary energies for your soul’s evolution. Learn how to navigate this Spring 2022 eclipse season through the royal fixed stars and their constellations. \nDiscover your star origins\, learn about sidereal astrology\, practice Yoga and Meditation and connect to the forces beyond consciousness. Join RA MA on April 24\, 2022 for CONNECTING TO INTERSTELLAR STAR SYSTEMS. \nLearn More / Sign Up
URL:https://ramayogainstitute.com/event/interstellar-star-school-connecting-to-the-interstellar-star-systems/
LOCATION:Online
CATEGORIES:Courses & Events
ATTACH;FMTTYPE=image/jpeg:https://ramayogainstitute.com/wp-content/uploads/2022/04/ISS-JPEG.jpg
END:VEVENT
END:VCALENDAR