BEGIN:VCALENDAR
VERSION:2.0
PRODID:-//RA MA LIFE - ECPv6.15.15//NONSGML v1.0//EN
CALSCALE:GREGORIAN
METHOD:PUBLISH
X-ORIGINAL-URL:https://ramayogainstitute.com
X-WR-CALDESC:Events for RA MA LIFE
REFRESH-INTERVAL;VALUE=DURATION:PT1H
X-Robots-Tag:noindex
X-PUBLISHED-TTL:PT1H
BEGIN:VTIMEZONE
TZID:America/Los_Angeles
BEGIN:DAYLIGHT
TZOFFSETFROM:-0800
TZOFFSETTO:-0700
TZNAME:PDT
DTSTART:20210314T100000
END:DAYLIGHT
BEGIN:STANDARD
TZOFFSETFROM:-0700
TZOFFSETTO:-0800
TZNAME:PST
DTSTART:20211107T090000
END:STANDARD
BEGIN:DAYLIGHT
TZOFFSETFROM:-0800
TZOFFSETTO:-0700
TZNAME:PDT
DTSTART:20220313T100000
END:DAYLIGHT
BEGIN:STANDARD
TZOFFSETFROM:-0700
TZOFFSETTO:-0800
TZNAME:PST
DTSTART:20221106T090000
END:STANDARD
BEGIN:DAYLIGHT
TZOFFSETFROM:-0800
TZOFFSETTO:-0700
TZNAME:PDT
DTSTART:20230312T100000
END:DAYLIGHT
BEGIN:STANDARD
TZOFFSETFROM:-0700
TZOFFSETTO:-0800
TZNAME:PST
DTSTART:20231105T090000
END:STANDARD
END:VTIMEZONE
BEGIN:VEVENT
DTSTART;VALUE=DATE:20220222
DTEND;VALUE=DATE:20220223
DTSTAMP:20260424T182958
CREATED:20220215T183520Z
LAST-MODIFIED:20220215T183520Z
UID:1691804-1645488000-1645574399@ramayogainstitute.com
SUMMARY:2-22-22 Flow of Possibility
DESCRIPTION:2 is the number of flow\, openness and possibilities. It’s a wonderful number for saying yes\, and to nurture your relationships\, build community\, and strengthen your partnerships. It’s also the number of containment\, of discernment\, and of protection. \nOn these days of multiplicity\, these attributes are amplified\, making it a prime time to come together to practice\, meditate\, and expand to a level of achievement and opportunity more readily accessible and attainable. \nExperience this magnetic portal and the monumental peak of the 2 energy we will witness in our lifetime. \nLearn More \nSign Up
URL:https://ramayogainstitute.com/event/2-22-22-flow-of-possibility/
LOCATION:Online
CATEGORIES:Courses & Events,In Person,Pay Per View Workshops
ATTACH;FMTTYPE=image/jpeg:https://ramayogainstitute.com/wp-content/uploads/2022/02/HarijiwanStudentsMeditating_2-22.jpg
END:VEVENT
END:VCALENDAR