BEGIN:VCALENDAR
VERSION:2.0
PRODID:-//RA MA LIFE - ECPv6.15.15//NONSGML v1.0//EN
CALSCALE:GREGORIAN
METHOD:PUBLISH
X-WR-CALNAME:RA MA LIFE
X-ORIGINAL-URL:https://ramayogainstitute.com
X-WR-CALDESC:Events for RA MA LIFE
REFRESH-INTERVAL;VALUE=DURATION:PT1H
X-Robots-Tag:noindex
X-PUBLISHED-TTL:PT1H
BEGIN:VTIMEZONE
TZID:America/Los_Angeles
BEGIN:DAYLIGHT
TZOFFSETFROM:-0800
TZOFFSETTO:-0700
TZNAME:PDT
DTSTART:20210314T100000
END:DAYLIGHT
BEGIN:STANDARD
TZOFFSETFROM:-0700
TZOFFSETTO:-0800
TZNAME:PST
DTSTART:20211107T090000
END:STANDARD
BEGIN:DAYLIGHT
TZOFFSETFROM:-0800
TZOFFSETTO:-0700
TZNAME:PDT
DTSTART:20220313T100000
END:DAYLIGHT
BEGIN:STANDARD
TZOFFSETFROM:-0700
TZOFFSETTO:-0800
TZNAME:PST
DTSTART:20221106T090000
END:STANDARD
BEGIN:DAYLIGHT
TZOFFSETFROM:-0800
TZOFFSETTO:-0700
TZNAME:PDT
DTSTART:20230312T100000
END:DAYLIGHT
BEGIN:STANDARD
TZOFFSETFROM:-0700
TZOFFSETTO:-0800
TZNAME:PST
DTSTART:20231105T090000
END:STANDARD
END:VTIMEZONE
BEGIN:VEVENT
DTSTART;TZID=America/Los_Angeles:20220102T133000
DTEND;TZID=America/Los_Angeles:20220102T153000
DTSTAMP:20260424T202331
CREATED:20211227T183534Z
LAST-MODIFIED:20220102T050018Z
UID:1677456-1641130200-1641137400@ramayogainstitute.com
SUMMARY:New Moon in Capricorn with Harijiwan
DESCRIPTION:Harijiwan has been teaching Kundalini yoga since 1975. Known for his unique Gong playing\, his classes are funny\, profound\, poetic and offer students the opportunity to receive rarified instruction and enjoy vast change. \nLearn More & Tune In
URL:https://ramayogainstitute.com/event/new-moon-capricorn-harijiwan-1-2-2022/
LOCATION:Online
CATEGORIES:In Person,Pay Per View Workshops
ATTACH;FMTTYPE=image/jpeg:https://ramayogainstitute.com/wp-content/uploads/2021/08/harijiwan-cal-icon.jpg
END:VEVENT
BEGIN:VEVENT
DTSTART;TZID=America/Los_Angeles:20220111T170000
DTEND;TZID=America/Los_Angeles:20220111T190000
DTSTAMP:20260424T202331
CREATED:20220106T173328Z
LAST-MODIFIED:20220108T232121Z
UID:1682280-1641920400-1641927600@ramayogainstitute.com
SUMMARY:10th Day of the Moon with Harijiwan
DESCRIPTION:Harijiwan has been teaching Kundalini yoga since 1975. Known for his unique Gong playing\, his classes are funny\, profound\, poetic and offer students the opportunity to receive rarified instruction and enjoy vast change. \nLearn More \nTune In
URL:https://ramayogainstitute.com/event/10th-day-of-the-moon-harijiwan-1-11-22/
LOCATION:Online
CATEGORIES:In Person,Pay Per View Workshops
ATTACH;FMTTYPE=image/jpeg:https://ramayogainstitute.com/wp-content/uploads/2021/08/harijiwan-cal-icon.jpg
END:VEVENT
BEGIN:VEVENT
DTSTART;TZID=America/Los_Angeles:20220112T170000
DTEND;TZID=America/Los_Angeles:20220112T190000
DTSTAMP:20260424T202331
CREATED:20220106T174609Z
LAST-MODIFIED:20220108T232316Z
UID:1682287-1642006800-1642014000@ramayogainstitute.com
SUMMARY:11th Day of the Moon with Harijiwan
DESCRIPTION:Harijiwan has been teaching Kundalini yoga since 1975. Known for his unique Gong playing\, his classes are funny\, profound\, poetic and offer students the opportunity to receive rarified instruction and enjoy vast change. \nLearn More \nTune In
URL:https://ramayogainstitute.com/event/11th-day-of-the-moon-harijiwan-1-12-22/
LOCATION:Online
CATEGORIES:In Person,Pay Per View Workshops
ATTACH;FMTTYPE=image/jpeg:https://ramayogainstitute.com/wp-content/uploads/2021/08/harijiwan-cal-icon.jpg
END:VEVENT
BEGIN:VEVENT
DTSTART;TZID=America/Los_Angeles:20220117T170000
DTEND;TZID=America/Los_Angeles:20220117T190000
DTSTAMP:20260424T202331
CREATED:20220114T181901Z
LAST-MODIFIED:20220114T181901Z
UID:1684658-1642438800-1642446000@ramayogainstitute.com
SUMMARY:Full Moon in Cancer with Harijiwan
DESCRIPTION:Harijiwan has been teaching Kundalini yoga since 1975. Known for his unique Gong playing\, his classes are funny\, profound\, poetic and offer students the opportunity to receive rarified instruction and enjoy vast change. \nLearn More \nSign Up Online \nJoin in Person
URL:https://ramayogainstitute.com/event/full-moon-in-cancer-with-harijiwan-1-17-22/
LOCATION:Online
CATEGORIES:In Person,Pay Per View Workshops
ATTACH;FMTTYPE=image/jpeg:https://ramayogainstitute.com/wp-content/uploads/2021/08/harijiwan-cal-icon.jpg
END:VEVENT
BEGIN:VEVENT
DTSTART;TZID=America/Los_Angeles:20220129T123000
DTEND;TZID=America/Los_Angeles:20220129T133000
DTSTAMP:20260424T202331
CREATED:20220121T213218Z
LAST-MODIFIED:20220128T055451Z
UID:1685880-1643459400-1643463000@ramayogainstitute.com
SUMMARY:The Geomancy of Time with Jose Ajpu Muñoz
DESCRIPTION:Navigating the New World with Jose Ajpu Munoz\nInterference\, Interface\, Intersection — The differences and Pragmatic uses \nWhat you will learn:\nLearn the differences between Mayan Tibetan and Chinese ways of the art of placement and geomancy\,\nBasic analysis of current personal living spaces\nPragmatic solutions to found issues in living personal environment \nThese teachings are for you if you need assistance in the following areas of your life: \nWealth\nRecognition and Fame\nRelationships\nFamily and Community\nHealth\nChildren\nKnowledge and Self-Education\nHelpers and Guidance\nTravel and Direction \nJose  is a Time Keeper\, spiritual guide and ceremonial leader of the Mayan Chor’Ti people.  Additionally\, Jose is the carrier of the new 26\,000 year Cycle Calendar known as the Sixth Sun Calendar which started at the turn of the cycle in December 22nd 2012. and the spoken word of Mayan History from the years of 1444 to 1529 for which he works in what he calls the Northern Territories which range from Guatemala to the west of Alaska and to the East of Montreal. \n  \nRA MA TV Live Members Tune In Here \n$22 Sign Up
URL:https://ramayogainstitute.com/event/the-geomancy-of-time-with-jose-ajpu-munoz-1-29-22/
LOCATION:Online
CATEGORIES:Courses & Events,In Person,RA MA TV Live
ATTACH;FMTTYPE=image/jpeg:https://ramayogainstitute.com/wp-content/uploads/2021/08/Jose-Ajpu-Munoz-8.jpg
END:VEVENT
BEGIN:VEVENT
DTSTART;TZID=America/Los_Angeles:20220131T170000
DTEND;TZID=America/Los_Angeles:20220131T190000
DTSTAMP:20260424T202331
CREATED:20220125T185443Z
LAST-MODIFIED:20220125T185725Z
UID:1686584-1643648400-1643655600@ramayogainstitute.com
SUMMARY:New Moon in Aquarius with Harijiwan
DESCRIPTION:Harijiwan has been teaching Kundalini yoga since 1975. Known for his unique Gong playing\, his classes are funny\, profound\, poetic and offer students the opportunity to receive rarified instruction and enjoy vast change. \nLearn More \nSign Up Online
URL:https://ramayogainstitute.com/event/new-moon-in-aquarius-with-harijiwan-1-31-22/
LOCATION:Online
CATEGORIES:In Person,Pay Per View Workshops
ATTACH;FMTTYPE=image/jpeg:https://ramayogainstitute.com/wp-content/uploads/2021/08/harijiwan-cal-icon.jpg
END:VEVENT
END:VCALENDAR