BEGIN:VCALENDAR
VERSION:2.0
PRODID:-//RA MA LIFE - ECPv6.15.15//NONSGML v1.0//EN
CALSCALE:GREGORIAN
METHOD:PUBLISH
X-WR-CALNAME:RA MA LIFE
X-ORIGINAL-URL:https://ramayogainstitute.com
X-WR-CALDESC:Events for RA MA LIFE
REFRESH-INTERVAL;VALUE=DURATION:PT1H
X-Robots-Tag:noindex
X-PUBLISHED-TTL:PT1H
BEGIN:VTIMEZONE
TZID:America/Los_Angeles
BEGIN:DAYLIGHT
TZOFFSETFROM:-0800
TZOFFSETTO:-0700
TZNAME:PDT
DTSTART:20200308T100000
END:DAYLIGHT
BEGIN:STANDARD
TZOFFSETFROM:-0700
TZOFFSETTO:-0800
TZNAME:PST
DTSTART:20201101T090000
END:STANDARD
BEGIN:DAYLIGHT
TZOFFSETFROM:-0800
TZOFFSETTO:-0700
TZNAME:PDT
DTSTART:20210314T100000
END:DAYLIGHT
BEGIN:STANDARD
TZOFFSETFROM:-0700
TZOFFSETTO:-0800
TZNAME:PST
DTSTART:20211107T090000
END:STANDARD
BEGIN:DAYLIGHT
TZOFFSETFROM:-0800
TZOFFSETTO:-0700
TZNAME:PDT
DTSTART:20220313T100000
END:DAYLIGHT
BEGIN:STANDARD
TZOFFSETFROM:-0700
TZOFFSETTO:-0800
TZNAME:PST
DTSTART:20221106T090000
END:STANDARD
END:VTIMEZONE
BEGIN:VEVENT
DTSTART;TZID=America/Los_Angeles:20210808T183000
DTEND;TZID=America/Los_Angeles:20210808T203000
DTSTAMP:20260425T115902
CREATED:20210729T221017Z
LAST-MODIFIED:20210807T030205Z
UID:1636430-1628447400-1628454600@ramayogainstitute.com
SUMMARY:Harijiwan Lion's Gate Workshop
DESCRIPTION:Learn More \nTune In
URL:https://ramayogainstitute.com/event/harijiwan-lions-gate-workshop/
LOCATION:Online on RA MA TV
CATEGORIES:Courses & Events,RA MA TV Live
ATTACH;FMTTYPE=image/jpeg:https://ramayogainstitute.com/wp-content/uploads/2019/06/Mallorca-Yatra-2017-117JW.jpg
END:VEVENT
BEGIN:VEVENT
DTSTART;TZID=America/Los_Angeles:20210818T180000
DTEND;TZID=America/Los_Angeles:20210818T200000
DTSTAMP:20260425T115902
CREATED:20210813T155909Z
LAST-MODIFIED:20210813T155909Z
UID:1640764-1629309600-1629316800@ramayogainstitute.com
SUMMARY:11th Day of the Moon with Harijiwan
DESCRIPTION:Learn More \nBuy Now
URL:https://ramayogainstitute.com/event/11th-day-of-the-moon-with-harijiwan-7/
CATEGORIES:Courses & Events,Pay Per View Workshops
ATTACH;FMTTYPE=image/jpeg:https://ramayogainstitute.com/wp-content/uploads/2021/05/Harijiwan-Taurus.jpg
END:VEVENT
BEGIN:VEVENT
DTSTART;TZID=America/Los_Angeles:20210822T180000
DTEND;TZID=America/Los_Angeles:20210822T200000
DTSTAMP:20260425T115902
CREATED:20210819T190421Z
LAST-MODIFIED:20210821T021605Z
UID:1643437-1629655200-1629662400@ramayogainstitute.com
SUMMARY:Full Moon in Aquarius with Harijiwan
DESCRIPTION:Harijiwan has been teaching Kundalini Yoga since 1975. He is the founder of the GRAMMY® Award Winning Band\, White Sun. \nLearn More \nSign Up \nWatch Here
URL:https://ramayogainstitute.com/event/full-moon-in-aquarius-with-harijiwan-kundalini-yoga-meditation/
CATEGORIES:Pay Per View Workshops
ATTACH;FMTTYPE=image/jpeg:https://ramayogainstitute.com/wp-content/uploads/2021/07/Harijiwan-cal-icon.jpg
END:VEVENT
BEGIN:VEVENT
DTSTART;TZID=America/Los_Angeles:20210830T160000
DTEND;TZID=America/Los_Angeles:20210830T180000
DTSTAMP:20260425T115902
CREATED:20210827T182703Z
LAST-MODIFIED:20210830T073617Z
UID:1646419-1630339200-1630346400@ramayogainstitute.com
SUMMARY:Accelerate Your Creative Destiny
DESCRIPTION:Learn More & Tune In
URL:https://ramayogainstitute.com/event/kundalini-yoga-gong-workshop-with-harijiwan-2/
CATEGORIES:Pay Per View Workshops
ATTACH;FMTTYPE=image/jpeg:https://ramayogainstitute.com/wp-content/uploads/2021/08/harijiwan-guru-jagat-birthday.jpg
END:VEVENT
END:VCALENDAR