BEGIN:VCALENDAR
VERSION:2.0
PRODID:-//RA MA LIFE - ECPv6.15.15//NONSGML v1.0//EN
CALSCALE:GREGORIAN
METHOD:PUBLISH
X-WR-CALNAME:RA MA LIFE
X-ORIGINAL-URL:https://ramayogainstitute.com
X-WR-CALDESC:Events for RA MA LIFE
REFRESH-INTERVAL;VALUE=DURATION:PT1H
X-Robots-Tag:noindex
X-PUBLISHED-TTL:PT1H
BEGIN:VTIMEZONE
TZID:America/Los_Angeles
BEGIN:DAYLIGHT
TZOFFSETFROM:-0800
TZOFFSETTO:-0700
TZNAME:PDT
DTSTART:20200308T100000
END:DAYLIGHT
BEGIN:STANDARD
TZOFFSETFROM:-0700
TZOFFSETTO:-0800
TZNAME:PST
DTSTART:20201101T090000
END:STANDARD
BEGIN:DAYLIGHT
TZOFFSETFROM:-0800
TZOFFSETTO:-0700
TZNAME:PDT
DTSTART:20210314T100000
END:DAYLIGHT
BEGIN:STANDARD
TZOFFSETFROM:-0700
TZOFFSETTO:-0800
TZNAME:PST
DTSTART:20211107T090000
END:STANDARD
BEGIN:DAYLIGHT
TZOFFSETFROM:-0800
TZOFFSETTO:-0700
TZNAME:PDT
DTSTART:20220313T100000
END:DAYLIGHT
BEGIN:STANDARD
TZOFFSETFROM:-0700
TZOFFSETTO:-0800
TZNAME:PST
DTSTART:20221106T090000
END:STANDARD
END:VTIMEZONE
BEGIN:VEVENT
DTSTART;TZID=America/Los_Angeles:20210602T160000
DTEND;TZID=America/Los_Angeles:20210602T180000
DTSTAMP:20260425T194125
CREATED:20210531T205418Z
LAST-MODIFIED:20210601T231927Z
UID:1620597-1622649600-1622656800@ramayogainstitute.com
SUMMARY:Immense Grace Presents: 5D Femme Teachings
DESCRIPTION:Join In Person \nJoin Online \nLearn More & Tune In
URL:https://ramayogainstitute.com/event/immense-grace-presents-5d-femme-teachings/
LOCATION:Online on RA MA TV
CATEGORIES:Pay Per View Workshops
ATTACH;FMTTYPE=image/jpeg:https://ramayogainstitute.com/wp-content/uploads/2021/03/Guru-Jagat-Radiant-Destiny-Cropped.jpg
END:VEVENT
BEGIN:VEVENT
DTSTART;TZID=America/Los_Angeles:20210610T090000
DTEND;TZID=America/Los_Angeles:20210610T110000
DTSTAMP:20260425T194125
CREATED:20210601T232435Z
LAST-MODIFIED:20210610T135322Z
UID:1620971-1623315600-1623322800@ramayogainstitute.com
SUMMARY:New Moon in Gemini with Guru Jagat
DESCRIPTION:Sign Up \nJoin In Person
URL:https://ramayogainstitute.com/event/new-moon-in-gemini-with-guru-jagat/
LOCATION:Online on RA MA TV
CATEGORIES:Pay Per View Workshops
ATTACH;FMTTYPE=image/jpeg:https://ramayogainstitute.com/wp-content/uploads/2020/12/GuruJagat-3Banner.jpg
END:VEVENT
BEGIN:VEVENT
DTSTART;TZID=America/Los_Angeles:20210610T120000
DTEND;TZID=America/Los_Angeles:20210610T140000
DTSTAMP:20260425T194125
CREATED:20210601T232218Z
LAST-MODIFIED:20210610T135316Z
UID:1620967-1623326400-1623333600@ramayogainstitute.com
SUMMARY:Ring of Fire Eclipse
DESCRIPTION:Sign Up \nJoin In Person
URL:https://ramayogainstitute.com/event/ring-of-fire-eclipse/
LOCATION:Online on RA MA TV
CATEGORIES:Pay Per View Workshops
ATTACH;FMTTYPE=image/jpeg:https://ramayogainstitute.com/wp-content/uploads/2021/05/Harijiwan-Taurus.jpeg
END:VEVENT
BEGIN:VEVENT
DTSTART;TZID=America/Los_Angeles:20210619T180000
DTEND;TZID=America/Los_Angeles:20210619T200000
DTSTAMP:20260425T194125
CREATED:20210614T015412Z
LAST-MODIFIED:20210614T015412Z
UID:1624000-1624125600-1624132800@ramayogainstitute.com
SUMMARY:10th Day of the Moon With Harijiwan
DESCRIPTION:Learn More \n 
URL:https://ramayogainstitute.com/event/10th-day-of-the-moon-with-harijiwan-7/
LOCATION:Online on RA MA TV
CATEGORIES:Pay Per View Workshops
ATTACH;FMTTYPE=image/jpeg:https://ramayogainstitute.com/wp-content/uploads/2021/04/harijiwan-moon-days-calendar-icon.jpg
END:VEVENT
END:VCALENDAR